BEGIN:VCALENDAR
VERSION:2.0
PRODID:-//Uptown Saint John - ECPv6.15.20//NONSGML v1.0//EN
CALSCALE:GREGORIAN
METHOD:PUBLISH
X-WR-CALNAME:Uptown Saint John
X-ORIGINAL-URL:https://uptownsj.com
X-WR-CALDESC:Events for Uptown Saint John
REFRESH-INTERVAL;VALUE=DURATION:PT1H
X-Robots-Tag:noindex
X-PUBLISHED-TTL:PT1H
BEGIN:VTIMEZONE
TZID:America/Halifax
BEGIN:DAYLIGHT
TZOFFSETFROM:-0400
TZOFFSETTO:-0300
TZNAME:ADT
DTSTART:20250309T060000
END:DAYLIGHT
BEGIN:STANDARD
TZOFFSETFROM:-0300
TZOFFSETTO:-0400
TZNAME:AST
DTSTART:20251102T050000
END:STANDARD
BEGIN:DAYLIGHT
TZOFFSETFROM:-0400
TZOFFSETTO:-0300
TZNAME:ADT
DTSTART:20260308T060000
END:DAYLIGHT
BEGIN:STANDARD
TZOFFSETFROM:-0300
TZOFFSETTO:-0400
TZNAME:AST
DTSTART:20261101T050000
END:STANDARD
BEGIN:DAYLIGHT
TZOFFSETFROM:-0400
TZOFFSETTO:-0300
TZNAME:ADT
DTSTART:20270314T060000
END:DAYLIGHT
BEGIN:STANDARD
TZOFFSETFROM:-0300
TZOFFSETTO:-0400
TZNAME:AST
DTSTART:20271107T050000
END:STANDARD
END:VTIMEZONE
BEGIN:VEVENT
DTSTART;TZID=America/Halifax:20260307T193000
DTEND;TZID=America/Halifax:20260307T213000
DTSTAMP:20260420T035819
CREATED:20250617T132940Z
LAST-MODIFIED:20250617T132940Z
UID:10012652-1772911800-1772919000@uptownsj.com
SUMMARY:UPU Collective
DESCRIPTION:We are a collective of Pacific performing artist based in New Zealand. Our mission is to create more opportunities for Pacific performing artists by making contemporary\, Pacific centred works for the stage and screen. Upu Collective artists are not only dedicated collaborators but also accomplished professionals in their own right. Each member boasts a wealth of experience across the stage and screen landscape of New Zealand.Our show UPU is a stunning theatrical experience of Pacific poetry on stage. Its on tour now having been to Mexico and Montréal in 2024.\nUPU means “word” in many of our Pacific languages. \nUPU is our theatre show written by Pacific poets. \nWe’ve taken the works of 28 poets;  from young voices\,\, international activists\, top Literary prize winners\, to Poet Laureates\, major influences in Pacific Literature and put it in the theatre with lights\, sound and actors.
URL:https://uptownsj.com/event/upu-collective/
LOCATION:Imperial Theatre\, 12 King Square S.\, Saint John
CATEGORIES:Art,Cultural Event,Theatre
ATTACH;FMTTYPE=image/png:https://uptownsj.com/wp-content/uploads/2025/06/UPU-Collective.png
END:VEVENT
BEGIN:VEVENT
DTSTART;TZID=America/Halifax:20260324T193000
DTEND;TZID=America/Halifax:20260324T213000
DTSTAMP:20260420T035819
CREATED:20260310T120822Z
LAST-MODIFIED:20260310T120822Z
UID:10029040-1774380600-1774387800@uptownsj.com
SUMMARY:A STREETCAR NAMED DESIRE
DESCRIPTION:On Screen March 24 at the BMO Studio Theatre: Gillian Anderson (Sex Education)\, Vanessa Kirby (The Crown)\, and Ben Foster (Lone Survivor) lead Tennessee Williams’ timeless masterpiece. As Blanche’s world collapses\, she seeks refuge with her sister Stella\, only to clash with the brutal Stanley Kowalski. Directed by Benedict Andrews\, this acclaimed production was filmed live during its sold-out 2014 run at the Young Vic.
URL:https://uptownsj.com/event/a-streetcar-named-desire/
LOCATION:The BMO Studio Theatre\, 112 Princess St\, 112 Princess St\, Saint John\, NB\, E2L 1K4\, Canada
CATEGORIES:Theatre
ATTACH;FMTTYPE=image/jpeg:https://uptownsj.com/wp-content/uploads/2026/03/Streetcar-SP-SQ.jpg
END:VEVENT
END:VCALENDAR