BEGIN:VCALENDAR
VERSION:2.0
PRODID:-//Uptown Saint John - ECPv6.15.20//NONSGML v1.0//EN
CALSCALE:GREGORIAN
METHOD:PUBLISH
X-WR-CALNAME:Uptown Saint John
X-ORIGINAL-URL:https://uptownsj.com
X-WR-CALDESC:Events for Uptown Saint John
REFRESH-INTERVAL;VALUE=DURATION:PT1H
X-Robots-Tag:noindex
X-PUBLISHED-TTL:PT1H
BEGIN:VTIMEZONE
TZID:America/Halifax
BEGIN:DAYLIGHT
TZOFFSETFROM:-0400
TZOFFSETTO:-0300
TZNAME:ADT
DTSTART:20250309T060000
END:DAYLIGHT
BEGIN:STANDARD
TZOFFSETFROM:-0300
TZOFFSETTO:-0400
TZNAME:AST
DTSTART:20251102T050000
END:STANDARD
BEGIN:DAYLIGHT
TZOFFSETFROM:-0400
TZOFFSETTO:-0300
TZNAME:ADT
DTSTART:20260308T060000
END:DAYLIGHT
BEGIN:STANDARD
TZOFFSETFROM:-0300
TZOFFSETTO:-0400
TZNAME:AST
DTSTART:20261101T050000
END:STANDARD
BEGIN:DAYLIGHT
TZOFFSETFROM:-0400
TZOFFSETTO:-0300
TZNAME:ADT
DTSTART:20270314T060000
END:DAYLIGHT
BEGIN:STANDARD
TZOFFSETFROM:-0300
TZOFFSETTO:-0400
TZNAME:AST
DTSTART:20271107T050000
END:STANDARD
END:VTIMEZONE
BEGIN:VEVENT
DTSTART;TZID=America/Halifax:20260206T193000
DTEND;TZID=America/Halifax:20260206T220000
DTSTAMP:20260420T071207
CREATED:20250617T133838Z
LAST-MODIFIED:20250617T133838Z
UID:10012639-1770406200-1770415200@uptownsj.com
SUMMARY:A Perfectly Reasonable Night of Comedy
DESCRIPTION:Step out of the house for an unforgettable evening with Peter Oldring and Pat Kelly (CBC Radio’s This is That) as they reunite with Carolyn Taylor (Baroness von Sketch Show). These comedy powerhouses come together for the first time since their early days at The Second City to deliver a delightfully absurd and wildly entertaining variety show. Presenting a little bit of what made This is That and Baroness von Sketch so\nspecial\, your algorithm has no business being in the theatre during this evening when these seasoned comedians launch into their exceedingly reasonable evening of comedy. Don’t miss this rare and hysterical reunion.
URL:https://uptownsj.com/event/a-perfectly-reasonable-night-of-comedy/
LOCATION:Imperial Theatre\, 12 King Square S.\, Saint John
CATEGORIES:Comedy,Theatre
ATTACH;FMTTYPE=image/png:https://uptownsj.com/wp-content/uploads/2025/06/A-Perfectly-reasonable-Night-1024x576-1.png
END:VEVENT
BEGIN:VEVENT
DTSTART;TZID=America/Halifax:20260208T140000
DTEND;TZID=America/Halifax:20260208T160000
DTSTAMP:20260420T071207
CREATED:20250617T133724Z
LAST-MODIFIED:20250617T133724Z
UID:10012642-1770559200-1770566400@uptownsj.com
SUMMARY:Doktor Kaboom: Under Pressure!
DESCRIPTION:$25 Youth | $40 Adult | Ask about our Family price \nCommissioned by the Kennedy Center \nBe amazed by the power of pressure – and what it can teach us. \nEqual parts interactive science\, comedy\, and personal empowerment messages\, Doktor Kaboom returns with a new show. Doktor Kaboom: Under Pressure! illustrates physical science concepts\, which are also metaphors for real-life mental and emotional pressures. \nPraised for keeping crowds riveted with interest and rolling with laughter\, Doktor Kaboom is also known for empowering volunteers from the audience to be the heroes of the moment. In Under Pressure!\, Kaboom validates the pressures some students may feel\, and shares tools and life lessons as resources for dealing with the difficulties that face us all. \n“I’ve seen many shows at The Kennedy Center’s Family Theater\, and this was the best one!” – Broadwayworld.com \n“a fantastic experience\, with educational content presented in a hilarious and exciting format” – DC Theater Arts
URL:https://uptownsj.com/event/doktor-kaboom-under-pressure/
LOCATION:Imperial Theatre\, 12 King Square S.\, Saint John
CATEGORIES:Community,Theatre
ATTACH;FMTTYPE=image/jpeg:https://uptownsj.com/wp-content/uploads/2025/06/Doktor-Kaboom.jpg
END:VEVENT
BEGIN:VEVENT
DTSTART;TZID=America/Halifax:20260218T193000
DTEND;TZID=America/Halifax:20260218T213000
DTSTAMP:20260420T071207
CREATED:20251204T183637Z
LAST-MODIFIED:20251204T183637Z
UID:10016002-1771443000-1771450200@uptownsj.com
SUMMARY:ART
DESCRIPTION:ART\nWritten by Yasmina Reza\nTranslated by Christopher Hampton\nFebruary 18-21\, 2026 | 7:30 PM | BMO Studio Theatre\, 112 Princess St.\nDirected by Dean Turner\n\nWhat happens when one man buys a very expensive… completely white painting?\nAccording to his two best friends\, disaster.\nLines are drawn\, loyalties crack\, and a simple piece of modern art sparks a hilarious battle of taste\, pride\, and ego.\nDon’t miss ART – Yasmina Reza’s smart\, razor-sharp comedy and winner of the Tony and Olivier Awards for Best Play.\nBecause sometimes\, friendship isn’t black and white at all.\nTickets $35. To order\, visit www.saintjohntheatrecompany.com or call 506-652-7582
URL:https://uptownsj.com/event/art/2026-02-18/
LOCATION:The BMO Studio Theatre\, 112 Princess St\, 112 Princess St\, Saint John\, NB\, E2L 1K4\, Canada
CATEGORIES:Theatre
ATTACH;FMTTYPE=image/jpeg:https://uptownsj.com/wp-content/uploads/2025/12/ARTSP-Sq.jpg
ORGANIZER;CN="Saint John Theatre Company":MAILTO:lise.driscoll@saintjohntheatrecompany.com
END:VEVENT
BEGIN:VEVENT
DTSTART;TZID=America/Halifax:20260219T193000
DTEND;TZID=America/Halifax:20260219T213000
DTSTAMP:20260420T071207
CREATED:20251204T183637Z
LAST-MODIFIED:20251204T183637Z
UID:10016003-1771529400-1771536600@uptownsj.com
SUMMARY:ART
DESCRIPTION:ART\nWritten by Yasmina Reza\nTranslated by Christopher Hampton\nFebruary 18-21\, 2026 | 7:30 PM | BMO Studio Theatre\, 112 Princess St.\nDirected by Dean Turner\n\nWhat happens when one man buys a very expensive… completely white painting?\nAccording to his two best friends\, disaster.\nLines are drawn\, loyalties crack\, and a simple piece of modern art sparks a hilarious battle of taste\, pride\, and ego.\nDon’t miss ART – Yasmina Reza’s smart\, razor-sharp comedy and winner of the Tony and Olivier Awards for Best Play.\nBecause sometimes\, friendship isn’t black and white at all.\nTickets $35. To order\, visit www.saintjohntheatrecompany.com or call 506-652-7582
URL:https://uptownsj.com/event/art/2026-02-19/
LOCATION:The BMO Studio Theatre\, 112 Princess St\, 112 Princess St\, Saint John\, NB\, E2L 1K4\, Canada
CATEGORIES:Theatre
ATTACH;FMTTYPE=image/jpeg:https://uptownsj.com/wp-content/uploads/2025/12/ARTSP-Sq.jpg
ORGANIZER;CN="Saint John Theatre Company":MAILTO:lise.driscoll@saintjohntheatrecompany.com
END:VEVENT
BEGIN:VEVENT
DTSTART;TZID=America/Halifax:20260220T193000
DTEND;TZID=America/Halifax:20260220T213000
DTSTAMP:20260420T071207
CREATED:20251204T183637Z
LAST-MODIFIED:20251204T183637Z
UID:10016004-1771615800-1771623000@uptownsj.com
SUMMARY:ART
DESCRIPTION:ART\nWritten by Yasmina Reza\nTranslated by Christopher Hampton\nFebruary 18-21\, 2026 | 7:30 PM | BMO Studio Theatre\, 112 Princess St.\nDirected by Dean Turner\n\nWhat happens when one man buys a very expensive… completely white painting?\nAccording to his two best friends\, disaster.\nLines are drawn\, loyalties crack\, and a simple piece of modern art sparks a hilarious battle of taste\, pride\, and ego.\nDon’t miss ART – Yasmina Reza’s smart\, razor-sharp comedy and winner of the Tony and Olivier Awards for Best Play.\nBecause sometimes\, friendship isn’t black and white at all.\nTickets $35. To order\, visit www.saintjohntheatrecompany.com or call 506-652-7582
URL:https://uptownsj.com/event/art/2026-02-20/
LOCATION:The BMO Studio Theatre\, 112 Princess St\, 112 Princess St\, Saint John\, NB\, E2L 1K4\, Canada
CATEGORIES:Theatre
ATTACH;FMTTYPE=image/jpeg:https://uptownsj.com/wp-content/uploads/2025/12/ARTSP-Sq.jpg
ORGANIZER;CN="Saint John Theatre Company":MAILTO:lise.driscoll@saintjohntheatrecompany.com
END:VEVENT
BEGIN:VEVENT
DTSTART;TZID=America/Halifax:20260221T193000
DTEND;TZID=America/Halifax:20260221T213000
DTSTAMP:20260420T071207
CREATED:20251204T183637Z
LAST-MODIFIED:20251204T183637Z
UID:10016005-1771702200-1771709400@uptownsj.com
SUMMARY:ART
DESCRIPTION:ART\nWritten by Yasmina Reza\nTranslated by Christopher Hampton\nFebruary 18-21\, 2026 | 7:30 PM | BMO Studio Theatre\, 112 Princess St.\nDirected by Dean Turner\n\nWhat happens when one man buys a very expensive… completely white painting?\nAccording to his two best friends\, disaster.\nLines are drawn\, loyalties crack\, and a simple piece of modern art sparks a hilarious battle of taste\, pride\, and ego.\nDon’t miss ART – Yasmina Reza’s smart\, razor-sharp comedy and winner of the Tony and Olivier Awards for Best Play.\nBecause sometimes\, friendship isn’t black and white at all.\nTickets $35. To order\, visit www.saintjohntheatrecompany.com or call 506-652-7582
URL:https://uptownsj.com/event/art/2026-02-21/
LOCATION:The BMO Studio Theatre\, 112 Princess St\, 112 Princess St\, Saint John\, NB\, E2L 1K4\, Canada
CATEGORIES:Theatre
ATTACH;FMTTYPE=image/jpeg:https://uptownsj.com/wp-content/uploads/2025/12/ARTSP-Sq.jpg
ORGANIZER;CN="Saint John Theatre Company":MAILTO:lise.driscoll@saintjohntheatrecompany.com
END:VEVENT
BEGIN:VEVENT
DTSTART;TZID=America/Halifax:20260228T200000
DTEND;TZID=America/Halifax:20260228T223000
DTSTAMP:20260420T071207
CREATED:20251201T142046Z
LAST-MODIFIED:20251201T142046Z
UID:10015992-1772308800-1772317800@uptownsj.com
SUMMARY:Reveen  The  Impossiblist  Saint John Trade And Convention Centre
DESCRIPTION:Get Ready  For  The Return Of Reveen  The Impossiblist! \nThe Greatest Family  Entertainment  Show In The History Of Canadian Theatre. Has Performed To Over 6 Million People Worldwide \nONE NIGHT ONLY!  Saturday Feb 28\,2026  SAINT JOHN TRADE AND CONVENTION CENTRE  Doors Open 7pm Concert 8pm \nComfy Seats\, Full Bar Service\,  Lots Of Parking!  ALL AGES! \n  \nTICKETS NOW ON SALE  WWW.TDSTATION.COM \n45.00 General Seating \n70.00  VIP  Seating  Reserved  FRONT ROW  ( Autograph  Pic)
URL:https://uptownsj.com/event/reveen-the-impossiblist-saint-john-trade-and-convention-centre/
LOCATION:Trade and Convention Centre\, 1 Market Square\, Saint John
CATEGORIES:Theatre
ATTACH;FMTTYPE=image/jpeg:https://uptownsj.com/wp-content/uploads/2025/11/reveen-3-scaled.jpg
END:VEVENT
END:VCALENDAR