BEGIN:VCALENDAR
VERSION:2.0
PRODID:-//Uptown Saint John - ECPv6.15.20//NONSGML v1.0//EN
CALSCALE:GREGORIAN
METHOD:PUBLISH
X-ORIGINAL-URL:https://uptownsj.com
X-WR-CALDESC:Events for Uptown Saint John
REFRESH-INTERVAL;VALUE=DURATION:PT1H
X-Robots-Tag:noindex
X-PUBLISHED-TTL:PT1H
BEGIN:VTIMEZONE
TZID:America/Halifax
BEGIN:DAYLIGHT
TZOFFSETFROM:-0400
TZOFFSETTO:-0300
TZNAME:ADT
DTSTART:20290311T060000
END:DAYLIGHT
BEGIN:STANDARD
TZOFFSETFROM:-0300
TZOFFSETTO:-0400
TZNAME:AST
DTSTART:20291104T050000
END:STANDARD
BEGIN:DAYLIGHT
TZOFFSETFROM:-0400
TZOFFSETTO:-0300
TZNAME:ADT
DTSTART:20300310T060000
END:DAYLIGHT
BEGIN:STANDARD
TZOFFSETFROM:-0300
TZOFFSETTO:-0400
TZNAME:AST
DTSTART:20301103T050000
END:STANDARD
BEGIN:DAYLIGHT
TZOFFSETFROM:-0400
TZOFFSETTO:-0300
TZNAME:ADT
DTSTART:20310309T060000
END:DAYLIGHT
BEGIN:STANDARD
TZOFFSETFROM:-0300
TZOFFSETTO:-0400
TZNAME:AST
DTSTART:20311102T050000
END:STANDARD
BEGIN:DAYLIGHT
TZOFFSETFROM:-0400
TZOFFSETTO:-0300
TZNAME:ADT
DTSTART:20320314T060000
END:DAYLIGHT
BEGIN:STANDARD
TZOFFSETFROM:-0300
TZOFFSETTO:-0400
TZNAME:AST
DTSTART:20321107T050000
END:STANDARD
END:VTIMEZONE
BEGIN:VEVENT
DTSTART;TZID=America/Halifax:20300802T163000
DTEND;TZID=America/Halifax:20300802T183000
DTSTAMP:20260420T035824
CREATED:20260105T130337Z
LAST-MODIFIED:20260105T175603Z
UID:10017003-1911918600-1911925800@uptownsj.com
SUMMARY:MIX Live Music and Cocktails Friday
DESCRIPTION:A vibrant Friday night gathering featuring live performances from talented local musicians paired with an exclusive cocktail and bites menu\, designed to elevate the weekend experience. This event will celebrate community\, music\, and hospitality\, while showcasing Saint John’s best local talent in an upscale yet inviting setting. Located at the Mezzanine level of Delta Hotels by Marriott Saint John.
URL:https://uptownsj.com/event/mix-live-music-and-cocktails-friday/2030-08-02/
LOCATION:MIX Resto | Bar\, 39 King Street\, Saint John\, E2L 4W3\, Canada
CATEGORIES:Live Music
ATTACH;FMTTYPE=image/jpeg:https://uptownsj.com/wp-content/uploads/2026/01/MIX.jpg
END:VEVENT
BEGIN:VEVENT
DTSTART;TZID=America/Halifax:20300807T200000
DTEND;TZID=America/Halifax:20300808T000000
DTSTAMP:20260420T035824
CREATED:20250819T121317Z
LAST-MODIFIED:20250819T121317Z
UID:10014108-1912363200-1912377600@uptownsj.com
SUMMARY:Open Mic Night at O’Leary’s Pub
DESCRIPTION:Join us at O’Leary’s Pub for Open Mic Night\, hosted by Brent Mason and Aaron Gunn\, at Saint John’s oldest Irish pub! Whether you’re performing or just enjoying the local talent\, spend the evening immersed in music\, stories\, and East Coast charm. \nThis weekly tradition has been bringing local artists together since 1992\, promising surprises\, laughs\, and unforgettable performances. Grab a pint\, soak in the atmosphere\, and celebrate Saint John’s vibrant creative community.
URL:https://uptownsj.com/event/open-mic-night-at-olearys-pub-2/2030-08-07/
LOCATION:O’Leary’s Pub\, 46 Princess Street\, Saint John\, E2L 1K2
CATEGORIES:Live Music
ATTACH;FMTTYPE=image/png:https://uptownsj.com/wp-content/uploads/2025/08/Open-Mic-Night.png
ORGANIZER;CN="O'Leary's Pub":MAILTO:olearyspub@gmail.com
END:VEVENT
BEGIN:VEVENT
DTSTART;TZID=America/Halifax:20300808T210000
DTEND;TZID=America/Halifax:20300809T000000
DTSTAMP:20260420T035824
CREATED:20250819T121248Z
LAST-MODIFIED:20250819T121248Z
UID:10014368-1912453200-1912464000@uptownsj.com
SUMMARY:Sarahtonein at O’Leary’s Pub
DESCRIPTION:Thursdays just got a whole lot better! Sarahtonein is taking the stage with raw vocals and infectious energy\, serving up a night full of music\, laughs\, and East Coast charm. Come for the tunes\, stay for the good times—and don’t forget your pint! \n19+ | No cover charge
URL:https://uptownsj.com/event/sarahtonein-at-olearys-pub/2030-08-08/
LOCATION:O’Leary’s Pub\, 46 Princess Street\, Saint John\, E2L 1K2
CATEGORIES:Live Music
ATTACH;FMTTYPE=image/png:https://uptownsj.com/wp-content/uploads/2025/08/Thursday-Sarahtonein.png
ORGANIZER;CN="O'Leary's Pub":MAILTO:olearyspub@gmail.com
END:VEVENT
BEGIN:VEVENT
DTSTART;TZID=America/Halifax:20300809T163000
DTEND;TZID=America/Halifax:20300809T183000
DTSTAMP:20260420T035824
CREATED:20260105T130337Z
LAST-MODIFIED:20260105T175603Z
UID:10017004-1912523400-1912530600@uptownsj.com
SUMMARY:MIX Live Music and Cocktails Friday
DESCRIPTION:A vibrant Friday night gathering featuring live performances from talented local musicians paired with an exclusive cocktail and bites menu\, designed to elevate the weekend experience. This event will celebrate community\, music\, and hospitality\, while showcasing Saint John’s best local talent in an upscale yet inviting setting. Located at the Mezzanine level of Delta Hotels by Marriott Saint John.
URL:https://uptownsj.com/event/mix-live-music-and-cocktails-friday/2030-08-09/
LOCATION:MIX Resto | Bar\, 39 King Street\, Saint John\, E2L 4W3\, Canada
CATEGORIES:Live Music
ATTACH;FMTTYPE=image/jpeg:https://uptownsj.com/wp-content/uploads/2026/01/MIX.jpg
END:VEVENT
BEGIN:VEVENT
DTSTART;TZID=America/Halifax:20300814T200000
DTEND;TZID=America/Halifax:20300815T000000
DTSTAMP:20260420T035824
CREATED:20250819T121317Z
LAST-MODIFIED:20250819T121317Z
UID:10014109-1912968000-1912982400@uptownsj.com
SUMMARY:Open Mic Night at O’Leary’s Pub
DESCRIPTION:Join us at O’Leary’s Pub for Open Mic Night\, hosted by Brent Mason and Aaron Gunn\, at Saint John’s oldest Irish pub! Whether you’re performing or just enjoying the local talent\, spend the evening immersed in music\, stories\, and East Coast charm. \nThis weekly tradition has been bringing local artists together since 1992\, promising surprises\, laughs\, and unforgettable performances. Grab a pint\, soak in the atmosphere\, and celebrate Saint John’s vibrant creative community.
URL:https://uptownsj.com/event/open-mic-night-at-olearys-pub-2/2030-08-14/
LOCATION:O’Leary’s Pub\, 46 Princess Street\, Saint John\, E2L 1K2
CATEGORIES:Live Music
ATTACH;FMTTYPE=image/png:https://uptownsj.com/wp-content/uploads/2025/08/Open-Mic-Night.png
ORGANIZER;CN="O'Leary's Pub":MAILTO:olearyspub@gmail.com
END:VEVENT
BEGIN:VEVENT
DTSTART;TZID=America/Halifax:20300815T210000
DTEND;TZID=America/Halifax:20300816T000000
DTSTAMP:20260420T035824
CREATED:20250819T121248Z
LAST-MODIFIED:20250819T121248Z
UID:10014369-1913058000-1913068800@uptownsj.com
SUMMARY:Sarahtonein at O’Leary’s Pub
DESCRIPTION:Thursdays just got a whole lot better! Sarahtonein is taking the stage with raw vocals and infectious energy\, serving up a night full of music\, laughs\, and East Coast charm. Come for the tunes\, stay for the good times—and don’t forget your pint! \n19+ | No cover charge
URL:https://uptownsj.com/event/sarahtonein-at-olearys-pub/2030-08-15/
LOCATION:O’Leary’s Pub\, 46 Princess Street\, Saint John\, E2L 1K2
CATEGORIES:Live Music
ATTACH;FMTTYPE=image/png:https://uptownsj.com/wp-content/uploads/2025/08/Thursday-Sarahtonein.png
ORGANIZER;CN="O'Leary's Pub":MAILTO:olearyspub@gmail.com
END:VEVENT
BEGIN:VEVENT
DTSTART;TZID=America/Halifax:20300816T163000
DTEND;TZID=America/Halifax:20300816T183000
DTSTAMP:20260420T035824
CREATED:20260105T130337Z
LAST-MODIFIED:20260105T175603Z
UID:10017005-1913128200-1913135400@uptownsj.com
SUMMARY:MIX Live Music and Cocktails Friday
DESCRIPTION:A vibrant Friday night gathering featuring live performances from talented local musicians paired with an exclusive cocktail and bites menu\, designed to elevate the weekend experience. This event will celebrate community\, music\, and hospitality\, while showcasing Saint John’s best local talent in an upscale yet inviting setting. Located at the Mezzanine level of Delta Hotels by Marriott Saint John.
URL:https://uptownsj.com/event/mix-live-music-and-cocktails-friday/2030-08-16/
LOCATION:MIX Resto | Bar\, 39 King Street\, Saint John\, E2L 4W3\, Canada
CATEGORIES:Live Music
ATTACH;FMTTYPE=image/jpeg:https://uptownsj.com/wp-content/uploads/2026/01/MIX.jpg
END:VEVENT
BEGIN:VEVENT
DTSTART;TZID=America/Halifax:20300823T163000
DTEND;TZID=America/Halifax:20300823T183000
DTSTAMP:20260420T035824
CREATED:20260105T130337Z
LAST-MODIFIED:20260105T175603Z
UID:10017006-1913733000-1913740200@uptownsj.com
SUMMARY:MIX Live Music and Cocktails Friday
DESCRIPTION:A vibrant Friday night gathering featuring live performances from talented local musicians paired with an exclusive cocktail and bites menu\, designed to elevate the weekend experience. This event will celebrate community\, music\, and hospitality\, while showcasing Saint John’s best local talent in an upscale yet inviting setting. Located at the Mezzanine level of Delta Hotels by Marriott Saint John.
URL:https://uptownsj.com/event/mix-live-music-and-cocktails-friday/2030-08-23/
LOCATION:MIX Resto | Bar\, 39 King Street\, Saint John\, E2L 4W3\, Canada
CATEGORIES:Live Music
ATTACH;FMTTYPE=image/jpeg:https://uptownsj.com/wp-content/uploads/2026/01/MIX.jpg
END:VEVENT
BEGIN:VEVENT
DTSTART;TZID=America/Halifax:20300830T163000
DTEND;TZID=America/Halifax:20300830T183000
DTSTAMP:20260420T035824
CREATED:20260105T130337Z
LAST-MODIFIED:20260105T175603Z
UID:10017007-1914337800-1914345000@uptownsj.com
SUMMARY:MIX Live Music and Cocktails Friday
DESCRIPTION:A vibrant Friday night gathering featuring live performances from talented local musicians paired with an exclusive cocktail and bites menu\, designed to elevate the weekend experience. This event will celebrate community\, music\, and hospitality\, while showcasing Saint John’s best local talent in an upscale yet inviting setting. Located at the Mezzanine level of Delta Hotels by Marriott Saint John.
URL:https://uptownsj.com/event/mix-live-music-and-cocktails-friday/2030-08-30/
LOCATION:MIX Resto | Bar\, 39 King Street\, Saint John\, E2L 4W3\, Canada
CATEGORIES:Live Music
ATTACH;FMTTYPE=image/jpeg:https://uptownsj.com/wp-content/uploads/2026/01/MIX.jpg
END:VEVENT
BEGIN:VEVENT
DTSTART;TZID=America/Halifax:20300906T163000
DTEND;TZID=America/Halifax:20300906T183000
DTSTAMP:20260420T035824
CREATED:20260105T130337Z
LAST-MODIFIED:20260105T175603Z
UID:10017008-1914942600-1914949800@uptownsj.com
SUMMARY:MIX Live Music and Cocktails Friday
DESCRIPTION:A vibrant Friday night gathering featuring live performances from talented local musicians paired with an exclusive cocktail and bites menu\, designed to elevate the weekend experience. This event will celebrate community\, music\, and hospitality\, while showcasing Saint John’s best local talent in an upscale yet inviting setting. Located at the Mezzanine level of Delta Hotels by Marriott Saint John.
URL:https://uptownsj.com/event/mix-live-music-and-cocktails-friday/2030-09-06/
LOCATION:MIX Resto | Bar\, 39 King Street\, Saint John\, E2L 4W3\, Canada
CATEGORIES:Live Music
ATTACH;FMTTYPE=image/jpeg:https://uptownsj.com/wp-content/uploads/2026/01/MIX.jpg
END:VEVENT
BEGIN:VEVENT
DTSTART;TZID=America/Halifax:20300913T163000
DTEND;TZID=America/Halifax:20300913T183000
DTSTAMP:20260420T035824
CREATED:20260105T130337Z
LAST-MODIFIED:20260105T175603Z
UID:10017009-1915547400-1915554600@uptownsj.com
SUMMARY:MIX Live Music and Cocktails Friday
DESCRIPTION:A vibrant Friday night gathering featuring live performances from talented local musicians paired with an exclusive cocktail and bites menu\, designed to elevate the weekend experience. This event will celebrate community\, music\, and hospitality\, while showcasing Saint John’s best local talent in an upscale yet inviting setting. Located at the Mezzanine level of Delta Hotels by Marriott Saint John.
URL:https://uptownsj.com/event/mix-live-music-and-cocktails-friday/2030-09-13/
LOCATION:MIX Resto | Bar\, 39 King Street\, Saint John\, E2L 4W3\, Canada
CATEGORIES:Live Music
ATTACH;FMTTYPE=image/jpeg:https://uptownsj.com/wp-content/uploads/2026/01/MIX.jpg
END:VEVENT
BEGIN:VEVENT
DTSTART;TZID=America/Halifax:20300920T163000
DTEND;TZID=America/Halifax:20300920T183000
DTSTAMP:20260420T035824
CREATED:20260105T130337Z
LAST-MODIFIED:20260105T175603Z
UID:10017010-1916152200-1916159400@uptownsj.com
SUMMARY:MIX Live Music and Cocktails Friday
DESCRIPTION:A vibrant Friday night gathering featuring live performances from talented local musicians paired with an exclusive cocktail and bites menu\, designed to elevate the weekend experience. This event will celebrate community\, music\, and hospitality\, while showcasing Saint John’s best local talent in an upscale yet inviting setting. Located at the Mezzanine level of Delta Hotels by Marriott Saint John.
URL:https://uptownsj.com/event/mix-live-music-and-cocktails-friday/2030-09-20/
LOCATION:MIX Resto | Bar\, 39 King Street\, Saint John\, E2L 4W3\, Canada
CATEGORIES:Live Music
ATTACH;FMTTYPE=image/jpeg:https://uptownsj.com/wp-content/uploads/2026/01/MIX.jpg
END:VEVENT
BEGIN:VEVENT
DTSTART;TZID=America/Halifax:20300927T163000
DTEND;TZID=America/Halifax:20300927T183000
DTSTAMP:20260420T035824
CREATED:20260105T130337Z
LAST-MODIFIED:20260105T175603Z
UID:10017011-1916757000-1916764200@uptownsj.com
SUMMARY:MIX Live Music and Cocktails Friday
DESCRIPTION:A vibrant Friday night gathering featuring live performances from talented local musicians paired with an exclusive cocktail and bites menu\, designed to elevate the weekend experience. This event will celebrate community\, music\, and hospitality\, while showcasing Saint John’s best local talent in an upscale yet inviting setting. Located at the Mezzanine level of Delta Hotels by Marriott Saint John.
URL:https://uptownsj.com/event/mix-live-music-and-cocktails-friday/2030-09-27/
LOCATION:MIX Resto | Bar\, 39 King Street\, Saint John\, E2L 4W3\, Canada
CATEGORIES:Live Music
ATTACH;FMTTYPE=image/jpeg:https://uptownsj.com/wp-content/uploads/2026/01/MIX.jpg
END:VEVENT
BEGIN:VEVENT
DTSTART;TZID=America/Halifax:20301004T163000
DTEND;TZID=America/Halifax:20301004T183000
DTSTAMP:20260420T035824
CREATED:20260105T130337Z
LAST-MODIFIED:20260105T175603Z
UID:10017012-1917361800-1917369000@uptownsj.com
SUMMARY:MIX Live Music and Cocktails Friday
DESCRIPTION:A vibrant Friday night gathering featuring live performances from talented local musicians paired with an exclusive cocktail and bites menu\, designed to elevate the weekend experience. This event will celebrate community\, music\, and hospitality\, while showcasing Saint John’s best local talent in an upscale yet inviting setting. Located at the Mezzanine level of Delta Hotels by Marriott Saint John.
URL:https://uptownsj.com/event/mix-live-music-and-cocktails-friday/2030-10-04/
LOCATION:MIX Resto | Bar\, 39 King Street\, Saint John\, E2L 4W3\, Canada
CATEGORIES:Live Music
ATTACH;FMTTYPE=image/jpeg:https://uptownsj.com/wp-content/uploads/2026/01/MIX.jpg
END:VEVENT
BEGIN:VEVENT
DTSTART;TZID=America/Halifax:20301011T163000
DTEND;TZID=America/Halifax:20301011T183000
DTSTAMP:20260420T035824
CREATED:20260105T130337Z
LAST-MODIFIED:20260105T175603Z
UID:10017013-1917966600-1917973800@uptownsj.com
SUMMARY:MIX Live Music and Cocktails Friday
DESCRIPTION:A vibrant Friday night gathering featuring live performances from talented local musicians paired with an exclusive cocktail and bites menu\, designed to elevate the weekend experience. This event will celebrate community\, music\, and hospitality\, while showcasing Saint John’s best local talent in an upscale yet inviting setting. Located at the Mezzanine level of Delta Hotels by Marriott Saint John.
URL:https://uptownsj.com/event/mix-live-music-and-cocktails-friday/2030-10-11/
LOCATION:MIX Resto | Bar\, 39 King Street\, Saint John\, E2L 4W3\, Canada
CATEGORIES:Live Music
ATTACH;FMTTYPE=image/jpeg:https://uptownsj.com/wp-content/uploads/2026/01/MIX.jpg
END:VEVENT
BEGIN:VEVENT
DTSTART;TZID=America/Halifax:20301018T163000
DTEND;TZID=America/Halifax:20301018T183000
DTSTAMP:20260420T035824
CREATED:20260105T130337Z
LAST-MODIFIED:20260105T175603Z
UID:10017014-1918571400-1918578600@uptownsj.com
SUMMARY:MIX Live Music and Cocktails Friday
DESCRIPTION:A vibrant Friday night gathering featuring live performances from talented local musicians paired with an exclusive cocktail and bites menu\, designed to elevate the weekend experience. This event will celebrate community\, music\, and hospitality\, while showcasing Saint John’s best local talent in an upscale yet inviting setting. Located at the Mezzanine level of Delta Hotels by Marriott Saint John.
URL:https://uptownsj.com/event/mix-live-music-and-cocktails-friday/2030-10-18/
LOCATION:MIX Resto | Bar\, 39 King Street\, Saint John\, E2L 4W3\, Canada
CATEGORIES:Live Music
ATTACH;FMTTYPE=image/jpeg:https://uptownsj.com/wp-content/uploads/2026/01/MIX.jpg
END:VEVENT
BEGIN:VEVENT
DTSTART;TZID=America/Halifax:20301025T163000
DTEND;TZID=America/Halifax:20301025T183000
DTSTAMP:20260420T035824
CREATED:20260105T130337Z
LAST-MODIFIED:20260105T175603Z
UID:10017015-1919176200-1919183400@uptownsj.com
SUMMARY:MIX Live Music and Cocktails Friday
DESCRIPTION:A vibrant Friday night gathering featuring live performances from talented local musicians paired with an exclusive cocktail and bites menu\, designed to elevate the weekend experience. This event will celebrate community\, music\, and hospitality\, while showcasing Saint John’s best local talent in an upscale yet inviting setting. Located at the Mezzanine level of Delta Hotels by Marriott Saint John.
URL:https://uptownsj.com/event/mix-live-music-and-cocktails-friday/2030-10-25/
LOCATION:MIX Resto | Bar\, 39 King Street\, Saint John\, E2L 4W3\, Canada
CATEGORIES:Live Music
ATTACH;FMTTYPE=image/jpeg:https://uptownsj.com/wp-content/uploads/2026/01/MIX.jpg
END:VEVENT
BEGIN:VEVENT
DTSTART;TZID=America/Halifax:20301101T163000
DTEND;TZID=America/Halifax:20301101T183000
DTSTAMP:20260420T035824
CREATED:20260105T130337Z
LAST-MODIFIED:20260105T175603Z
UID:10017016-1919781000-1919788200@uptownsj.com
SUMMARY:MIX Live Music and Cocktails Friday
DESCRIPTION:A vibrant Friday night gathering featuring live performances from talented local musicians paired with an exclusive cocktail and bites menu\, designed to elevate the weekend experience. This event will celebrate community\, music\, and hospitality\, while showcasing Saint John’s best local talent in an upscale yet inviting setting. Located at the Mezzanine level of Delta Hotels by Marriott Saint John.
URL:https://uptownsj.com/event/mix-live-music-and-cocktails-friday/2030-11-01/
LOCATION:MIX Resto | Bar\, 39 King Street\, Saint John\, E2L 4W3\, Canada
CATEGORIES:Live Music
ATTACH;FMTTYPE=image/jpeg:https://uptownsj.com/wp-content/uploads/2026/01/MIX.jpg
END:VEVENT
BEGIN:VEVENT
DTSTART;TZID=America/Halifax:20301108T163000
DTEND;TZID=America/Halifax:20301108T183000
DTSTAMP:20260420T035824
CREATED:20260105T130337Z
LAST-MODIFIED:20260105T175603Z
UID:10017017-1920385800-1920393000@uptownsj.com
SUMMARY:MIX Live Music and Cocktails Friday
DESCRIPTION:A vibrant Friday night gathering featuring live performances from talented local musicians paired with an exclusive cocktail and bites menu\, designed to elevate the weekend experience. This event will celebrate community\, music\, and hospitality\, while showcasing Saint John’s best local talent in an upscale yet inviting setting. Located at the Mezzanine level of Delta Hotels by Marriott Saint John.
URL:https://uptownsj.com/event/mix-live-music-and-cocktails-friday/2030-11-08/
LOCATION:MIX Resto | Bar\, 39 King Street\, Saint John\, E2L 4W3\, Canada
CATEGORIES:Live Music
ATTACH;FMTTYPE=image/jpeg:https://uptownsj.com/wp-content/uploads/2026/01/MIX.jpg
END:VEVENT
BEGIN:VEVENT
DTSTART;TZID=America/Halifax:20301115T163000
DTEND;TZID=America/Halifax:20301115T183000
DTSTAMP:20260420T035824
CREATED:20260105T130337Z
LAST-MODIFIED:20260105T175603Z
UID:10017018-1920990600-1920997800@uptownsj.com
SUMMARY:MIX Live Music and Cocktails Friday
DESCRIPTION:A vibrant Friday night gathering featuring live performances from talented local musicians paired with an exclusive cocktail and bites menu\, designed to elevate the weekend experience. This event will celebrate community\, music\, and hospitality\, while showcasing Saint John’s best local talent in an upscale yet inviting setting. Located at the Mezzanine level of Delta Hotels by Marriott Saint John.
URL:https://uptownsj.com/event/mix-live-music-and-cocktails-friday/2030-11-15/
LOCATION:MIX Resto | Bar\, 39 King Street\, Saint John\, E2L 4W3\, Canada
CATEGORIES:Live Music
ATTACH;FMTTYPE=image/jpeg:https://uptownsj.com/wp-content/uploads/2026/01/MIX.jpg
END:VEVENT
BEGIN:VEVENT
DTSTART;TZID=America/Halifax:20301122T163000
DTEND;TZID=America/Halifax:20301122T183000
DTSTAMP:20260420T035824
CREATED:20260105T130337Z
LAST-MODIFIED:20260105T175603Z
UID:10017019-1921595400-1921602600@uptownsj.com
SUMMARY:MIX Live Music and Cocktails Friday
DESCRIPTION:A vibrant Friday night gathering featuring live performances from talented local musicians paired with an exclusive cocktail and bites menu\, designed to elevate the weekend experience. This event will celebrate community\, music\, and hospitality\, while showcasing Saint John’s best local talent in an upscale yet inviting setting. Located at the Mezzanine level of Delta Hotels by Marriott Saint John.
URL:https://uptownsj.com/event/mix-live-music-and-cocktails-friday/2030-11-22/
LOCATION:MIX Resto | Bar\, 39 King Street\, Saint John\, E2L 4W3\, Canada
CATEGORIES:Live Music
ATTACH;FMTTYPE=image/jpeg:https://uptownsj.com/wp-content/uploads/2026/01/MIX.jpg
END:VEVENT
BEGIN:VEVENT
DTSTART;TZID=America/Halifax:20301129T163000
DTEND;TZID=America/Halifax:20301129T183000
DTSTAMP:20260420T035824
CREATED:20260105T130337Z
LAST-MODIFIED:20260105T175603Z
UID:10017020-1922200200-1922207400@uptownsj.com
SUMMARY:MIX Live Music and Cocktails Friday
DESCRIPTION:A vibrant Friday night gathering featuring live performances from talented local musicians paired with an exclusive cocktail and bites menu\, designed to elevate the weekend experience. This event will celebrate community\, music\, and hospitality\, while showcasing Saint John’s best local talent in an upscale yet inviting setting. Located at the Mezzanine level of Delta Hotels by Marriott Saint John.
URL:https://uptownsj.com/event/mix-live-music-and-cocktails-friday/2030-11-29/
LOCATION:MIX Resto | Bar\, 39 King Street\, Saint John\, E2L 4W3\, Canada
CATEGORIES:Live Music
ATTACH;FMTTYPE=image/jpeg:https://uptownsj.com/wp-content/uploads/2026/01/MIX.jpg
END:VEVENT
BEGIN:VEVENT
DTSTART;TZID=America/Halifax:20301206T163000
DTEND;TZID=America/Halifax:20301206T183000
DTSTAMP:20260420T035824
CREATED:20260105T130337Z
LAST-MODIFIED:20260105T175603Z
UID:10017021-1922805000-1922812200@uptownsj.com
SUMMARY:MIX Live Music and Cocktails Friday
DESCRIPTION:A vibrant Friday night gathering featuring live performances from talented local musicians paired with an exclusive cocktail and bites menu\, designed to elevate the weekend experience. This event will celebrate community\, music\, and hospitality\, while showcasing Saint John’s best local talent in an upscale yet inviting setting. Located at the Mezzanine level of Delta Hotels by Marriott Saint John.
URL:https://uptownsj.com/event/mix-live-music-and-cocktails-friday/2030-12-06/
LOCATION:MIX Resto | Bar\, 39 King Street\, Saint John\, E2L 4W3\, Canada
CATEGORIES:Live Music
ATTACH;FMTTYPE=image/jpeg:https://uptownsj.com/wp-content/uploads/2026/01/MIX.jpg
END:VEVENT
BEGIN:VEVENT
DTSTART;TZID=America/Halifax:20301213T163000
DTEND;TZID=America/Halifax:20301213T183000
DTSTAMP:20260420T035824
CREATED:20260105T130337Z
LAST-MODIFIED:20260105T175603Z
UID:10017022-1923409800-1923417000@uptownsj.com
SUMMARY:MIX Live Music and Cocktails Friday
DESCRIPTION:A vibrant Friday night gathering featuring live performances from talented local musicians paired with an exclusive cocktail and bites menu\, designed to elevate the weekend experience. This event will celebrate community\, music\, and hospitality\, while showcasing Saint John’s best local talent in an upscale yet inviting setting. Located at the Mezzanine level of Delta Hotels by Marriott Saint John.
URL:https://uptownsj.com/event/mix-live-music-and-cocktails-friday/2030-12-13/
LOCATION:MIX Resto | Bar\, 39 King Street\, Saint John\, E2L 4W3\, Canada
CATEGORIES:Live Music
ATTACH;FMTTYPE=image/jpeg:https://uptownsj.com/wp-content/uploads/2026/01/MIX.jpg
END:VEVENT
BEGIN:VEVENT
DTSTART;TZID=America/Halifax:20301220T163000
DTEND;TZID=America/Halifax:20301220T183000
DTSTAMP:20260420T035824
CREATED:20260105T130337Z
LAST-MODIFIED:20260105T175603Z
UID:10017023-1924014600-1924021800@uptownsj.com
SUMMARY:MIX Live Music and Cocktails Friday
DESCRIPTION:A vibrant Friday night gathering featuring live performances from talented local musicians paired with an exclusive cocktail and bites menu\, designed to elevate the weekend experience. This event will celebrate community\, music\, and hospitality\, while showcasing Saint John’s best local talent in an upscale yet inviting setting. Located at the Mezzanine level of Delta Hotels by Marriott Saint John.
URL:https://uptownsj.com/event/mix-live-music-and-cocktails-friday/2030-12-20/
LOCATION:MIX Resto | Bar\, 39 King Street\, Saint John\, E2L 4W3\, Canada
CATEGORIES:Live Music
ATTACH;FMTTYPE=image/jpeg:https://uptownsj.com/wp-content/uploads/2026/01/MIX.jpg
END:VEVENT
BEGIN:VEVENT
DTSTART;TZID=America/Halifax:20301227T163000
DTEND;TZID=America/Halifax:20301227T183000
DTSTAMP:20260420T035824
CREATED:20260105T130337Z
LAST-MODIFIED:20260105T175603Z
UID:10017024-1924619400-1924626600@uptownsj.com
SUMMARY:MIX Live Music and Cocktails Friday
DESCRIPTION:A vibrant Friday night gathering featuring live performances from talented local musicians paired with an exclusive cocktail and bites menu\, designed to elevate the weekend experience. This event will celebrate community\, music\, and hospitality\, while showcasing Saint John’s best local talent in an upscale yet inviting setting. Located at the Mezzanine level of Delta Hotels by Marriott Saint John.
URL:https://uptownsj.com/event/mix-live-music-and-cocktails-friday/2030-12-27/
LOCATION:MIX Resto | Bar\, 39 King Street\, Saint John\, E2L 4W3\, Canada
CATEGORIES:Live Music
ATTACH;FMTTYPE=image/jpeg:https://uptownsj.com/wp-content/uploads/2026/01/MIX.jpg
END:VEVENT
BEGIN:VEVENT
DTSTART;TZID=America/Halifax:20310103T163000
DTEND;TZID=America/Halifax:20310103T183000
DTSTAMP:20260420T035824
CREATED:20260105T130337Z
LAST-MODIFIED:20260105T175603Z
UID:10017025-1925224200-1925231400@uptownsj.com
SUMMARY:MIX Live Music and Cocktails Friday
DESCRIPTION:A vibrant Friday night gathering featuring live performances from talented local musicians paired with an exclusive cocktail and bites menu\, designed to elevate the weekend experience. This event will celebrate community\, music\, and hospitality\, while showcasing Saint John’s best local talent in an upscale yet inviting setting. Located at the Mezzanine level of Delta Hotels by Marriott Saint John.
URL:https://uptownsj.com/event/mix-live-music-and-cocktails-friday/2031-01-03/
LOCATION:MIX Resto | Bar\, 39 King Street\, Saint John\, E2L 4W3\, Canada
CATEGORIES:Live Music
ATTACH;FMTTYPE=image/jpeg:https://uptownsj.com/wp-content/uploads/2026/01/MIX.jpg
END:VEVENT
END:VCALENDAR