BEGIN:VCALENDAR
VERSION:2.0
PRODID:-//Uptown Saint John - ECPv6.15.20//NONSGML v1.0//EN
CALSCALE:GREGORIAN
METHOD:PUBLISH
X-ORIGINAL-URL:https://uptownsj.com
X-WR-CALDESC:Events for Uptown Saint John
REFRESH-INTERVAL;VALUE=DURATION:PT1H
X-Robots-Tag:noindex
X-PUBLISHED-TTL:PT1H
BEGIN:VTIMEZONE
TZID:America/Halifax
BEGIN:DAYLIGHT
TZOFFSETFROM:-0400
TZOFFSETTO:-0300
TZNAME:ADT
DTSTART:20250309T060000
END:DAYLIGHT
BEGIN:STANDARD
TZOFFSETFROM:-0300
TZOFFSETTO:-0400
TZNAME:AST
DTSTART:20251102T050000
END:STANDARD
BEGIN:DAYLIGHT
TZOFFSETFROM:-0400
TZOFFSETTO:-0300
TZNAME:ADT
DTSTART:20260308T060000
END:DAYLIGHT
BEGIN:STANDARD
TZOFFSETFROM:-0300
TZOFFSETTO:-0400
TZNAME:AST
DTSTART:20261101T050000
END:STANDARD
BEGIN:DAYLIGHT
TZOFFSETFROM:-0400
TZOFFSETTO:-0300
TZNAME:ADT
DTSTART:20270314T060000
END:DAYLIGHT
BEGIN:STANDARD
TZOFFSETFROM:-0300
TZOFFSETTO:-0400
TZNAME:AST
DTSTART:20271107T050000
END:STANDARD
END:VTIMEZONE
BEGIN:VEVENT
DTSTART;TZID=America/Halifax:20260508T160000
DTEND;TZID=America/Halifax:20260508T190000
DTSTAMP:20260421T153028
CREATED:20260407T123002Z
LAST-MODIFIED:20260407T123002Z
UID:10029435-1778256000-1778266800@uptownsj.com
SUMMARY:SAINT JOHN GALLERY HOP
DESCRIPTION:🎨🐇 Join us for a captivating night of art and community! Friday\, May 8th from 4-7pm\, with select galleries open extended hours into the evening. All galleries in walking distance in uptown Saint John NB. \n-Participating Galleries- \nCobalt Gallery\n📍111 Prince William St.\nOPEN until 7pm \nGlass Roots\n📍Back Alley\, 87 Canterbury St.\nOPEN until 7pm \nHandworks Gallery\n📍12 King St.\nOPEN until 7pm \nMitote Gallery\n📍1 Charlotte St.\nOPEN until 10pm \nSheila Howell Studio/Gallery\n📍228 Germain st.\nOPEN until 7pm \nSJ Arts Club\n📍 39 King St (Brunswick Square)\nOPEN until 6pm \nTrinity Galleries\n📍128 Germain St.\nOPEN until 7pm \nTuck\n📍 115 Prince William St\nOPEN until 7pm
URL:https://uptownsj.com/event/saint-john-gallery-hop/
LOCATION:Cobalt_Art_Gallery\, 111 Prince William Street\, Saint John\, E2L2B2\, Canada
CATEGORIES:Art,Community,Free,Networking
ATTACH;FMTTYPE=image/png:https://uptownsj.com/wp-content/uploads/2026/04/Gallery-Hop-Page-BannerSpring_2026.png
END:VEVENT
BEGIN:VEVENT
DTSTART;TZID=America/Halifax:20260508T160000
DTEND;TZID=America/Halifax:20260508T220000
DTSTAMP:20260421T153028
CREATED:20260409T120810Z
LAST-MODIFIED:20260409T120810Z
UID:10029440-1778256000-1778277600@uptownsj.com
SUMMARY:MITOTE GALLERY EXHIBITION
DESCRIPTION:Join us at Mitote Gallery during the night of the “Saint John Gallery Hop” on Friday May 8th from 4pm to 10pm. \n📍 1 Charolette St.\, Saint John NB \nFeaturing all NEW unseen artworks by:\nCraig Gower\nTyler Leblanc\nChina Paul\nTony Klipin\nFiona Kid\nDoug Anderson\nBrodie A. Braun \nFood & drinks\nFamily & pet friendly
URL:https://uptownsj.com/event/mitote-gallery-exhibition/
LOCATION:Mitote Art Gallery\, 1 Charlotte St\, Saint John\, New Brunswick\, E2L 2H3\, Canada
CATEGORIES:Art,Community,Free,Networking
ATTACH;FMTTYPE=image/jpeg:https://uptownsj.com/wp-content/uploads/2026/04/IMG_9867.jpeg
END:VEVENT
BEGIN:VEVENT
DTSTART;TZID=America/Halifax:20260508T163000
DTEND;TZID=America/Halifax:20260508T183000
DTSTAMP:20260421T153028
CREATED:20260105T130337Z
LAST-MODIFIED:20260105T175603Z
UID:10016782-1778257800-1778265000@uptownsj.com
SUMMARY:MIX Live Music and Cocktails Friday
DESCRIPTION:A vibrant Friday night gathering featuring live performances from talented local musicians paired with an exclusive cocktail and bites menu\, designed to elevate the weekend experience. This event will celebrate community\, music\, and hospitality\, while showcasing Saint John’s best local talent in an upscale yet inviting setting. Located at the Mezzanine level of Delta Hotels by Marriott Saint John.
URL:https://uptownsj.com/event/mix-live-music-and-cocktails-friday/2026-05-08/
LOCATION:MIX Resto | Bar\, 39 King Street\, Saint John\, E2L 4W3\, Canada
CATEGORIES:Live Music
ATTACH;FMTTYPE=image/jpeg:https://uptownsj.com/wp-content/uploads/2026/01/MIX.jpg
END:VEVENT
END:VCALENDAR