BEGIN:VCALENDAR
VERSION:2.0
PRODID:-//Uptown Saint John - ECPv6.15.20//NONSGML v1.0//EN
CALSCALE:GREGORIAN
METHOD:PUBLISH
X-WR-CALNAME:Uptown Saint John
X-ORIGINAL-URL:https://uptownsj.com
X-WR-CALDESC:Events for Uptown Saint John
REFRESH-INTERVAL;VALUE=DURATION:PT1H
X-Robots-Tag:noindex
X-PUBLISHED-TTL:PT1H
BEGIN:VTIMEZONE
TZID:America/Halifax
BEGIN:DAYLIGHT
TZOFFSETFROM:-0400
TZOFFSETTO:-0300
TZNAME:ADT
DTSTART:20240310T060000
END:DAYLIGHT
BEGIN:STANDARD
TZOFFSETFROM:-0300
TZOFFSETTO:-0400
TZNAME:AST
DTSTART:20241103T050000
END:STANDARD
BEGIN:DAYLIGHT
TZOFFSETFROM:-0400
TZOFFSETTO:-0300
TZNAME:ADT
DTSTART:20250309T060000
END:DAYLIGHT
BEGIN:STANDARD
TZOFFSETFROM:-0300
TZOFFSETTO:-0400
TZNAME:AST
DTSTART:20251102T050000
END:STANDARD
BEGIN:DAYLIGHT
TZOFFSETFROM:-0400
TZOFFSETTO:-0300
TZNAME:ADT
DTSTART:20260308T060000
END:DAYLIGHT
BEGIN:STANDARD
TZOFFSETFROM:-0300
TZOFFSETTO:-0400
TZNAME:AST
DTSTART:20261101T050000
END:STANDARD
END:VTIMEZONE
BEGIN:VEVENT
DTSTART;TZID=America/Halifax:20250802T100000
DTEND;TZID=America/Halifax:20250802T150000
DTSTAMP:20260420T221450
CREATED:20250728T115624Z
LAST-MODIFIED:20250728T115624Z
UID:10013167-1754128800-1754146800@uptownsj.com
SUMMARY:Free Face Painting
DESCRIPTION:Join us at the Saint John City Market for free face painting from 10 am – 3 pm on Saturday\, August 2\, 2025. Celebrate the long weekend at the City Market and support local business uptown!
URL:https://uptownsj.com/event/free-face-painting/
LOCATION:Saint John  City Market\, 49 Charlotte Street (North Market Street side)\, Saint John\, New Brunswick
CATEGORIES:Community & Business Organized Events
ORGANIZER;CN="The Blue Pelican Bath &amp%3B Body":MAILTO:thebluepelicansaintjohn@gmail.com
END:VEVENT
END:VCALENDAR