BEGIN:VCALENDAR
VERSION:2.0
PRODID:-//Uptown Saint John - ECPv6.15.20//NONSGML v1.0//EN
CALSCALE:GREGORIAN
METHOD:PUBLISH
X-ORIGINAL-URL:https://uptownsj.com
X-WR-CALDESC:Events for Uptown Saint John
REFRESH-INTERVAL;VALUE=DURATION:PT1H
X-Robots-Tag:noindex
X-PUBLISHED-TTL:PT1H
BEGIN:VTIMEZONE
TZID:America/Halifax
BEGIN:DAYLIGHT
TZOFFSETFROM:-0400
TZOFFSETTO:-0300
TZNAME:ADT
DTSTART:20240310T060000
END:DAYLIGHT
BEGIN:STANDARD
TZOFFSETFROM:-0300
TZOFFSETTO:-0400
TZNAME:AST
DTSTART:20241103T050000
END:STANDARD
BEGIN:DAYLIGHT
TZOFFSETFROM:-0400
TZOFFSETTO:-0300
TZNAME:ADT
DTSTART:20250309T060000
END:DAYLIGHT
BEGIN:STANDARD
TZOFFSETFROM:-0300
TZOFFSETTO:-0400
TZNAME:AST
DTSTART:20251102T050000
END:STANDARD
BEGIN:DAYLIGHT
TZOFFSETFROM:-0400
TZOFFSETTO:-0300
TZNAME:ADT
DTSTART:20260308T060000
END:DAYLIGHT
BEGIN:STANDARD
TZOFFSETFROM:-0300
TZOFFSETTO:-0400
TZNAME:AST
DTSTART:20261101T050000
END:STANDARD
END:VTIMEZONE
BEGIN:VEVENT
DTSTART;TZID=America/Halifax:20250721T190000
DTEND;TZID=America/Halifax:20250721T210000
DTSTAMP:20260420T184253
CREATED:20250617T140424Z
LAST-MODIFIED:20250617T140424Z
UID:10012606-1753124400-1753131600@uptownsj.com
SUMMARY:Studio Ghibli Summer- Princess Mononoke
DESCRIPTION:In the 14th century\, the harmony that humans\, animals and gods have enjoyed begins to crumble. The protagonist\, young Ashitaka – infected by an animal attack\, seeks a cure from the deer-like god Shishigami. In his travels\, he sees humans ravaging the earth\, bringing down the wrath of wolf god Moro and his human companion Princess Mononoke. His attempts to broker peace between her and the humans brings only conflict.
URL:https://uptownsj.com/event/studio-ghibli-summer-princess-mononoke/
LOCATION:Imperial Theatre\, 12 King Square S.\, Saint John
CATEGORIES:Community
ATTACH;FMTTYPE=image/png:https://uptownsj.com/wp-content/uploads/2025/06/Ghibli-Princess-Mononoke.png
END:VEVENT
END:VCALENDAR