BEGIN:VCALENDAR
VERSION:2.0
PRODID:-//Uptown Saint John - ECPv6.15.20//NONSGML v1.0//EN
CALSCALE:GREGORIAN
METHOD:PUBLISH
X-ORIGINAL-URL:https://uptownsj.com
X-WR-CALDESC:Events for Uptown Saint John
REFRESH-INTERVAL;VALUE=DURATION:PT1H
X-Robots-Tag:noindex
X-PUBLISHED-TTL:PT1H
BEGIN:VTIMEZONE
TZID:America/Halifax
BEGIN:DAYLIGHT
TZOFFSETFROM:-0400
TZOFFSETTO:-0300
TZNAME:ADT
DTSTART:20230312T060000
END:DAYLIGHT
BEGIN:STANDARD
TZOFFSETFROM:-0300
TZOFFSETTO:-0400
TZNAME:AST
DTSTART:20231105T050000
END:STANDARD
BEGIN:DAYLIGHT
TZOFFSETFROM:-0400
TZOFFSETTO:-0300
TZNAME:ADT
DTSTART:20240310T060000
END:DAYLIGHT
BEGIN:STANDARD
TZOFFSETFROM:-0300
TZOFFSETTO:-0400
TZNAME:AST
DTSTART:20241103T050000
END:STANDARD
BEGIN:DAYLIGHT
TZOFFSETFROM:-0400
TZOFFSETTO:-0300
TZNAME:ADT
DTSTART:20250309T060000
END:DAYLIGHT
BEGIN:STANDARD
TZOFFSETFROM:-0300
TZOFFSETTO:-0400
TZNAME:AST
DTSTART:20251102T050000
END:STANDARD
END:VTIMEZONE
BEGIN:VEVENT
DTSTART;TZID=America/Halifax:20241211T070000
DTEND;TZID=America/Halifax:20241211T210000
DTSTAMP:20260420T115348
CREATED:20241125T142148Z
LAST-MODIFIED:20241125T142148Z
UID:10010110-1733900400-1733950800@uptownsj.com
SUMMARY:Christmas Crafting for the Soul at Divine Studios
DESCRIPTION:Christmas Crafting for the Soul \n\nWhen an art therapist and an art teacher team up for a holiday crafting event\, creativity and joy are the perfect gifts!\n\n\nJoin Alisha D’Souza and Anna Merrithew for a variety of festive project s during this healing crafting session! Christmas cards\, ornaments\, and more.. hosted in an inpsiring studio space.\n\n\nno experience needed\ncost $40.00\nWednesday\, December 11th 2024\n\n87 canterbury street suite 301 – please note no elevator access
URL:https://uptownsj.com/event/christmas-crafting-for-the-soul-at-divine-studios/
LOCATION:Divine Studios\, 87 Canterbury St. Suite 301\, saint john
CATEGORIES:Art
ATTACH;FMTTYPE=image/jpeg:https://uptownsj.com/wp-content/uploads/2024/11/DIVINE-POSTERS-2.jpg
END:VEVENT
BEGIN:VEVENT
DTSTART;TZID=America/Halifax:20241213T190000
DTEND;TZID=America/Halifax:20241213T235900
DTSTAMP:20260420T115348
CREATED:20241202T142940Z
LAST-MODIFIED:20241202T142940Z
UID:10010149-1734116400-1734134340@uptownsj.com
SUMMARY:Twelve Games of Christmas Party
DESCRIPTION:The Twelve Games of Christmas hosted by Alina Zelenska and Virginia Adam✨ At Divine Art Studio at 87 Canterbury st. \nTicket includes:\n• Professional photo and Video\n• Festive Drinks + snacks\n• Games + prizes \nWhat to expect:\nMagical Christmas Atmosphere✨\nGames at each table\, Winners will receive a christmassy prize!\nNetworking and Fun A perfect opportunity to meet new people! Play\, chat\, and enjoy each other’s company\n📣PRIZE for the Best Christmas Outfit Dress in your most creative and festive holiday attire and you could win a special prize! Dress as if you’re attending a Christmas Party 🎉 \nDate: December 13th\nEvent Time: 7:00 PM – Midnight \n  \nPlease note no elevator access.
URL:https://uptownsj.com/event/twelve-games-of-christmas-party/
LOCATION:Divine Studios\, 87 Canterbury St. Suite 301\, saint john
CATEGORIES:Art
END:VEVENT
END:VCALENDAR