BEGIN:VCALENDAR
VERSION:2.0
PRODID:-//Uptown Saint John - ECPv6.15.20//NONSGML v1.0//EN
CALSCALE:GREGORIAN
METHOD:PUBLISH
X-ORIGINAL-URL:https://uptownsj.com
X-WR-CALDESC:Events for Uptown Saint John
REFRESH-INTERVAL;VALUE=DURATION:PT1H
X-Robots-Tag:noindex
X-PUBLISHED-TTL:PT1H
BEGIN:VTIMEZONE
TZID:America/Halifax
BEGIN:DAYLIGHT
TZOFFSETFROM:-0400
TZOFFSETTO:-0300
TZNAME:ADT
DTSTART:20240310T060000
END:DAYLIGHT
BEGIN:STANDARD
TZOFFSETFROM:-0300
TZOFFSETTO:-0400
TZNAME:AST
DTSTART:20241103T050000
END:STANDARD
BEGIN:DAYLIGHT
TZOFFSETFROM:-0400
TZOFFSETTO:-0300
TZNAME:ADT
DTSTART:20250309T060000
END:DAYLIGHT
BEGIN:STANDARD
TZOFFSETFROM:-0300
TZOFFSETTO:-0400
TZNAME:AST
DTSTART:20251102T050000
END:STANDARD
BEGIN:DAYLIGHT
TZOFFSETFROM:-0400
TZOFFSETTO:-0300
TZNAME:ADT
DTSTART:20260308T060000
END:DAYLIGHT
BEGIN:STANDARD
TZOFFSETFROM:-0300
TZOFFSETTO:-0400
TZNAME:AST
DTSTART:20261101T050000
END:STANDARD
END:VTIMEZONE
BEGIN:VEVENT
DTSTART;TZID=America/Halifax:20250606T190000
DTEND;TZID=America/Halifax:20250606T210000
DTSTAMP:20260420T202358
CREATED:20250213T150005Z
LAST-MODIFIED:20250213T150005Z
UID:10011060-1749236400-1749243600@uptownsj.com
SUMMARY:Live JAZZ at the Gallery
DESCRIPTION:Every Friday\, from 7 – 9\, join us for an amazing evening of Jazz music and feel like you are in NYC ! Trinity Galleries brings you the best in visual and musical arts in Atlantic Canada.
URL:https://uptownsj.com/event/live-jazz-at-the-gallery/2025-06-06/
LOCATION:Trinity Galleries\, 128 GERMAIN ST.\, SAINT JOHN\, New Brunswick\, E2L 2E7\, Canada
CATEGORIES:Art,Cultural Event,Live Music
ATTACH;FMTTYPE=image/jpeg:https://uptownsj.com/wp-content/uploads/2025/02/IMG_2367-3.jpg
ORGANIZER;CN="Trinity Galleries":MAILTO:art@trintygalleries.ca
END:VEVENT
BEGIN:VEVENT
DTSTART;TZID=America/Halifax:20250606T193000
DTEND;TZID=America/Halifax:20250606T210000
DTSTAMP:20260420T202358
CREATED:20240610T194251Z
LAST-MODIFIED:20240610T194251Z
UID:10007814-1749238200-1749243600@uptownsj.com
SUMMARY:Martin Levac: Phil Collins & Genesis… Live
DESCRIPTION:Martin Levac: Phil Collins & Genesis… Live\nMartin Levac continues the journey into the combined universe of Phil Collins & Genesis in a new show! Phil Collins & Genesis… Live makes you relive the great songs that accompanied the most beautiful moments of your life! From the intimate to the universal\, he takes us into the soundtrack of his life\, which is also ours… It’s a real journey through time\, from the beginnings of Genesis to the great popular hits of Phil Collins. Surrounded by his faithful musicians\, he shows us how this music has marked and transformed his life and career. \nMartin Levac is a singer\, drummer\, keyboardist and singer-songwriter. Known in Quebec for his performances as the impersonator of British singer-drummer Phil Collins\, Martin is nevertheless a jack-of-all-trades musician who loves to embark on new musical projects. \nBorn in Longueuil in 1971\, he began learning the drums at the age of eight\, and formed his first band at the age of thirteen! His passion for Phil Collins and Genesis was born during his adolescence\, the group being at the height of its popularity during the 80s. Martin went so far as to change his drums from right-handed to left-handed to better reproduce the nuances of his idol’s playing. Despite everything\, Martin is a lover of music and he is constantly expanding his musical background by integrating new styles. \nHe composed his first songs in 1988\, within the group The Bob’s . He participated in the Granby International Song Festival in 1996 and 1998\, and was a finalist in both editions. His first album\, “L’amour ou le sexe”\, appeared in 2000\, followed by “Levac” in 2001 and “Influences” in 2006\, this album being composed during the last tour that Martin would do with a tribute group to the Genesis music during the Peter Gabriel period. \nHaving joined the group in 2002\, it was from this moment that Martin professionally impersonated Phil Collins for the first time. He plays drums and vocal harmonies\, and performs the song More Fool Me \, as Phil did on the show Selling England by the Pound . \nDuring that same year\, Martin and Phil met for the first time in the studios of radio station CKOI in Montreal\, during the promotional tour for the British singer’s album Testify . In February 2005\, Martin and Phil met again in Geneva as part of a tour. Phil spends the day with the band and even takes Martin’s place behind the drums for the encore! During his appearance on the Quebec show “Everybody talks about it” in 2010\, Phil recognized Martin as his best interpreter and impersonator\, his opinion going in the direction of the public and the critics. \nThis recognition allows Martin to share the stage with Phil Collins collaborators. Artists as talented as they are recognized\, such as Daryl Stuermer\, Ronnie Caryl and Amy Keys\, among others. \nToday\, Martin continues to thrill crowds across Quebec\, with his two shows\, Phil Collins & Genesis and Collins/Gabriel. When not performing\, Martin divides his time between songwriting and teaching vocals and drums.
URL:https://uptownsj.com/event/martin-levac-phil-collins-genesis-live/
LOCATION:Imperial Theatre\, 12 King Square S.\, Saint John
CATEGORIES:Live Music,Theatre
END:VEVENT
BEGIN:VEVENT
DTSTART;TZID=America/Halifax:20250613T190000
DTEND;TZID=America/Halifax:20250613T210000
DTSTAMP:20260420T202358
CREATED:20250213T150005Z
LAST-MODIFIED:20250213T150005Z
UID:10011061-1749841200-1749848400@uptownsj.com
SUMMARY:Live JAZZ at the Gallery
DESCRIPTION:Every Friday\, from 7 – 9\, join us for an amazing evening of Jazz music and feel like you are in NYC ! Trinity Galleries brings you the best in visual and musical arts in Atlantic Canada.
URL:https://uptownsj.com/event/live-jazz-at-the-gallery/2025-06-13/
LOCATION:Trinity Galleries\, 128 GERMAIN ST.\, SAINT JOHN\, New Brunswick\, E2L 2E7\, Canada
CATEGORIES:Art,Cultural Event,Live Music
ATTACH;FMTTYPE=image/jpeg:https://uptownsj.com/wp-content/uploads/2025/02/IMG_2367-3.jpg
ORGANIZER;CN="Trinity Galleries":MAILTO:art@trintygalleries.ca
END:VEVENT
BEGIN:VEVENT
DTSTART;TZID=America/Halifax:20250613T193000
DTEND;TZID=America/Halifax:20250613T220000
DTSTAMP:20260420T202358
CREATED:20250617T132958Z
LAST-MODIFIED:20250617T132958Z
UID:10012653-1749843000-1749852000@uptownsj.com
SUMMARY:A Cabaret of Legends
DESCRIPTION:Tymisha Harris’s “A Cabaret of Legends” Announces 2025 North American Tour \nOrlando\, FL – Following a critically acclaimed premiere at the 2024 Edmonton Fringe Festival\, Tymisha Harris is taking her dazzling new show\, “A Cabaret of Legends\,” on the road! This electrifying production\, hailed as “a powerhouse performance” by the Edmonton Journal\, will tour nearly a dozen cities across North America in 2025. \nA Tribute to the Icons \n“A Cabaret of Legends” is a thrilling musical journey celebrating the iconic voices that have shaped the world of entertainment. Tymisha Harris\, with her undeniable charisma and “vocal fireworks” (CBC Montreal)\, pays homage to the greatest performers of all time\, from soulful jazz to electrifying pop. Audiences can expect a non-stop spectacle of music\, dance\, and pure entertainment.
URL:https://uptownsj.com/event/a-cabaret-of-legends/
LOCATION:Imperial Theatre\, 12 King Square S.\, Saint John
CATEGORIES:Live Music
ATTACH;FMTTYPE=image/png:https://uptownsj.com/wp-content/uploads/2025/06/Cabaret-of-Legends.png
END:VEVENT
BEGIN:VEVENT
DTSTART;TZID=America/Halifax:20250613T193000
DTEND;TZID=America/Halifax:20250613T220000
DTSTAMP:20260420T202358
CREATED:20250617T133744Z
LAST-MODIFIED:20250617T133744Z
UID:10012640-1749843000-1749852000@uptownsj.com
SUMMARY:The Heterosexuals
DESCRIPTION:★★★★★ “Comic genius!” The Irish Times \n★★★★★ “Priceless\, playful perfection!” The Reviews Hub \nA deep-dive into the shocking world of Heterosexuality! THEY WALK AMONG US! But where did they come from? And what do they think they’re wearing? Find out in this explosive solo show based on undercover research gathered while posing as one of their own! Combining elements of storytelling\, satire\, comedy\, and deep personal humiliation\, The Heterosexuals is here to spill the T on what The Queers really think about The Straights. \nThe latest solo show from tour-de-force writer/performer Johnnie McNamara Walker has wowed audiences and sold out houses across Canada as well as touring internationally to Ireland and the US\, including an Off-Broadway run at The SoHo Playhouse in NYC.
URL:https://uptownsj.com/event/the-heterosexuals/
LOCATION:Imperial Theatre\, 12 King Square S.\, Saint John
CATEGORIES:Comedy
ATTACH;FMTTYPE=image/png:https://uptownsj.com/wp-content/uploads/2025/06/The-Heterosexuals.png
END:VEVENT
BEGIN:VEVENT
DTSTART;TZID=America/Halifax:20250614T110000
DTEND;TZID=America/Halifax:20250614T170000
DTSTAMP:20260420T202358
CREATED:20250612T193547Z
LAST-MODIFIED:20250612T193547Z
UID:10012602-1749898800-1749920400@uptownsj.com
SUMMARY:Milky The Mouse In Space Scavenger Hunt
DESCRIPTION:Come join us for a fun-filled day of hunting for clues with Milky the Mouse! This in-person event will take you on an exciting adventure around Uptown Saint John as you solve puzzles and riddles to uncover hidden treasures. Make sure to bring your friends and family along for a day of laughter and excitement. Don’t miss out on this thrilling scavenger hunt with Milky the Mouse!
URL:https://uptownsj.com/event/milky-the-mouse-in-space-scavenger-hunt/
LOCATION:King’s Square\, Saint John\, New Brunswick\, Canada
CATEGORIES:Free
ATTACH;FMTTYPE=image/png:https://uptownsj.com/wp-content/uploads/2025/06/Milky-The-Mouse-Banner.png
ORGANIZER;CN="Your Sweet Spot Life":MAILTO:hi@yoursweetspot.life
END:VEVENT
BEGIN:VEVENT
DTSTART;TZID=America/Halifax:20250616T190000
DTEND;TZID=America/Halifax:20250616T210000
DTSTAMP:20260420T202358
CREATED:20240610T194309Z
LAST-MODIFIED:20240610T194309Z
UID:10007813-1750100400-1750107600@uptownsj.com
SUMMARY:Retro Film: The Matrix (1999)
DESCRIPTION:When a beautiful stranger leads computer hacker Neo to a forbidding underworld\, he discovers the shocking truth–the life he knows is the elaborate deception of an evil cyber-intelligence.
URL:https://uptownsj.com/event/retro-film-the-matrix-1999/
LOCATION:Imperial Theatre\, 12 King Square S.\, Saint John
CATEGORIES:Theatre
END:VEVENT
BEGIN:VEVENT
DTSTART;TZID=America/Halifax:20250620T190000
DTEND;TZID=America/Halifax:20250620T210000
DTSTAMP:20260420T202358
CREATED:20250213T150005Z
LAST-MODIFIED:20250213T150005Z
UID:10011062-1750446000-1750453200@uptownsj.com
SUMMARY:Live JAZZ at the Gallery
DESCRIPTION:Every Friday\, from 7 – 9\, join us for an amazing evening of Jazz music and feel like you are in NYC ! Trinity Galleries brings you the best in visual and musical arts in Atlantic Canada.
URL:https://uptownsj.com/event/live-jazz-at-the-gallery/2025-06-20/
LOCATION:Trinity Galleries\, 128 GERMAIN ST.\, SAINT JOHN\, New Brunswick\, E2L 2E7\, Canada
CATEGORIES:Art,Cultural Event,Live Music
ATTACH;FMTTYPE=image/jpeg:https://uptownsj.com/wp-content/uploads/2025/02/IMG_2367-3.jpg
ORGANIZER;CN="Trinity Galleries":MAILTO:art@trintygalleries.ca
END:VEVENT
BEGIN:VEVENT
DTSTART;TZID=America/Halifax:20250622T113000
DTEND;TZID=America/Halifax:20250622T133000
DTSTAMP:20260420T202358
CREATED:20250106T131254Z
LAST-MODIFIED:20250106T131254Z
UID:10010550-1750591800-1750599000@uptownsj.com
SUMMARY:Silent Book Club at Picaroons General Store
DESCRIPTION:At a Silent Book Club\, there are no assigned readings\, just book-loving people reading together in public. We start with a half-hour of socializing\, then we spend an hour of silent reading. We take a photo of all our books\, and then we spend the next half-hour socializing\, go back to reading\, or whatever you’d like. \nIt’s BYOBook! Bring a book\, in any format and treat yourself to an uninterrupted hour of reading with fellow book lovers. Please RSVP at the link provided or email silentbookclub.sj@gmail.com
URL:https://uptownsj.com/event/silent-book-club-at-picaroons-general-store-6/2025-06-22/
LOCATION:picaroons\, 32 canterbury St.\, Saint John
CATEGORIES:Community
END:VEVENT
BEGIN:VEVENT
DTSTART;TZID=America/Halifax:20250624T190000
DTEND;TZID=America/Halifax:20250624T210000
DTSTAMP:20260420T202358
CREATED:20240610T194348Z
LAST-MODIFIED:20240610T194348Z
UID:10007811-1750791600-1750798800@uptownsj.com
SUMMARY:TIFF: JUNE FILM TBD
DESCRIPTION:Part of the Saint John TIFF Film circuit\, film to be announced.
URL:https://uptownsj.com/event/tiff-june-film-tbd/
LOCATION:Imperial Theatre\, 12 King Square S.\, Saint John
CATEGORIES:Theatre
END:VEVENT
BEGIN:VEVENT
DTSTART;TZID=America/Halifax:20250626T190000
DTEND;TZID=America/Halifax:20250626T230000
DTSTAMP:20260420T202358
CREATED:20250317T123145Z
LAST-MODIFIED:20250317T123145Z
UID:10011362-1750964400-1750978800@uptownsj.com
SUMMARY:DESIRE  International  Tribute To Music & Legacy Of  U2
DESCRIPTION:Desire An International  World Touring  Tribute To The Music & Legacy Of U2 \nThursday June 26\, 2025  Saint John Trade & Convention Centre \nLimited Advance Tickets NOW ON SALE  at  www.TDSTATION.COM \nDOORS 7pm CONCERT 8pm  TICKETS 45.00pp Includes Taxes & Fees   ALL AGES EVENT! \nMORE INFO ON BAND AT  www.u2tributedesire.com
URL:https://uptownsj.com/event/desire-international-tribute-to-music-legacy-of-u2/
LOCATION:Trade and Convention Centre\, 1 Market Square\, Saint John
CATEGORIES:Live Music
ATTACH;FMTTYPE=image/jpeg:https://uptownsj.com/wp-content/uploads/2025/03/u2-poster-1-scaled.jpg
END:VEVENT
BEGIN:VEVENT
DTSTART;TZID=America/Halifax:20250627T190000
DTEND;TZID=America/Halifax:20250627T210000
DTSTAMP:20260420T202358
CREATED:20250213T150005Z
LAST-MODIFIED:20250213T150005Z
UID:10011063-1751050800-1751058000@uptownsj.com
SUMMARY:Live JAZZ at the Gallery
DESCRIPTION:Every Friday\, from 7 – 9\, join us for an amazing evening of Jazz music and feel like you are in NYC ! Trinity Galleries brings you the best in visual and musical arts in Atlantic Canada.
URL:https://uptownsj.com/event/live-jazz-at-the-gallery/2025-06-27/
LOCATION:Trinity Galleries\, 128 GERMAIN ST.\, SAINT JOHN\, New Brunswick\, E2L 2E7\, Canada
CATEGORIES:Art,Cultural Event,Live Music
ATTACH;FMTTYPE=image/jpeg:https://uptownsj.com/wp-content/uploads/2025/02/IMG_2367-3.jpg
ORGANIZER;CN="Trinity Galleries":MAILTO:art@trintygalleries.ca
END:VEVENT
BEGIN:VEVENT
DTSTART;TZID=America/Halifax:20250627T190000
DTEND;TZID=America/Halifax:20250627T213000
DTSTAMP:20260420T202358
CREATED:20250625T130914Z
LAST-MODIFIED:20250625T130914Z
UID:10012676-1751050800-1751059800@uptownsj.com
SUMMARY:Ukrainian Legends
DESCRIPTION:A powerful journey through Ukraine’s past and spirit — from Cossack glory and wartime sacrifice to folk songs\, dance\, and mysticism. Guided by Nestor the Chronicler\, this unique performance blends history\, music\, and tradition into a vivid celebration of cultural memory. Featuring iconic Ukrainian folk songs\, Ukrainian Legend brings the soul of Ukraine to life on stage.\nPresented by: Concert group Mattinata Ukraine\, Ukrainian-Canadian Openmic by Borys Kornetskyi\, Saint John ART LAB\, and Ukrainian Choir Oberig.
URL:https://uptownsj.com/event/ukrainian-legends/
LOCATION:The BMO Studio Theatre\, 112 Princess St\, 112 Princess St\, Saint John\, NB\, E2L 1K4\, Canada
CATEGORIES:Cultural Event,Fundraiser,Live Music,Theatre
ATTACH;FMTTYPE=image/png:https://uptownsj.com/wp-content/uploads/2025/06/Blue-and-Greyscale-Minimalist-Abstract-and-Typographic-Art-Festival-Instagram-Post.png
ORGANIZER;CN="Saint John Theatre Company":MAILTO:lise.driscoll@saintjohntheatrecompany.com
END:VEVENT
BEGIN:VEVENT
DTSTART;TZID=America/Halifax:20250627T193000
DTEND;TZID=America/Halifax:20250627T220000
DTSTAMP:20260420T202358
CREATED:20250617T132636Z
LAST-MODIFIED:20250617T132636Z
UID:10012664-1751052600-1751061600@uptownsj.com
SUMMARY:No Jokes Barred - 11 Year Anniversary
DESCRIPTION:Something hilarious is brewing in the Ups— err… downtown. \nJoin us June 27th at Water Street Dinner Theatre as No Jokes Barred celebrates 11 years of raw\, unfiltered stand-up comedy! Hosted by Jon Forward\, this legendary Saint John comedy night returns with a stacked lineup of heavy hitters and rising stars from the local scene. \n🎤 Featuring: \n\n\nBrian Godsoe \n\n\nNathan Dimitroff \n\n\nShane Ogden \n\n\nBrad Rice \n\n\nTyson Ardo \n\n\nDanielle Anderson \n\n\nJeremy Scott \n\n\nJason Gaunce \n\n\n📍 Location: 110 Water Street\, Saint John (upstairs from Steamers)\n🕢 Time: Doors at 7:30 PM | Show 8:00–10:00 PM\n🎟️ Tickets: $10 Advance at Jumpcomedy.com | $15 at the Door\n💥 EARLY BIRD DEAL: 2-for-1 advance tickets available until June 20th! \nStick around after the show for our overtime segment – where audience members can throw their name in the bucket for a shot at a 3-minute comedy set. First time? Total wildcard? No problem – it’s all part of the fun. \nExpect laughs. Expect surprises. Expect the kind of night you definitely don’t tell your HR rep about.
URL:https://uptownsj.com/event/no-jokes-barred-11-year-anniversary/
LOCATION:Water Street Dinner Theatre\, 110 Water St\, Saint John\, E2L 5G1
CATEGORIES:Comedy
ATTACH;FMTTYPE=image/jpeg:https://uptownsj.com/wp-content/uploads/2025/06/NJB-June-27-2025-FB-Event.jpg
ORGANIZER;CN="No Jokes Barred":MAILTO:jonforward@gmail.com
END:VEVENT
END:VCALENDAR