BEGIN:VCALENDAR
VERSION:2.0
PRODID:-//Uptown Saint John - ECPv6.15.20//NONSGML v1.0//EN
CALSCALE:GREGORIAN
METHOD:PUBLISH
X-WR-CALNAME:Uptown Saint John
X-ORIGINAL-URL:https://uptownsj.com
X-WR-CALDESC:Events for Uptown Saint John
REFRESH-INTERVAL;VALUE=DURATION:PT1H
X-Robots-Tag:noindex
X-PUBLISHED-TTL:PT1H
BEGIN:VTIMEZONE
TZID:America/Halifax
BEGIN:DAYLIGHT
TZOFFSETFROM:-0400
TZOFFSETTO:-0300
TZNAME:ADT
DTSTART:20250309T060000
END:DAYLIGHT
BEGIN:STANDARD
TZOFFSETFROM:-0300
TZOFFSETTO:-0400
TZNAME:AST
DTSTART:20251102T050000
END:STANDARD
BEGIN:DAYLIGHT
TZOFFSETFROM:-0400
TZOFFSETTO:-0300
TZNAME:ADT
DTSTART:20260308T060000
END:DAYLIGHT
BEGIN:STANDARD
TZOFFSETFROM:-0300
TZOFFSETTO:-0400
TZNAME:AST
DTSTART:20261101T050000
END:STANDARD
BEGIN:DAYLIGHT
TZOFFSETFROM:-0400
TZOFFSETTO:-0300
TZNAME:ADT
DTSTART:20270314T060000
END:DAYLIGHT
BEGIN:STANDARD
TZOFFSETFROM:-0300
TZOFFSETTO:-0400
TZNAME:AST
DTSTART:20271107T050000
END:STANDARD
END:VTIMEZONE
BEGIN:VEVENT
DTSTART;VALUE=DATE:20260427
DTEND;VALUE=DATE:20260504
DTSTAMP:20260421T125554
CREATED:20260416T132150Z
LAST-MODIFIED:20260416T135846Z
UID:10029452-1777248000-1777852799@uptownsj.com
SUMMARY:2026 Event - Uptown Burger Week
DESCRIPTION:Join us from April 27 – May 3\, 2026\,  Uptown Burger Week returns\, bringing together local restaurants\, creative chefs\, and a community that loves a good reason to gather.\nEach participating spot is serving up a limited-time burger\, crafted just for the week.\nMake an afternoon of it: Try a new feature burger Wander through local shops Take it all in\, everything’s just a short walk away Save it to your calendar so you don’t miss it & Start planning at: https://uptownsj.com/saint-john-burger-week/\n(New menus will be added to the website as soon as they are received from the restaurants.)\nAn Uptown Saint John BIA marketing initiative cooked up by the collective efforts of Uptown businesses.
URL:https://uptownsj.com/event/2026-event-uptown-burger-week/
LOCATION:Uptown Saint John\, Saint John\, New Brunswick\, Canada
CATEGORIES:Uptown Saint John BIA Event
ATTACH;FMTTYPE=image/png:https://uptownsj.com/wp-content/uploads/2026/03/Burger-Week-2026-1.png
END:VEVENT
BEGIN:VEVENT
DTSTART;VALUE=DATE:20260430
DTEND;VALUE=DATE:20260501
DTSTAMP:20260421T125554
CREATED:20250729T175547Z
LAST-MODIFIED:20250729T175547Z
UID:10013606-1777507200-1777593599@uptownsj.com
SUMMARY:Beer Bread's 5\,6\,7\,10 Thursdays with Live Music
DESCRIPTION:Every Thursday Beer Bread restaurant offers Happy Hour all-day & all-night! \n$5 – 14oz Draught Beers \n$6 – 6oz Wine (Red\, White\, Rosé) \n$7 – BB Old Fashioned Cocktails \n$10 – Small Bites (All our small plate appetizers will be featured for $10) \nWe also will be offering the music stylings of Jamie Wright from 5:30pm-8:30pm.
URL:https://uptownsj.com/event/beer-breads-56710-thursdays-with-live-music/2026-04-30/
LOCATION:Beer Bread\, 7 Market Square\, Saint John\, E2l 1e8
CATEGORIES:Restaurant Specials,Specials
ATTACH;FMTTYPE=image/png:https://uptownsj.com/wp-content/uploads/2025/07/1.png
END:VEVENT
BEGIN:VEVENT
DTSTART;TZID=America/Halifax:20260430T140000
DTEND;TZID=America/Halifax:20260430T170000
DTSTAMP:20260421T125554
CREATED:20250728T135016Z
LAST-MODIFIED:20250728T135016Z
UID:10013446-1777557600-1777568400@uptownsj.com
SUMMARY:Happy hour - Let's Hummas
DESCRIPTION:Happy hour 2-5pm \nenjoy any wrap and drink just for $9.99
URL:https://uptownsj.com/event/happy-hour-lets-hummas/2026-04-30/
LOCATION:LET’S HUMMUS\, 44 water street\, Saint john\, E2L 1J9
CATEGORIES:Restaurant Specials,Specials
ATTACH;FMTTYPE=image/jpeg:https://uptownsj.com/wp-content/uploads/2025/07/610f3321-e054-4223-9321-0ebe6ceb0882.jpeg
ORGANIZER;CN="Anuj Bansal":MAILTO:Letshummus@outlook.com
END:VEVENT
BEGIN:VEVENT
DTSTART;TZID=America/Halifax:20260430T180000
DTEND;TZID=America/Halifax:20260430T200000
DTSTAMP:20260421T125554
CREATED:20250617T133125Z
LAST-MODIFIED:20250617T133125Z
UID:10012657-1777572000-1777579200@uptownsj.com
SUMMARY:Dino Light
DESCRIPTION:$45 adult | $40 member | $30 youth | $120 family\nDINO-LIGHT\, formerly known as Darwin the Dinosaur\, was the recipient of the prestigious Jim Henson Foundation Grant and first feature-length theatrical production created and performed by creators Ian Carney and Corbin Popp. \nIn this original storyline\, a famous scientist with magic powers brings a friendly dinosaur to life. When the dinosaur wanders away from home\, he discovers a wonderful world full of creatures that light up the darkness and help him find the true meaning of love. \nThis glow-in-the-dark adventure is visually amazing and has been praised for its cutting edge blend of puppetry\, technology and dance by audiences all over the world.
URL:https://uptownsj.com/event/dino-light/
LOCATION:Imperial Theatre\, 12 King Square S.\, Saint John
CATEGORIES:Theatre
ATTACH;FMTTYPE=image/png:https://uptownsj.com/wp-content/uploads/2025/06/Dino-Light.png
END:VEVENT
BEGIN:VEVENT
DTSTART;TZID=America/Halifax:20260430T200000
DTEND;TZID=America/Halifax:20260430T230000
DTSTAMP:20260421T125554
CREATED:20260114T172242Z
LAST-MODIFIED:20260416T182655Z
UID:10029530-1777579200-1777590000@uptownsj.com
SUMMARY:After Eight @ Britt's 1
DESCRIPTION:Anytime After 8pm Monday-Saturday get a ½ Nacho + two 20oz Moosehead draught for only $20
URL:https://uptownsj.com/event/after-eight-britts/2026-04-30/
LOCATION:NB
CATEGORIES:Restaurant Specials
ATTACH;FMTTYPE=image/png:https://uptownsj.com/wp-content/uploads/2026/01/AFTER-EIGHT.png
END:VEVENT
BEGIN:VEVENT
DTSTART;TZID=America/Halifax:20260430T210000
DTEND;TZID=America/Halifax:20260501T000000
DTSTAMP:20260421T125554
CREATED:20250819T121248Z
LAST-MODIFIED:20250819T121248Z
UID:10014145-1777582800-1777593600@uptownsj.com
SUMMARY:Sarahtonein at O’Leary’s Pub
DESCRIPTION:Thursdays just got a whole lot better! Sarahtonein is taking the stage with raw vocals and infectious energy\, serving up a night full of music\, laughs\, and East Coast charm. Come for the tunes\, stay for the good times—and don’t forget your pint! \n19+ | No cover charge
URL:https://uptownsj.com/event/sarahtonein-at-olearys-pub/2026-04-30/
LOCATION:O’Leary’s Pub\, 46 Princess Street\, Saint John\, E2L 1K2
CATEGORIES:Live Music
ATTACH;FMTTYPE=image/png:https://uptownsj.com/wp-content/uploads/2025/08/Thursday-Sarahtonein.png
ORGANIZER;CN="O'Leary's Pub":MAILTO:olearyspub@gmail.com
END:VEVENT
END:VCALENDAR