BEGIN:VCALENDAR
VERSION:2.0
PRODID:-//Uptown Saint John - ECPv6.15.20//NONSGML v1.0//EN
CALSCALE:GREGORIAN
METHOD:PUBLISH
X-WR-CALNAME:Uptown Saint John
X-ORIGINAL-URL:https://uptownsj.com
X-WR-CALDESC:Events for Uptown Saint John
REFRESH-INTERVAL;VALUE=DURATION:PT1H
X-Robots-Tag:noindex
X-PUBLISHED-TTL:PT1H
BEGIN:VTIMEZONE
TZID:America/Halifax
BEGIN:DAYLIGHT
TZOFFSETFROM:-0400
TZOFFSETTO:-0300
TZNAME:ADT
DTSTART:20250309T060000
END:DAYLIGHT
BEGIN:STANDARD
TZOFFSETFROM:-0300
TZOFFSETTO:-0400
TZNAME:AST
DTSTART:20251102T050000
END:STANDARD
BEGIN:DAYLIGHT
TZOFFSETFROM:-0400
TZOFFSETTO:-0300
TZNAME:ADT
DTSTART:20260308T060000
END:DAYLIGHT
BEGIN:STANDARD
TZOFFSETFROM:-0300
TZOFFSETTO:-0400
TZNAME:AST
DTSTART:20261101T050000
END:STANDARD
BEGIN:DAYLIGHT
TZOFFSETFROM:-0400
TZOFFSETTO:-0300
TZNAME:ADT
DTSTART:20270314T060000
END:DAYLIGHT
BEGIN:STANDARD
TZOFFSETFROM:-0300
TZOFFSETTO:-0400
TZNAME:AST
DTSTART:20271107T050000
END:STANDARD
END:VTIMEZONE
BEGIN:VEVENT
DTSTART;TZID=America/Halifax:20260424T080000
DTEND;TZID=America/Halifax:20260424T170000
DTSTAMP:20260420T091453
CREATED:20260227T125622Z
LAST-MODIFIED:20260227T125622Z
UID:10027198-1777017600-1777050000@uptownsj.com
SUMMARY:THE MASTER BUILDER
DESCRIPTION:April 21-26 | BMO STUDIO THEATRE\, 112 PRINCESS ST\nFeaturing R.H. Thomson. Directed by Richard Rose.\n\nTHE MASTER BUILDER\nAmbition. Control. Abuse. Collapse.\nIn a moment when stories of power and manipulation dominate the headlines\, The Master Builder is a timeless—and strikingly relevant—drama.\nThe Master Builder follows an aging architect\, haunted by past choices and terrified of being replaced\, whose world unravels when a bold young woman challenges everything he believes. A tense\, gripping story of ambition\, desire\, and emotional abuse that resonates today more than ever.\n📅 April 21–26\, 2026\n🎟 Tickets: www.atlanticrep.ca | 506‑652‑7582\nA raw\, unforgettable drama of power\, obsession\, and the cost of control.
URL:https://uptownsj.com/event/the-master-builder/2026-04-24/
LOCATION:The BMO Studio Theatre\, 112 Princess St\, 112 Princess St\, Saint John\, NB\, E2L 1K4\, Canada
CATEGORIES:Theatre
ATTACH;FMTTYPE=image/jpeg:https://uptownsj.com/wp-content/uploads/2026/02/MasterSPSQ.jpg
ORGANIZER;CN="Saint John Theatre Company":MAILTO:lise.driscoll@saintjohntheatrecompany.com
END:VEVENT
BEGIN:VEVENT
DTSTART;TZID=America/Halifax:20260424T140000
DTEND;TZID=America/Halifax:20260424T170000
DTSTAMP:20260420T091453
CREATED:20250728T135016Z
LAST-MODIFIED:20250728T135016Z
UID:10013440-1777039200-1777050000@uptownsj.com
SUMMARY:Happy hour - Let's Hummas
DESCRIPTION:Happy hour 2-5pm \nenjoy any wrap and drink just for $9.99
URL:https://uptownsj.com/event/happy-hour-lets-hummas/2026-04-24/
LOCATION:LET’S HUMMUS\, 44 water street\, Saint john\, E2L 1J9
CATEGORIES:Restaurant Specials,Specials
ATTACH;FMTTYPE=image/jpeg:https://uptownsj.com/wp-content/uploads/2025/07/610f3321-e054-4223-9321-0ebe6ceb0882.jpeg
ORGANIZER;CN="Anuj Bansal":MAILTO:Letshummus@outlook.com
END:VEVENT
BEGIN:VEVENT
DTSTART;TZID=America/Halifax:20260424T163000
DTEND;TZID=America/Halifax:20260424T183000
DTSTAMP:20260420T091453
CREATED:20260105T130337Z
LAST-MODIFIED:20260105T175603Z
UID:10016780-1777048200-1777055400@uptownsj.com
SUMMARY:MIX Live Music and Cocktails Friday
DESCRIPTION:A vibrant Friday night gathering featuring live performances from talented local musicians paired with an exclusive cocktail and bites menu\, designed to elevate the weekend experience. This event will celebrate community\, music\, and hospitality\, while showcasing Saint John’s best local talent in an upscale yet inviting setting. Located at the Mezzanine level of Delta Hotels by Marriott Saint John.
URL:https://uptownsj.com/event/mix-live-music-and-cocktails-friday/2026-04-24/
LOCATION:MIX Resto | Bar\, 39 King Street\, Saint John\, E2L 4W3\, Canada
CATEGORIES:Live Music
ATTACH;FMTTYPE=image/jpeg:https://uptownsj.com/wp-content/uploads/2026/01/MIX.jpg
END:VEVENT
BEGIN:VEVENT
DTSTART;TZID=America/Halifax:20260424T200000
DTEND;TZID=America/Halifax:20260424T230000
DTSTAMP:20260420T091453
CREATED:20260114T172242Z
LAST-MODIFIED:20260416T182655Z
UID:10029526-1777060800-1777071600@uptownsj.com
SUMMARY:After Eight @ Britt's 1
DESCRIPTION:Anytime After 8pm Monday-Saturday get a ½ Nacho + two 20oz Moosehead draught for only $20
URL:https://uptownsj.com/event/after-eight-britts/2026-04-24/
CATEGORIES:Restaurant Specials
ATTACH;FMTTYPE=image/png:https://uptownsj.com/wp-content/uploads/2026/01/AFTER-EIGHT.png
END:VEVENT
END:VCALENDAR