BEGIN:VCALENDAR
VERSION:2.0
PRODID:-//Uptown Saint John - ECPv6.15.20//NONSGML v1.0//EN
CALSCALE:GREGORIAN
METHOD:PUBLISH
X-WR-CALNAME:Uptown Saint John
X-ORIGINAL-URL:https://uptownsj.com
X-WR-CALDESC:Events for Uptown Saint John
REFRESH-INTERVAL;VALUE=DURATION:PT1H
X-Robots-Tag:noindex
X-PUBLISHED-TTL:PT1H
BEGIN:VTIMEZONE
TZID:America/Halifax
BEGIN:DAYLIGHT
TZOFFSETFROM:-0400
TZOFFSETTO:-0300
TZNAME:ADT
DTSTART:20250309T060000
END:DAYLIGHT
BEGIN:STANDARD
TZOFFSETFROM:-0300
TZOFFSETTO:-0400
TZNAME:AST
DTSTART:20251102T050000
END:STANDARD
BEGIN:DAYLIGHT
TZOFFSETFROM:-0400
TZOFFSETTO:-0300
TZNAME:ADT
DTSTART:20260308T060000
END:DAYLIGHT
BEGIN:STANDARD
TZOFFSETFROM:-0300
TZOFFSETTO:-0400
TZNAME:AST
DTSTART:20261101T050000
END:STANDARD
BEGIN:DAYLIGHT
TZOFFSETFROM:-0400
TZOFFSETTO:-0300
TZNAME:ADT
DTSTART:20270314T060000
END:DAYLIGHT
BEGIN:STANDARD
TZOFFSETFROM:-0300
TZOFFSETTO:-0400
TZNAME:AST
DTSTART:20271107T050000
END:STANDARD
END:VTIMEZONE
BEGIN:VEVENT
DTSTART;VALUE=DATE:20260423
DTEND;VALUE=DATE:20260424
DTSTAMP:20260423T113926
CREATED:20250729T175547Z
LAST-MODIFIED:20250729T175547Z
UID:10013605-1776902400-1776988799@uptownsj.com
SUMMARY:Beer Bread's 5\,6\,7\,10 Thursdays with Live Music
DESCRIPTION:Every Thursday Beer Bread restaurant offers Happy Hour all-day & all-night! \n$5 – 14oz Draught Beers \n$6 – 6oz Wine (Red\, White\, Rosé) \n$7 – BB Old Fashioned Cocktails \n$10 – Small Bites (All our small plate appetizers will be featured for $10) \nWe also will be offering the music stylings of Jamie Wright from 5:30pm-8:30pm.
URL:https://uptownsj.com/event/beer-breads-56710-thursdays-with-live-music/2026-04-23/
LOCATION:Beer Bread\, 7 Market Square\, Saint John\, E2l 1e8
CATEGORIES:Restaurant Specials,Specials
ATTACH;FMTTYPE=image/png:https://uptownsj.com/wp-content/uploads/2025/07/1.png
END:VEVENT
BEGIN:VEVENT
DTSTART;TZID=America/Halifax:20260423T080000
DTEND;TZID=America/Halifax:20260423T170000
DTSTAMP:20260423T113926
CREATED:20260227T125622Z
LAST-MODIFIED:20260227T125622Z
UID:10027197-1776931200-1776963600@uptownsj.com
SUMMARY:THE MASTER BUILDER
DESCRIPTION:April 21-26 | BMO STUDIO THEATRE\, 112 PRINCESS ST\nFeaturing R.H. Thomson. Directed by Richard Rose.\n\nTHE MASTER BUILDER\nAmbition. Control. Abuse. Collapse.\nIn a moment when stories of power and manipulation dominate the headlines\, The Master Builder is a timeless—and strikingly relevant—drama.\nThe Master Builder follows an aging architect\, haunted by past choices and terrified of being replaced\, whose world unravels when a bold young woman challenges everything he believes. A tense\, gripping story of ambition\, desire\, and emotional abuse that resonates today more than ever.\n📅 April 21–26\, 2026\n🎟 Tickets: www.atlanticrep.ca | 506‑652‑7582\nA raw\, unforgettable drama of power\, obsession\, and the cost of control.
URL:https://uptownsj.com/event/the-master-builder/2026-04-23/
LOCATION:The BMO Studio Theatre\, 112 Princess St\, 112 Princess St\, Saint John\, NB\, E2L 1K4\, Canada
CATEGORIES:Theatre
ATTACH;FMTTYPE=image/jpeg:https://uptownsj.com/wp-content/uploads/2026/02/MasterSPSQ.jpg
ORGANIZER;CN="Saint John Theatre Company":MAILTO:lise.driscoll@saintjohntheatrecompany.com
END:VEVENT
BEGIN:VEVENT
DTSTART;TZID=America/Halifax:20260423T140000
DTEND;TZID=America/Halifax:20260423T170000
DTSTAMP:20260423T113926
CREATED:20250728T135016Z
LAST-MODIFIED:20250728T135016Z
UID:10013439-1776952800-1776963600@uptownsj.com
SUMMARY:Happy hour - Let's Hummas
DESCRIPTION:Happy hour 2-5pm \nenjoy any wrap and drink just for $9.99
URL:https://uptownsj.com/event/happy-hour-lets-hummas/2026-04-23/
LOCATION:LET’S HUMMUS\, 44 water street\, Saint john\, E2L 1J9
CATEGORIES:Restaurant Specials,Specials
ATTACH;FMTTYPE=image/jpeg:https://uptownsj.com/wp-content/uploads/2025/07/610f3321-e054-4223-9321-0ebe6ceb0882.jpeg
ORGANIZER;CN="Anuj Bansal":MAILTO:Letshummus@outlook.com
END:VEVENT
BEGIN:VEVENT
DTSTART;TZID=America/Halifax:20260423T200000
DTEND;TZID=America/Halifax:20260423T230000
DTSTAMP:20260423T113926
CREATED:20260114T172242Z
LAST-MODIFIED:20260416T182655Z
UID:10029525-1776974400-1776985200@uptownsj.com
SUMMARY:After Eight @ Britt's 1
DESCRIPTION:Anytime After 8pm Monday-Saturday get a ½ Nacho + two 20oz Moosehead draught for only $20
URL:https://uptownsj.com/event/after-eight-britts/2026-04-23/
LOCATION:NB
CATEGORIES:Restaurant Specials
ATTACH;FMTTYPE=image/png:https://uptownsj.com/wp-content/uploads/2026/01/AFTER-EIGHT.png
END:VEVENT
BEGIN:VEVENT
DTSTART;TZID=America/Halifax:20260423T210000
DTEND;TZID=America/Halifax:20260424T000000
DTSTAMP:20260423T113926
CREATED:20250819T121248Z
LAST-MODIFIED:20250819T121248Z
UID:10014144-1776978000-1776988800@uptownsj.com
SUMMARY:Sarahtonein at O’Leary’s Pub
DESCRIPTION:Thursdays just got a whole lot better! Sarahtonein is taking the stage with raw vocals and infectious energy\, serving up a night full of music\, laughs\, and East Coast charm. Come for the tunes\, stay for the good times—and don’t forget your pint! \n19+ | No cover charge
URL:https://uptownsj.com/event/sarahtonein-at-olearys-pub/2026-04-23/
LOCATION:O’Leary’s Pub\, 46 Princess Street\, Saint John\, E2L 1K2
CATEGORIES:Live Music
ATTACH;FMTTYPE=image/png:https://uptownsj.com/wp-content/uploads/2025/08/Thursday-Sarahtonein.png
ORGANIZER;CN="O'Leary's Pub":MAILTO:olearyspub@gmail.com
END:VEVENT
END:VCALENDAR