BEGIN:VCALENDAR
VERSION:2.0
PRODID:-//Uptown Saint John - ECPv6.15.20//NONSGML v1.0//EN
CALSCALE:GREGORIAN
METHOD:PUBLISH
X-WR-CALNAME:Uptown Saint John
X-ORIGINAL-URL:https://uptownsj.com
X-WR-CALDESC:Events for Uptown Saint John
REFRESH-INTERVAL;VALUE=DURATION:PT1H
X-Robots-Tag:noindex
X-PUBLISHED-TTL:PT1H
BEGIN:VTIMEZONE
TZID:America/Halifax
BEGIN:DAYLIGHT
TZOFFSETFROM:-0400
TZOFFSETTO:-0300
TZNAME:ADT
DTSTART:20250309T060000
END:DAYLIGHT
BEGIN:STANDARD
TZOFFSETFROM:-0300
TZOFFSETTO:-0400
TZNAME:AST
DTSTART:20251102T050000
END:STANDARD
BEGIN:DAYLIGHT
TZOFFSETFROM:-0400
TZOFFSETTO:-0300
TZNAME:ADT
DTSTART:20260308T060000
END:DAYLIGHT
BEGIN:STANDARD
TZOFFSETFROM:-0300
TZOFFSETTO:-0400
TZNAME:AST
DTSTART:20261101T050000
END:STANDARD
BEGIN:DAYLIGHT
TZOFFSETFROM:-0400
TZOFFSETTO:-0300
TZNAME:ADT
DTSTART:20270314T060000
END:DAYLIGHT
BEGIN:STANDARD
TZOFFSETFROM:-0300
TZOFFSETTO:-0400
TZNAME:AST
DTSTART:20271107T050000
END:STANDARD
END:VTIMEZONE
BEGIN:VEVENT
DTSTART;TZID=America/Halifax:20260421T080000
DTEND;TZID=America/Halifax:20260421T170000
DTSTAMP:20260421T030039
CREATED:20260227T125622Z
LAST-MODIFIED:20260227T125622Z
UID:10027195-1776758400-1776790800@uptownsj.com
SUMMARY:THE MASTER BUILDER
DESCRIPTION:April 21-26 | BMO STUDIO THEATRE\, 112 PRINCESS ST\nFeaturing R.H. Thomson. Directed by Richard Rose.\n\nTHE MASTER BUILDER\nAmbition. Control. Abuse. Collapse.\nIn a moment when stories of power and manipulation dominate the headlines\, The Master Builder is a timeless—and strikingly relevant—drama.\nThe Master Builder follows an aging architect\, haunted by past choices and terrified of being replaced\, whose world unravels when a bold young woman challenges everything he believes. A tense\, gripping story of ambition\, desire\, and emotional abuse that resonates today more than ever.\n📅 April 21–26\, 2026\n🎟 Tickets: www.atlanticrep.ca | 506‑652‑7582\nA raw\, unforgettable drama of power\, obsession\, and the cost of control.
URL:https://uptownsj.com/event/the-master-builder/2026-04-21/
LOCATION:The BMO Studio Theatre\, 112 Princess St\, 112 Princess St\, Saint John\, NB\, E2L 1K4\, Canada
CATEGORIES:Theatre
ATTACH;FMTTYPE=image/jpeg:https://uptownsj.com/wp-content/uploads/2026/02/MasterSPSQ.jpg
ORGANIZER;CN="Saint John Theatre Company":MAILTO:lise.driscoll@saintjohntheatrecompany.com
END:VEVENT
BEGIN:VEVENT
DTSTART;TZID=America/Halifax:20260421T140000
DTEND;TZID=America/Halifax:20260421T170000
DTSTAMP:20260421T030039
CREATED:20250728T135016Z
LAST-MODIFIED:20250728T135016Z
UID:10013437-1776780000-1776790800@uptownsj.com
SUMMARY:Happy hour - Let's Hummas
DESCRIPTION:Happy hour 2-5pm \nenjoy any wrap and drink just for $9.99
URL:https://uptownsj.com/event/happy-hour-lets-hummas/2026-04-21/
LOCATION:LET’S HUMMUS\, 44 water street\, Saint john\, E2L 1J9
CATEGORIES:Restaurant Specials,Specials
ATTACH;FMTTYPE=image/jpeg:https://uptownsj.com/wp-content/uploads/2025/07/610f3321-e054-4223-9321-0ebe6ceb0882.jpeg
ORGANIZER;CN="Anuj Bansal":MAILTO:Letshummus@outlook.com
END:VEVENT
BEGIN:VEVENT
DTSTART;TZID=America/Halifax:20260421T180000
DTEND;TZID=America/Halifax:20260421T210000
DTSTAMP:20260421T030039
CREATED:20260416T184522Z
LAST-MODIFIED:20260416T184522Z
UID:10029549-1776794400-1776805200@uptownsj.com
SUMMARY:Dining in the Dark
DESCRIPTION:
URL:https://uptownsj.com/event/dining-in-the-dark/2026-04-21/
LOCATION:Suwanna\, 96 Germain Street
ATTACH;FMTTYPE=image/jpeg:https://uptownsj.com/wp-content/uploads/2026/04/670155118_10162863204427197_8271440187362973498_n.jpg
END:VEVENT
BEGIN:VEVENT
DTSTART;TZID=America/Halifax:20260421T200000
DTEND;TZID=America/Halifax:20260421T230000
DTSTAMP:20260421T030039
CREATED:20260114T172242Z
LAST-MODIFIED:20260416T182655Z
UID:10029523-1776801600-1776812400@uptownsj.com
SUMMARY:After Eight @ Britt's 1
DESCRIPTION:Anytime After 8pm Monday-Saturday get a ½ Nacho + two 20oz Moosehead draught for only $20
URL:https://uptownsj.com/event/after-eight-britts/2026-04-21/
LOCATION:New Brunswick
CATEGORIES:Restaurant Specials
ATTACH;FMTTYPE=image/png:https://uptownsj.com/wp-content/uploads/2026/01/AFTER-EIGHT.png
END:VEVENT
END:VCALENDAR