BEGIN:VCALENDAR
VERSION:2.0
PRODID:-//Uptown Saint John - ECPv6.15.20//NONSGML v1.0//EN
CALSCALE:GREGORIAN
METHOD:PUBLISH
X-WR-CALNAME:Uptown Saint John
X-ORIGINAL-URL:https://uptownsj.com
X-WR-CALDESC:Events for Uptown Saint John
REFRESH-INTERVAL;VALUE=DURATION:PT1H
X-Robots-Tag:noindex
X-PUBLISHED-TTL:PT1H
BEGIN:VTIMEZONE
TZID:America/Halifax
BEGIN:DAYLIGHT
TZOFFSETFROM:-0400
TZOFFSETTO:-0300
TZNAME:ADT
DTSTART:20250309T060000
END:DAYLIGHT
BEGIN:STANDARD
TZOFFSETFROM:-0300
TZOFFSETTO:-0400
TZNAME:AST
DTSTART:20251102T050000
END:STANDARD
BEGIN:DAYLIGHT
TZOFFSETFROM:-0400
TZOFFSETTO:-0300
TZNAME:ADT
DTSTART:20260308T060000
END:DAYLIGHT
BEGIN:STANDARD
TZOFFSETFROM:-0300
TZOFFSETTO:-0400
TZNAME:AST
DTSTART:20261101T050000
END:STANDARD
BEGIN:DAYLIGHT
TZOFFSETFROM:-0400
TZOFFSETTO:-0300
TZNAME:ADT
DTSTART:20270314T060000
END:DAYLIGHT
BEGIN:STANDARD
TZOFFSETFROM:-0300
TZOFFSETTO:-0400
TZNAME:AST
DTSTART:20271107T050000
END:STANDARD
END:VTIMEZONE
BEGIN:VEVENT
DTSTART;TZID=America/Halifax:20260420T140000
DTEND;TZID=America/Halifax:20260420T170000
DTSTAMP:20260420T042329
CREATED:20250728T135016Z
LAST-MODIFIED:20250728T135016Z
UID:10013436-1776693600-1776704400@uptownsj.com
SUMMARY:Happy hour - Let's Hummas
DESCRIPTION:Happy hour 2-5pm \nenjoy any wrap and drink just for $9.99
URL:https://uptownsj.com/event/happy-hour-lets-hummas/2026-04-20/
LOCATION:LET’S HUMMUS\, 44 water street\, Saint john\, E2L 1J9
CATEGORIES:Restaurant Specials,Specials
ATTACH;FMTTYPE=image/jpeg:https://uptownsj.com/wp-content/uploads/2025/07/610f3321-e054-4223-9321-0ebe6ceb0882.jpeg
ORGANIZER;CN="Anuj Bansal":MAILTO:Letshummus@outlook.com
END:VEVENT
BEGIN:VEVENT
DTSTART;TZID=America/Halifax:20260420T180000
DTEND;TZID=America/Halifax:20260420T210000
DTSTAMP:20260420T042329
CREATED:20260416T184522Z
LAST-MODIFIED:20260416T184522Z
UID:10029548-1776708000-1776718800@uptownsj.com
SUMMARY:Dining in the Dark
DESCRIPTION:
URL:https://uptownsj.com/event/dining-in-the-dark/2026-04-20/
LOCATION:Suwanna\, 96 Germain Street
ATTACH;FMTTYPE=image/jpeg:https://uptownsj.com/wp-content/uploads/2026/04/670155118_10162863204427197_8271440187362973498_n.jpg
END:VEVENT
BEGIN:VEVENT
DTSTART;TZID=America/Halifax:20260420T200000
DTEND;TZID=America/Halifax:20260420T230000
DTSTAMP:20260420T042329
CREATED:20260114T172242Z
LAST-MODIFIED:20260416T182655Z
UID:10025627-1776715200-1776726000@uptownsj.com
SUMMARY:After Eight @ Britt's 1
DESCRIPTION:Anytime After 8pm Monday-Saturday get a ½ Nacho + two 20oz Moosehead draught for only $20
URL:https://uptownsj.com/event/after-eight-britts/2026-04-20/
CATEGORIES:Restaurant Specials
ATTACH;FMTTYPE=image/png:https://uptownsj.com/wp-content/uploads/2026/01/AFTER-EIGHT.png
END:VEVENT
END:VCALENDAR