BEGIN:VCALENDAR
VERSION:2.0
PRODID:-//Uptown Saint John - ECPv6.15.20//NONSGML v1.0//EN
CALSCALE:GREGORIAN
METHOD:PUBLISH
X-WR-CALNAME:Uptown Saint John
X-ORIGINAL-URL:https://uptownsj.com
X-WR-CALDESC:Events for Uptown Saint John
REFRESH-INTERVAL;VALUE=DURATION:PT1H
X-Robots-Tag:noindex
X-PUBLISHED-TTL:PT1H
BEGIN:VTIMEZONE
TZID:America/Halifax
BEGIN:DAYLIGHT
TZOFFSETFROM:-0400
TZOFFSETTO:-0300
TZNAME:ADT
DTSTART:20250309T060000
END:DAYLIGHT
BEGIN:STANDARD
TZOFFSETFROM:-0300
TZOFFSETTO:-0400
TZNAME:AST
DTSTART:20251102T050000
END:STANDARD
BEGIN:DAYLIGHT
TZOFFSETFROM:-0400
TZOFFSETTO:-0300
TZNAME:ADT
DTSTART:20260308T060000
END:DAYLIGHT
BEGIN:STANDARD
TZOFFSETFROM:-0300
TZOFFSETTO:-0400
TZNAME:AST
DTSTART:20261101T050000
END:STANDARD
BEGIN:DAYLIGHT
TZOFFSETFROM:-0400
TZOFFSETTO:-0300
TZNAME:ADT
DTSTART:20270314T060000
END:DAYLIGHT
BEGIN:STANDARD
TZOFFSETFROM:-0300
TZOFFSETTO:-0400
TZNAME:AST
DTSTART:20271107T050000
END:STANDARD
END:VTIMEZONE
BEGIN:VEVENT
DTSTART;TZID=America/Halifax:20260320T120000
DTEND;TZID=America/Halifax:20260322T160000
DTSTAMP:20260419T171159
CREATED:20260211T142511Z
LAST-MODIFIED:20260211T142511Z
UID:10026839-1774008000-1774195200@uptownsj.com
SUMMARY:Saint John Home Show
DESCRIPTION:Saint John Home Show \nMarch 20-22\, 2026 \nThe Saint John Home Show returns March 20-22 at the TD Station! From kitchen and bathrooms to living room and home décor\, get inspired for your next project. Discover everything from basic home improvements and maintenance projects to major renovations and new construction. \nShow Hours: \nFriday\, March 20: Noon-8PM \nSaturday\, March 21: 10AM-6PM \nSunday\, March 22: 10AM-4PM \nAdmission:  \nAdult: $8 \nSenior: $7 \n17 & Under: Free with an accompanied adult \nPurchase tickets here: https://www.universe.com/events/saint-john-home-show-2026-tickets-Q3CPFG?ref=share-widget-buffer \nStay Connected: \nVisit us on Facebook or Instagram for possible ticket offers: \nFacebook: Saint John Home Show \n Instagram: Saint John Home Show \nLearn more at www.SaintJohnHomeShow.ca
URL:https://uptownsj.com/event/saint-john-home-show-3/
LOCATION:TD Station\, 99 Station St\, Saint John\, New Brunswick\, E2L 4X4\, Canada
CATEGORIES:Community
ATTACH;FMTTYPE=image/jpeg:https://uptownsj.com/wp-content/uploads/2026/02/SJHS_26_1200x630_FBHeader.jpg
ORGANIZER;CN="Marketplace Events":MAILTO:kierstenf@mpeshows.com
END:VEVENT
BEGIN:VEVENT
DTSTART;TZID=America/Halifax:20260322T113000
DTEND;TZID=America/Halifax:20260322T133000
DTSTAMP:20260419T171159
CREATED:20251216T133254Z
LAST-MODIFIED:20251216T133254Z
UID:10016377-1774179000-1774186200@uptownsj.com
SUMMARY:Silent Book Club Saint John
DESCRIPTION:At a Silent Book Club\, there are no assigned readings\, just book-loving people reading together in public. We start with a half-hour of socializing\, then we spend an hour of silent reading. We take a photo of all our books\, and then we spend the next half-hour socializing\, go back to reading\, or whatever you’d like. \nIt’s BYOBook! Bring a book\, in any format and treat yourself to an uninterrupted hour of reading with fellow book lovers. Please RSVP at the link provided or email silentbookclub.sj@gmail.com
URL:https://uptownsj.com/event/silent-book-club-saint-john/2026-03-22/
LOCATION:picaroons\, 32 canterbury St.\, Saint John
ATTACH;FMTTYPE=image/jpeg:https://uptownsj.com/wp-content/uploads/2025/12/IMG_0891-scaled.jpeg
END:VEVENT
BEGIN:VEVENT
DTSTART;TZID=America/Halifax:20260322T140000
DTEND;TZID=America/Halifax:20260322T170000
DTSTAMP:20260419T171159
CREATED:20250728T135016Z
LAST-MODIFIED:20250728T135016Z
UID:10013407-1774188000-1774198800@uptownsj.com
SUMMARY:Happy hour - Let's Hummas
DESCRIPTION:Happy hour 2-5pm \nenjoy any wrap and drink just for $9.99
URL:https://uptownsj.com/event/happy-hour-lets-hummas/2026-03-22/
LOCATION:LET’S HUMMUS\, 44 water street\, Saint john\, E2L 1J9
CATEGORIES:Restaurant Specials,Specials
ATTACH;FMTTYPE=image/jpeg:https://uptownsj.com/wp-content/uploads/2025/07/610f3321-e054-4223-9321-0ebe6ceb0882.jpeg
ORGANIZER;CN="Anuj Bansal":MAILTO:Letshummus@outlook.com
END:VEVENT
END:VCALENDAR