BEGIN:VCALENDAR
VERSION:2.0
PRODID:-//Uptown Saint John - ECPv6.15.20//NONSGML v1.0//EN
CALSCALE:GREGORIAN
METHOD:PUBLISH
X-WR-CALNAME:Uptown Saint John
X-ORIGINAL-URL:https://uptownsj.com
X-WR-CALDESC:Events for Uptown Saint John
REFRESH-INTERVAL;VALUE=DURATION:PT1H
X-Robots-Tag:noindex
X-PUBLISHED-TTL:PT1H
BEGIN:VTIMEZONE
TZID:America/Halifax
BEGIN:DAYLIGHT
TZOFFSETFROM:-0400
TZOFFSETTO:-0300
TZNAME:ADT
DTSTART:20240310T060000
END:DAYLIGHT
BEGIN:STANDARD
TZOFFSETFROM:-0300
TZOFFSETTO:-0400
TZNAME:AST
DTSTART:20241103T050000
END:STANDARD
BEGIN:DAYLIGHT
TZOFFSETFROM:-0400
TZOFFSETTO:-0300
TZNAME:ADT
DTSTART:20250309T060000
END:DAYLIGHT
BEGIN:STANDARD
TZOFFSETFROM:-0300
TZOFFSETTO:-0400
TZNAME:AST
DTSTART:20251102T050000
END:STANDARD
BEGIN:DAYLIGHT
TZOFFSETFROM:-0400
TZOFFSETTO:-0300
TZNAME:ADT
DTSTART:20260308T060000
END:DAYLIGHT
BEGIN:STANDARD
TZOFFSETFROM:-0300
TZOFFSETTO:-0400
TZNAME:AST
DTSTART:20261101T050000
END:STANDARD
END:VTIMEZONE
BEGIN:VEVENT
DTSTART;TZID=America/Halifax:20251114T140000
DTEND;TZID=America/Halifax:20251114T170000
DTSTAMP:20260425T175214
CREATED:20250728T135016Z
LAST-MODIFIED:20250728T135016Z
UID:10013279-1763128800-1763139600@uptownsj.com
SUMMARY:Happy hour - Let's Hummas
DESCRIPTION:Happy hour 2-5pm \nenjoy any wrap and drink just for $9.99
URL:https://uptownsj.com/event/happy-hour-lets-hummas/2025-11-14/
LOCATION:LET’S HUMMUS\, 44 water street\, Saint john\, E2L 1J9
CATEGORIES:Restaurant Specials,Specials
ATTACH;FMTTYPE=image/jpeg:https://uptownsj.com/wp-content/uploads/2025/07/610f3321-e054-4223-9321-0ebe6ceb0882.jpeg
ORGANIZER;CN="Anuj Bansal":MAILTO:Letshummus@outlook.com
END:VEVENT
BEGIN:VEVENT
DTSTART;TZID=America/Halifax:20251114T190000
DTEND;TZID=America/Halifax:20251114T210000
DTSTAMP:20260425T175214
CREATED:20250213T150005Z
LAST-MODIFIED:20250213T150005Z
UID:10011083-1763146800-1763154000@uptownsj.com
SUMMARY:Live JAZZ at the Gallery
DESCRIPTION:Every Friday\, from 7 – 9\, join us for an amazing evening of Jazz music and feel like you are in NYC ! Trinity Galleries brings you the best in visual and musical arts in Atlantic Canada.
URL:https://uptownsj.com/event/live-jazz-at-the-gallery/2025-11-14/
LOCATION:Trinity Galleries\, 128 GERMAIN ST.\, SAINT JOHN\, New Brunswick\, E2L 2E7\, Canada
CATEGORIES:Art,Cultural Event,Live Music
ATTACH;FMTTYPE=image/jpeg:https://uptownsj.com/wp-content/uploads/2025/02/IMG_2367-3.jpg
ORGANIZER;CN="Trinity Galleries":MAILTO:art@trintygalleries.ca
END:VEVENT
BEGIN:VEVENT
DTSTART;TZID=America/Halifax:20251114T193000
DTEND;TZID=America/Halifax:20251114T213000
DTSTAMP:20260425T175214
CREATED:20251007T141139Z
LAST-MODIFIED:20251007T141139Z
UID:10015173-1763148600-1763155800@uptownsj.com
SUMMARY:Joel Miller & Friends
DESCRIPTION:Joel Miller & Friends \n A Night of Jazz and Classical  \n  \nNovember 14\, 2025 | 7:30 PM | BMO Studio Theatre \nDon’t miss this incredible night of music! Award-winning Jazz saxophonist Joel Miller teams up with his brother Andrew of Resonance New Music Ensemble\, violinist Dani Sametz\, Joël Cormier\, and a surprise guest on piano. Experience the magical blend of Jazz and classical music along with a few joyful melodies from Joel’s new album What If?
URL:https://uptownsj.com/event/joel-miller-friends/
LOCATION:The BMO Studio Theatre\, 112 Princess St\, 112 Princess St\, Saint John\, NB\, E2L 1K4\, Canada
ATTACH;FMTTYPE=image/jpeg:https://uptownsj.com/wp-content/uploads/2025/10/JoelMillerSocial.jpg
ORGANIZER;CN="Saint John Theatre Company":MAILTO:lise.driscoll@saintjohntheatrecompany.com
END:VEVENT
END:VCALENDAR