BEGIN:VCALENDAR
VERSION:2.0
PRODID:-//Uptown Saint John - ECPv6.15.20//NONSGML v1.0//EN
CALSCALE:GREGORIAN
METHOD:PUBLISH
X-WR-CALNAME:Uptown Saint John
X-ORIGINAL-URL:https://uptownsj.com
X-WR-CALDESC:Events for Uptown Saint John
REFRESH-INTERVAL;VALUE=DURATION:PT1H
X-Robots-Tag:noindex
X-PUBLISHED-TTL:PT1H
BEGIN:VTIMEZONE
TZID:America/Halifax
BEGIN:DAYLIGHT
TZOFFSETFROM:-0400
TZOFFSETTO:-0300
TZNAME:ADT
DTSTART:20240310T060000
END:DAYLIGHT
BEGIN:STANDARD
TZOFFSETFROM:-0300
TZOFFSETTO:-0400
TZNAME:AST
DTSTART:20241103T050000
END:STANDARD
BEGIN:DAYLIGHT
TZOFFSETFROM:-0400
TZOFFSETTO:-0300
TZNAME:ADT
DTSTART:20250309T060000
END:DAYLIGHT
BEGIN:STANDARD
TZOFFSETFROM:-0300
TZOFFSETTO:-0400
TZNAME:AST
DTSTART:20251102T050000
END:STANDARD
BEGIN:DAYLIGHT
TZOFFSETFROM:-0400
TZOFFSETTO:-0300
TZNAME:ADT
DTSTART:20260308T060000
END:DAYLIGHT
BEGIN:STANDARD
TZOFFSETFROM:-0300
TZOFFSETTO:-0400
TZNAME:AST
DTSTART:20261101T050000
END:STANDARD
END:VTIMEZONE
BEGIN:VEVENT
DTSTART;TZID=America/Halifax:20251026T113000
DTEND;TZID=America/Halifax:20251026T133000
DTSTAMP:20260420T180855
CREATED:20250106T131254Z
LAST-MODIFIED:20250106T131254Z
UID:10010554-1761478200-1761485400@uptownsj.com
SUMMARY:Silent Book Club at Picaroons General Store
DESCRIPTION:At a Silent Book Club\, there are no assigned readings\, just book-loving people reading together in public. We start with a half-hour of socializing\, then we spend an hour of silent reading. We take a photo of all our books\, and then we spend the next half-hour socializing\, go back to reading\, or whatever you’d like. \nIt’s BYOBook! Bring a book\, in any format and treat yourself to an uninterrupted hour of reading with fellow book lovers. Please RSVP at the link provided or email silentbookclub.sj@gmail.com
URL:https://uptownsj.com/event/silent-book-club-at-picaroons-general-store-6/2025-10-26/
LOCATION:picaroons\, 32 canterbury St.\, Saint John
CATEGORIES:Community
END:VEVENT
BEGIN:VEVENT
DTSTART;TZID=America/Halifax:20251026T140000
DTEND;TZID=America/Halifax:20251026T170000
DTSTAMP:20260420T180855
CREATED:20250728T135016Z
LAST-MODIFIED:20250728T135016Z
UID:10013260-1761487200-1761498000@uptownsj.com
SUMMARY:Happy hour - Let's Hummas
DESCRIPTION:Happy hour 2-5pm \nenjoy any wrap and drink just for $9.99
URL:https://uptownsj.com/event/happy-hour-lets-hummas/2025-10-26/
LOCATION:LET’S HUMMUS\, 44 water street\, Saint john\, E2L 1J9
CATEGORIES:Restaurant Specials,Specials
ATTACH;FMTTYPE=image/jpeg:https://uptownsj.com/wp-content/uploads/2025/07/610f3321-e054-4223-9321-0ebe6ceb0882.jpeg
ORGANIZER;CN="Anuj Bansal":MAILTO:Letshummus@outlook.com
END:VEVENT
BEGIN:VEVENT
DTSTART;TZID=America/Halifax:20251026T193000
DTEND;TZID=America/Halifax:20251026T220000
DTSTAMP:20260420T180855
CREATED:20250911T123142Z
LAST-MODIFIED:20250911T123142Z
UID:10014395-1761507000-1761516000@uptownsj.com
SUMMARY:Hells Bells  ACDC Experience!  Sunday Oct 26\,2025  Imperial Theatre Saint John NB
DESCRIPTION:Get Ready For The Greatest Tribute In The World  To  The Music & Legacy Of ACDC \nThe Best Of The Best! \nTickets Now On Sale At  imperialtheatre.ca
URL:https://uptownsj.com/event/hells-bells-acdc-experience-sunday-oct-262025-imperial-theatre-saint-john-nb/
LOCATION:Imperial Theatre\, 12 King Square S.\, Saint John
CATEGORIES:Live Music
ATTACH;FMTTYPE=image/jpeg:https://uptownsj.com/wp-content/uploads/2025/09/hells-bells-4-scaled.jpg
END:VEVENT
END:VCALENDAR