BEGIN:VCALENDAR
VERSION:2.0
PRODID:-//Uptown Saint John - ECPv6.15.20//NONSGML v1.0//EN
CALSCALE:GREGORIAN
METHOD:PUBLISH
X-WR-CALNAME:Uptown Saint John
X-ORIGINAL-URL:https://uptownsj.com
X-WR-CALDESC:Events for Uptown Saint John
REFRESH-INTERVAL;VALUE=DURATION:PT1H
X-Robots-Tag:noindex
X-PUBLISHED-TTL:PT1H
BEGIN:VTIMEZONE
TZID:America/Halifax
BEGIN:DAYLIGHT
TZOFFSETFROM:-0400
TZOFFSETTO:-0300
TZNAME:ADT
DTSTART:20240310T060000
END:DAYLIGHT
BEGIN:STANDARD
TZOFFSETFROM:-0300
TZOFFSETTO:-0400
TZNAME:AST
DTSTART:20241103T050000
END:STANDARD
BEGIN:DAYLIGHT
TZOFFSETFROM:-0400
TZOFFSETTO:-0300
TZNAME:ADT
DTSTART:20250309T060000
END:DAYLIGHT
BEGIN:STANDARD
TZOFFSETFROM:-0300
TZOFFSETTO:-0400
TZNAME:AST
DTSTART:20251102T050000
END:STANDARD
BEGIN:DAYLIGHT
TZOFFSETFROM:-0400
TZOFFSETTO:-0300
TZNAME:ADT
DTSTART:20260308T060000
END:DAYLIGHT
BEGIN:STANDARD
TZOFFSETFROM:-0300
TZOFFSETTO:-0400
TZNAME:AST
DTSTART:20261101T050000
END:STANDARD
END:VTIMEZONE
BEGIN:VEVENT
DTSTART;TZID=America/Halifax:20250428T080000
DTEND;TZID=America/Halifax:20250504T220000
DTSTAMP:20260421T103834
CREATED:20250411T192835Z
LAST-MODIFIED:20250411T193006Z
UID:10011822-1745827200-1746396000@uptownsj.com
SUMMARY:Uptown Burger Week is BACK!
DESCRIPTION:April might be cool\, but Uptown is bringing the burger heat with bold\, flavourful\, and wildly creative burgers from your favourite local restaurants! From April 28 to May 4\, 2025\, Uptown Saint John’s chefs are stacking up next-level creations from classic smash burgers to big\, messy\, mouthwatering masterpieces. 🍔🔥 \nCraving burgers already? Add it to your calendar so you don’t miss out on the ultimate burger adventure happening Uptown! Stay tuned menus will be added as they roll in. \nWhen: April 28 – May 4\, 2025\n Where: Uptown Saint John BIA Restaurants\n Menus will be posted at: https://uptownsj.com/uptown-burger-week \nNew menus will be added to the website as soon as we receive them from the restaurants. \nAn Uptown Saint John BIA marketing initiative cooked up by the collective efforts of Uptown businesses.
URL:https://uptownsj.com/event/uptown-burger-week-is-back/
LOCATION:NB
ATTACH;FMTTYPE=image/png:https://uptownsj.com/wp-content/uploads/2025/04/burger-Week-2025-fb-cover-1280-x-854-px-2.png
END:VEVENT
END:VCALENDAR