BEGIN:VCALENDAR
VERSION:2.0
PRODID:-//Uptown Saint John - ECPv6.15.20//NONSGML v1.0//EN
CALSCALE:GREGORIAN
METHOD:PUBLISH
X-ORIGINAL-URL:https://uptownsj.com
X-WR-CALDESC:Events for Uptown Saint John
REFRESH-INTERVAL;VALUE=DURATION:PT1H
X-Robots-Tag:noindex
X-PUBLISHED-TTL:PT1H
BEGIN:VTIMEZONE
TZID:America/Halifax
BEGIN:DAYLIGHT
TZOFFSETFROM:-0400
TZOFFSETTO:-0300
TZNAME:ADT
DTSTART:20240310T060000
END:DAYLIGHT
BEGIN:STANDARD
TZOFFSETFROM:-0300
TZOFFSETTO:-0400
TZNAME:AST
DTSTART:20241103T050000
END:STANDARD
BEGIN:DAYLIGHT
TZOFFSETFROM:-0400
TZOFFSETTO:-0300
TZNAME:ADT
DTSTART:20250309T060000
END:DAYLIGHT
BEGIN:STANDARD
TZOFFSETFROM:-0300
TZOFFSETTO:-0400
TZNAME:AST
DTSTART:20251102T050000
END:STANDARD
BEGIN:DAYLIGHT
TZOFFSETFROM:-0400
TZOFFSETTO:-0300
TZNAME:ADT
DTSTART:20260308T060000
END:DAYLIGHT
BEGIN:STANDARD
TZOFFSETFROM:-0300
TZOFFSETTO:-0400
TZNAME:AST
DTSTART:20261101T050000
END:STANDARD
END:VTIMEZONE
BEGIN:VEVENT
DTSTART;TZID=America/Halifax:20250422T150000
DTEND;TZID=America/Halifax:20250422T163000
DTSTAMP:20260421T020821
CREATED:20250324T131007Z
LAST-MODIFIED:20250324T131007Z
UID:10011381-1745334000-1745339400@uptownsj.com
SUMMARY:ART CLUB for kids
DESCRIPTION:Tuesdays\, 3pm – 4:30pm starting April 15th \nYouth Art Club\nFor youth age 6 and up: explore a variety of art forms like watercolour\, acrylics\, clay\, collage\, charcoal\, pastels\, mixed media\, and more. \nLed by artist Abigail Reinhart\, with guest local artists to offer support and inspiration. Held in our spacious and safe studio space – parents are welcome to stay or drop off and come back at the end of each session. \nOver the 4 week program\, youth create artwork and host a final art showcase; they invite family/friends/teachers etc and can price and sell their artwork at the show if they choose to. \nAll supplies included. \nStart Date: Tuesday\, April 15th\, 2025\nTime: Tuesdays\, 3pm – 4:30pm\nCost: $200 \nLocation: 87 Canterbury St\, Uptown Saint John\, Suite 301 (no elevator access)
URL:https://uptownsj.com/event/art-club-for-kids/2025-04-22/
LOCATION:Divine Studios\, 87 Canterbury St. Suite 301\, saint john
ATTACH;FMTTYPE=image/png:https://uptownsj.com/wp-content/uploads/2025/03/Screen-Shot-2025-03-20-at-3.09.37-PM.png
END:VEVENT
END:VCALENDAR