BEGIN:VCALENDAR
VERSION:2.0
PRODID:-//Uptown Saint John - ECPv6.15.20//NONSGML v1.0//EN
CALSCALE:GREGORIAN
METHOD:PUBLISH
X-WR-CALNAME:Uptown Saint John
X-ORIGINAL-URL:https://uptownsj.com
X-WR-CALDESC:Events for Uptown Saint John
REFRESH-INTERVAL;VALUE=DURATION:PT1H
X-Robots-Tag:noindex
X-PUBLISHED-TTL:PT1H
BEGIN:VTIMEZONE
TZID:America/Halifax
BEGIN:DAYLIGHT
TZOFFSETFROM:-0400
TZOFFSETTO:-0300
TZNAME:ADT
DTSTART:20240310T060000
END:DAYLIGHT
BEGIN:STANDARD
TZOFFSETFROM:-0300
TZOFFSETTO:-0400
TZNAME:AST
DTSTART:20241103T050000
END:STANDARD
BEGIN:DAYLIGHT
TZOFFSETFROM:-0400
TZOFFSETTO:-0300
TZNAME:ADT
DTSTART:20250309T060000
END:DAYLIGHT
BEGIN:STANDARD
TZOFFSETFROM:-0300
TZOFFSETTO:-0400
TZNAME:AST
DTSTART:20251102T050000
END:STANDARD
BEGIN:DAYLIGHT
TZOFFSETFROM:-0400
TZOFFSETTO:-0300
TZNAME:ADT
DTSTART:20260308T060000
END:DAYLIGHT
BEGIN:STANDARD
TZOFFSETFROM:-0300
TZOFFSETTO:-0400
TZNAME:AST
DTSTART:20261101T050000
END:STANDARD
END:VTIMEZONE
BEGIN:VEVENT
DTSTART;TZID=America/Halifax:20250314T120000
DTEND;TZID=America/Halifax:20250316T200000
DTSTAMP:20260424T212012
CREATED:20250228T132042Z
LAST-MODIFIED:20250228T132042Z
UID:10011333-1741953600-1742155200@uptownsj.com
SUMMARY:Saint John Home Show
DESCRIPTION:https://www.saintjohnhomeshow.ca/ \nThe Saint John Home Show is happening March 14-16 at TD station! It’s a must attend event.   Immerse yourself in the latest products\, engage in insightful conversations with industry experts\, and enrich your knowledge with our inspiring seminars. Whether you’re planning a small update or a major overhaul\, we’ve got you covered. \nFriday\, March 14 Noon-8pm \nSaturday\, March 15 10am-6pm \nSunday\, March 16 10am-4pm
URL:https://uptownsj.com/event/saint-john-home-show-2-2/
LOCATION:TD Station\, 99 Station St\, Saint John\, New Brunswick\, E2L 4X4\, Canada
ATTACH;FMTTYPE=image/jpeg:https://uptownsj.com/wp-content/uploads/2025/02/Saint-John-Home-Show-Insta_Feed_1080x1080-1.jpg
END:VEVENT
BEGIN:VEVENT
DTSTART;TZID=America/Halifax:20250316T090000
DTEND;TZID=America/Halifax:20250316T120000
DTSTAMP:20260424T212012
CREATED:20250306T143512Z
LAST-MODIFIED:20250306T143512Z
UID:10011346-1742115600-1742126400@uptownsj.com
SUMMARY:Pete's Pub Shamrock Shuffle
DESCRIPTION:Fun 3.5 run / walk on Harbour Passage. Meet at Picaroon’s at 9 a.m.\, run at 10 a.m. Register at Alex and Lily’s Shoes\, Run NB\, or on the day. All proceeds to Red Head Stray Cats. $20 entry fee includes free chili. Wear your green and come out for a good cause. Dogs are welcome.
URL:https://uptownsj.com/event/petes-pub-shamrock-shuffle/
LOCATION:picaroons\, 32 canterbury St.\, Saint John
CATEGORIES:Community
END:VEVENT
BEGIN:VEVENT
DTSTART;TZID=America/Halifax:20250316T100000
DTEND;TZID=America/Halifax:20250316T160000
DTSTAMP:20260424T212012
CREATED:20250211T201425Z
LAST-MODIFIED:20250228T131734Z
UID:10011341-1742119200-1742140800@uptownsj.com
SUMMARY:Saint John Home Show
DESCRIPTION:Get ready for the return of the ultimate home event that has been trusted by the region for over 40 years! It’s time to kickstart your spring renovations at the highly anticipated Saint John Home Show\, returning March 14-16 at TD Station. \nFriday\, March 14        Noon-8pm \nSaturday\, March 15    10am-6pm \nSunday\, March 16       10am-4pm  \nAdult Admission: $8 Senior Admission: $6
URL:https://uptownsj.com/event/saint-john-home-show/2025-03-16/
LOCATION:TD Station\, 99 Station St\, Saint John\, New Brunswick\, E2L 4X4\, Canada
ATTACH;FMTTYPE=image/jpeg:https://uptownsj.com/wp-content/uploads/2025/02/Saint-John-Home-Show-Insta_Feed_1080x1080.jpg
END:VEVENT
BEGIN:VEVENT
DTSTART;TZID=America/Halifax:20250316T140000
DTEND;TZID=America/Halifax:20250316T160000
DTSTAMP:20260424T212012
CREATED:20250214T131537Z
LAST-MODIFIED:20250214T131537Z
UID:10011309-1742133600-1742140800@uptownsj.com
SUMMARY:BRIDGE - LIVE at Trinity Galleries
DESCRIPTION:Join us for a special live recording of ‘LIVE at Trinity Galleries’\, the second album by BRIDGE. Over the past four years\, Nick Gummeson and Chad ball have developed an original\, modern approach to Jazz harmony\, which they’ll showcase through fresh takes on Jazz standards\, modern music\, and original compositions. Be part of the energy as they capture this exciting performance in an intimate setting.
URL:https://uptownsj.com/event/bridge-live-at-trinity-galleries/
LOCATION:Trinity Galleries\, 128 GERMAIN ST.\, SAINT JOHN\, New Brunswick\, E2L 2E7\, Canada
CATEGORIES:Live Music
ATTACH;FMTTYPE=image/jpeg:https://uptownsj.com/wp-content/uploads/2025/02/IMG_4115-3.jpg
ORGANIZER;CN="Trinity Galleries":MAILTO:art@trintygalleries.ca
END:VEVENT
END:VCALENDAR