BEGIN:VCALENDAR
VERSION:2.0
PRODID:-//Uptown Saint John - ECPv6.15.20//NONSGML v1.0//EN
CALSCALE:GREGORIAN
METHOD:PUBLISH
X-WR-CALNAME:Uptown Saint John
X-ORIGINAL-URL:https://uptownsj.com
X-WR-CALDESC:Events for Uptown Saint John
REFRESH-INTERVAL;VALUE=DURATION:PT1H
X-Robots-Tag:noindex
X-PUBLISHED-TTL:PT1H
BEGIN:VTIMEZONE
TZID:America/Halifax
BEGIN:DAYLIGHT
TZOFFSETFROM:-0400
TZOFFSETTO:-0300
TZNAME:ADT
DTSTART:20240310T060000
END:DAYLIGHT
BEGIN:STANDARD
TZOFFSETFROM:-0300
TZOFFSETTO:-0400
TZNAME:AST
DTSTART:20241103T050000
END:STANDARD
BEGIN:DAYLIGHT
TZOFFSETFROM:-0400
TZOFFSETTO:-0300
TZNAME:ADT
DTSTART:20250309T060000
END:DAYLIGHT
BEGIN:STANDARD
TZOFFSETFROM:-0300
TZOFFSETTO:-0400
TZNAME:AST
DTSTART:20251102T050000
END:STANDARD
BEGIN:DAYLIGHT
TZOFFSETFROM:-0400
TZOFFSETTO:-0300
TZNAME:ADT
DTSTART:20260308T060000
END:DAYLIGHT
BEGIN:STANDARD
TZOFFSETFROM:-0300
TZOFFSETTO:-0400
TZNAME:AST
DTSTART:20261101T050000
END:STANDARD
END:VTIMEZONE
BEGIN:VEVENT
DTSTART;TZID=America/Halifax:20250308T160000
DTEND;TZID=America/Halifax:20250308T200000
DTSTAMP:20260420T182215
CREATED:20250227T155827Z
LAST-MODIFIED:20250227T155827Z
UID:10011327-1741449600-1741464000@uptownsj.com
SUMMARY:Annual Interfaith Iftar Dinner at Market Square
DESCRIPTION:Everyone is welcome! Whether you’re a local resident or visiting Saint John\, join us for an evening of togetherness\, friendship\, and celebration. Let’s embrace the spirit of Ramadan and strengthen bonds of love and harmony. \nThe Interfaith Iftar is more than just a meal—it’s a powerful symbol of unity\, understanding\, and shared humanity. In a world often divided by differences\, this event brings people of all faiths and backgrounds together to celebrate our common values: compassion\, generosity\, and respect. In 2025\, our Interfaith Iftar Dinner will center around the theme of “Hope and Harmony.” In challenging times\, hope serves as a guiding light\, reminding us of the power of unity and the possibility of a brighter future. Harmony\, on the other hand\, reflects our shared commitment to living together in peace\, respecting one another’s differences\, and celebrating what brings us together. \nDonations are gratefully accepted to support event expenses. Any surplus funds will be graciously donated to Jamiya Riyadhul Jannah Mosque.
URL:https://uptownsj.com/event/annual-interfaith-iftar-dinner-at-market-square/
LOCATION:Market Square Atrium\, 1 Market Square\, Saint John\, New Brunswick\, Canada
CATEGORIES:Community,Cultural Event
ATTACH;FMTTYPE=image/jpeg:https://uptownsj.com/wp-content/uploads/2025/02/Interfaith_2025-scaled.jpeg
END:VEVENT
BEGIN:VEVENT
DTSTART;TZID=America/Halifax:20250308T193000
DTEND;TZID=America/Halifax:20250308T213000
DTSTAMP:20260420T182215
CREATED:20240610T193905Z
LAST-MODIFIED:20240610T193905Z
UID:10007845-1741462200-1741469400@uptownsj.com
SUMMARY:Choir! Choir! Choir!
DESCRIPTION:“Why see a show when you can BE the show!” \nChoir! Choir! Choir! is the fully interactive\, participatory show that turns audience into performer! So get ready to laugh\, dance and SING! your hearts out with hundreds of other music-lovers just like you. It’s like a big birthday party for the greatest songs of all time and you’re invited! \nSo grab a friend (or ten)\, and come out ready to GIVE IT ALL YOU’VE GOT! – all voices welcome\, no experience necessary. They Teach\, You Sing! Everyone Wins! \nThis time\, Choir!Choir!Choir! Presents: We Will CHOIR! You!: An EPIC QUEEN Sing-Along \nWhen it comes to EPIC anthems\, it doesn’t get BIGGER than Queen! And nothing feels better than belting out their biggest hits with a room full of Queen fans! So unleash your inner Freddie Mercury\, grab your best friends and frenemies\, and create harmonies that will blow the roof off the place! We Will CHOIR! You! will be the most fun you’ve had in years… \nSince 2011\, Choir! Choir! Choir! directors Daveed Goldman + Nobu Adilman have blurred the lines between performer and audience\, traveling the world to create harmony with strangers and friends alike. They’ve collaborated with renowned artists like Patti Smith\, David Byrne\, Brandi Carlile\, Rick Astley\, Rufus Wainwright\, and even Kermit The Frog at New York’s Lincoln Center\, creating memorable videos that have garnered views in the millions. Now it’s your turn to SING!\, so grab your friends\, get your tickets and we’ll C! you there! #NeverStopSinging
URL:https://uptownsj.com/event/choir-choir-choir-2/
LOCATION:Imperial Theatre\, 12 King Square S.\, Saint John
CATEGORIES:Live Music,Theatre
END:VEVENT
BEGIN:VEVENT
DTSTART;TZID=America/Halifax:20250308T193000
DTEND;TZID=America/Halifax:20250308T213000
DTSTAMP:20260420T182215
CREATED:20241218T131654Z
LAST-MODIFIED:20241218T131654Z
UID:10010536-1741462200-1741469400@uptownsj.com
SUMMARY:RAINE HAMILTON STRING TRIO
DESCRIPTION:RAINE HAMILTON STRING TRIO\nMARCH 8\, 2025 | BMO STUDIO THEATRE | 7:30 PM \n Experience the one-of-a-kind Raine Hamilton String Trio. Dive into their acoustic chamber folk with an ethereal twist and powerful lyrics. Crystal-clear vocals and strings\, rooted in ancient landscapes and stretching beyond the ordinary. Raine is a prairie songstress and storyteller; each song is paired with tales told with humor and charm. Don’t miss it! Tickets: $35 \n To order visit www.saintjohntheatrecompany.com or call 506-652-7582.
URL:https://uptownsj.com/event/raine-hamilton-string-trio/
LOCATION:The BMO Studio Theatre\, 112 Princess St\, 112 Princess St\, Saint John\, NB\, E2L 1K4\, Canada
CATEGORIES:Live Music
ATTACH;FMTTYPE=image/jpeg:https://uptownsj.com/wp-content/uploads/2024/12/MusicSocial_SM3-just-image.jpg
ORGANIZER;CN="Saint John Theatre Company":MAILTO:lise.driscoll@saintjohntheatrecompany.com
END:VEVENT
END:VCALENDAR