BEGIN:VCALENDAR
VERSION:2.0
PRODID:-//Uptown Saint John - ECPv6.15.20//NONSGML v1.0//EN
CALSCALE:GREGORIAN
METHOD:PUBLISH
X-WR-CALNAME:Uptown Saint John
X-ORIGINAL-URL:https://uptownsj.com
X-WR-CALDESC:Events for Uptown Saint John
REFRESH-INTERVAL;VALUE=DURATION:PT1H
X-Robots-Tag:noindex
X-PUBLISHED-TTL:PT1H
BEGIN:VTIMEZONE
TZID:America/Halifax
BEGIN:DAYLIGHT
TZOFFSETFROM:-0400
TZOFFSETTO:-0300
TZNAME:ADT
DTSTART:20240310T060000
END:DAYLIGHT
BEGIN:STANDARD
TZOFFSETFROM:-0300
TZOFFSETTO:-0400
TZNAME:AST
DTSTART:20241103T050000
END:STANDARD
BEGIN:DAYLIGHT
TZOFFSETFROM:-0400
TZOFFSETTO:-0300
TZNAME:ADT
DTSTART:20250309T060000
END:DAYLIGHT
BEGIN:STANDARD
TZOFFSETFROM:-0300
TZOFFSETTO:-0400
TZNAME:AST
DTSTART:20251102T050000
END:STANDARD
BEGIN:DAYLIGHT
TZOFFSETFROM:-0400
TZOFFSETTO:-0300
TZNAME:ADT
DTSTART:20260308T060000
END:DAYLIGHT
BEGIN:STANDARD
TZOFFSETFROM:-0300
TZOFFSETTO:-0400
TZNAME:AST
DTSTART:20261101T050000
END:STANDARD
END:VTIMEZONE
BEGIN:VEVENT
DTSTART;TZID=America/Halifax:20250305T180000
DTEND;TZID=America/Halifax:20250305T200000
DTSTAMP:20260420T164645
CREATED:20250219T140435Z
LAST-MODIFIED:20250219T140435Z
UID:10011314-1741197600-1741204800@uptownsj.com
SUMMARY:Movies in the loft with Corie Rose
DESCRIPTION:Come enjoy some iconic movies in our loft Uptown Saint John!\nMarch 5th Go home with a tiara after watching princess diaries!\nMarch 6th Create your ‘burn book’ before watching Mean Girls!\nMarch 7th\, the main event! Dress up as your fav character from Clueless\, have an iconic photoshoot before being taken back with Cher and her crew! “As if”\nThis is not a week you’ll want to miss out on! Tickets will go quickly! \nIncluded: popcorn\, drinks\, snacks\, pillow\, blankets\, event supplies
URL:https://uptownsj.com/event/movies-in-the-loft-with-corie-rose/2025-03-05/
LOCATION:Divine Studios\, 87 Canterbury St. Suite 301\, saint john
ATTACH;FMTTYPE=image/jpeg:https://uptownsj.com/wp-content/uploads/2025/02/List-of-Upcoming-Events-Calendar-Instagram-Post-scaled.jpeg
END:VEVENT
BEGIN:VEVENT
DTSTART;TZID=America/Halifax:20250305T183000
DTEND;TZID=America/Halifax:20250305T193000
DTSTAMP:20260420T164645
CREATED:20250227T155613Z
LAST-MODIFIED:20250227T155613Z
UID:10011328-1741199400-1741203000@uptownsj.com
SUMMARY:Free Webinar | Taking Care of Your Art Collection
DESCRIPTION:Do you have questions about insuring your artwork? Or how to store it properly? Can you hang a painting in direct sunlight? \nJoin Jones Auction House specialists for a free webinar about taking care of your art collection! We will talk about living with your artwork (hanging\, storage\, environment factors)\, protecting your collection (when and how to insure your artwork & appraisals)\, and cleaning\, repairing\, and conserving. \nRegister here: https://www.jonesauctions.ca/art-collection \nPresenters: \nCALEB JONES | Jones Auction House President\, ISA AM (International Society of Appraisers Accredited Member) \nSARAH JONES | Jones Auction House Curator\, BA MA Art History
URL:https://uptownsj.com/event/free-webinar-taking-care-of-your-art-collection/
LOCATION:Jones Gallery\, 122 Prince William Street\, Saint John\, NB\, E2L 2B6\, Canada
CATEGORIES:Art
ATTACH;FMTTYPE=image/jpeg:https://uptownsj.com/wp-content/uploads/2025/02/Caleb-and-Sarah-Jones_Maud-Lewis1-1-scaled.jpg
ORGANIZER;CN="Jones Gallery":MAILTO:sarah@jonesgallery.ca
END:VEVENT
BEGIN:VEVENT
DTSTART;TZID=America/Halifax:20250305T190000
DTEND;TZID=America/Halifax:20250305T210000
DTSTAMP:20260420T164646
CREATED:20250227T160144Z
LAST-MODIFIED:20250227T160144Z
UID:10011325-1741201200-1741208400@uptownsj.com
SUMMARY:Solina - Jazz at Wasted Day
DESCRIPTION:Hey Saint John! Solina is back at Wasted Day on March 5. We’re bringing Oscar Peterson. We’re bringing Wayne Shorter. We’re bringing Bill Evans. And we’re even bringing a few of our own recipes for jazz.
URL:https://uptownsj.com/event/solina-jazz-at-wasted-day/
LOCATION:Wasted Day Brewing\, 36 Water Street\, Saint John\, New Brunswick\, E2L 2A5\, Canada
CATEGORIES:Live Music
ATTACH;FMTTYPE=image/png:https://uptownsj.com/wp-content/uploads/2025/02/solina-1-1.png
END:VEVENT
END:VCALENDAR