BEGIN:VCALENDAR
VERSION:2.0
PRODID:-//Uptown Saint John - ECPv6.15.20//NONSGML v1.0//EN
CALSCALE:GREGORIAN
METHOD:PUBLISH
X-WR-CALNAME:Uptown Saint John
X-ORIGINAL-URL:https://uptownsj.com
X-WR-CALDESC:Events for Uptown Saint John
REFRESH-INTERVAL;VALUE=DURATION:PT1H
X-Robots-Tag:noindex
X-PUBLISHED-TTL:PT1H
BEGIN:VTIMEZONE
TZID:America/Halifax
BEGIN:DAYLIGHT
TZOFFSETFROM:-0400
TZOFFSETTO:-0300
TZNAME:ADT
DTSTART:20240310T060000
END:DAYLIGHT
BEGIN:STANDARD
TZOFFSETFROM:-0300
TZOFFSETTO:-0400
TZNAME:AST
DTSTART:20241103T050000
END:STANDARD
BEGIN:DAYLIGHT
TZOFFSETFROM:-0400
TZOFFSETTO:-0300
TZNAME:ADT
DTSTART:20250309T060000
END:DAYLIGHT
BEGIN:STANDARD
TZOFFSETFROM:-0300
TZOFFSETTO:-0400
TZNAME:AST
DTSTART:20251102T050000
END:STANDARD
BEGIN:DAYLIGHT
TZOFFSETFROM:-0400
TZOFFSETTO:-0300
TZNAME:ADT
DTSTART:20260308T060000
END:DAYLIGHT
BEGIN:STANDARD
TZOFFSETFROM:-0300
TZOFFSETTO:-0400
TZNAME:AST
DTSTART:20261101T050000
END:STANDARD
END:VTIMEZONE
BEGIN:VEVENT
DTSTART;TZID=America/Halifax:20250304T130000
DTEND;TZID=America/Halifax:20250304T150000
DTSTAMP:20260420T164646
CREATED:20250116T134044Z
LAST-MODIFIED:20250116T134044Z
UID:10010954-1741093200-1741100400@uptownsj.com
SUMMARY:Mini Pop Kids Live: 20th Anniversary Celebration Tour
DESCRIPTION:The Ultimate Family-Friendly Concert is back with the Mini Pop Kids 20th Anniversary Celebration Tour!  Experience an electrifying lineup featuring chart-toppers from Taylor Swift\, Sabrina Carpenter\, Chappell Roan\,  Billie Eilish\, and some nostalgic classics that will have the entire family singing and dancing together!  This is the can’t-miss event performed by kids\, for kids….and adults too – creating unforgettable memories for everyone!  Join Canada’s #1 music brand for kids as we celebrate 20 spectacular years of family-friendly entertainment.  Mark your calendars and get ready for an extraordinary show that you won’t want to miss!
URL:https://uptownsj.com/event/mini-pop-kids-live-20th-anniversary-celebration-tour/
LOCATION:Imperial Theatre\, 12 King Square S.\, Saint John
CATEGORIES:Live Music
ATTACH;FMTTYPE=image/jpeg:https://uptownsj.com/wp-content/uploads/2025/01/1080-x-1080-3.jpg
END:VEVENT
BEGIN:VEVENT
DTSTART;TZID=America/Halifax:20250304T193000
DTEND;TZID=America/Halifax:20250304T220000
DTSTAMP:20260420T164646
CREATED:20250228T131229Z
LAST-MODIFIED:20250228T131229Z
UID:10011331-1741116600-1741125600@uptownsj.com
SUMMARY:Sam Tudor a& Pallmer at the Saint John Arts Centre
DESCRIPTION:Fredericton’s Pallmer is embarking on a Maritime tour supporting Toronto/Vancouver artist Sam Tudor.  Sam Tudor is an individual\, but also the title of a project involving a large group of friends across Canada. The underpinnings of the songs are genre-less; jazz players join forces with acoustic guitars and gentle synths. What unifies the project is Tudor’s distinct voice: a sandy\, melancholic narrator\, leaning in with confessional and cathartic writing. The Georgia Straight calls the band “a gem\, with a penchant for genuine emotion\, intimacy and everything left field”. \nThis tour will close out two years of tours and shows supporting Pallmer’s debut album “Swimming.”  Nodding to next steps\, the shows will feature sneak peeks into new songs from a forthcoming release. \n\nSaint John Arts Centre – 20 Peel Plaza\, Saint John\, NB E2L 3G67:00PM Doors7:30PM Showtime\n$12 in advance | $15 at the door | pay what you can\n\nFB Link: https://www.facebook.com/share/1J251LEWSX/
URL:https://uptownsj.com/event/sam-tudor-a-pallmer-at-the-saint-john-arts-centre/
LOCATION:Saint John Arts Centre
CATEGORIES:Live Music
ATTACH;FMTTYPE=image/jpeg:https://uptownsj.com/wp-content/uploads/2025/02/MARITIMES-TOUR-SJ.jpg
END:VEVENT
END:VCALENDAR