BEGIN:VCALENDAR
VERSION:2.0
PRODID:-//Uptown Saint John - ECPv6.15.20//NONSGML v1.0//EN
CALSCALE:GREGORIAN
METHOD:PUBLISH
X-WR-CALNAME:Uptown Saint John
X-ORIGINAL-URL:https://uptownsj.com
X-WR-CALDESC:Events for Uptown Saint John
REFRESH-INTERVAL;VALUE=DURATION:PT1H
X-Robots-Tag:noindex
X-PUBLISHED-TTL:PT1H
BEGIN:VTIMEZONE
TZID:America/Halifax
BEGIN:DAYLIGHT
TZOFFSETFROM:-0400
TZOFFSETTO:-0300
TZNAME:ADT
DTSTART:20240310T060000
END:DAYLIGHT
BEGIN:STANDARD
TZOFFSETFROM:-0300
TZOFFSETTO:-0400
TZNAME:AST
DTSTART:20241103T050000
END:STANDARD
BEGIN:DAYLIGHT
TZOFFSETFROM:-0400
TZOFFSETTO:-0300
TZNAME:ADT
DTSTART:20250309T060000
END:DAYLIGHT
BEGIN:STANDARD
TZOFFSETFROM:-0300
TZOFFSETTO:-0400
TZNAME:AST
DTSTART:20251102T050000
END:STANDARD
BEGIN:DAYLIGHT
TZOFFSETFROM:-0400
TZOFFSETTO:-0300
TZNAME:ADT
DTSTART:20260308T060000
END:DAYLIGHT
BEGIN:STANDARD
TZOFFSETFROM:-0300
TZOFFSETTO:-0400
TZNAME:AST
DTSTART:20261101T050000
END:STANDARD
END:VTIMEZONE
BEGIN:VEVENT
DTSTART;VALUE=DATE:20250224
DTEND;VALUE=DATE:20250303
DTSTAMP:20260420T215039
CREATED:20250214T180334Z
LAST-MODIFIED:20250214T192742Z
UID:10011312-1740355200-1740959999@uptownsj.com
SUMMARY:Uptown Taco Week is BACK!
DESCRIPTION:February might be chilly\, but Uptown is bringing the heat with bold\, flavorful\, and creative tacos from your favourite local restaurants! From Feb 24 to Mar 2\, 2025\, Uptown Saint John’s chefs are serving up next-level taco creations\, from classic street-style to adventurous new twists. \n🌮 Craving tacos already? SAVE it in your calendar so you don’t forget about the taco takeover happening Uptown! Stay tuned for menu updates as they roll in. \nFebruary 24 – March 2\, 2025\nUptown Saint John BIA Restaurants\nMenus will be posted at: https://uptownsj.com/uptown-taco-week/ \nNew menus will be added to the website as soon as we receive them from the restaurants. \nAn Uptown Saint John BIA marketing initiative cooked up by the collective efforts of Uptown businesses.
URL:https://uptownsj.com/event/uptown-taco-week-is-back/
LOCATION:New Brunswick
CATEGORIES:Uptown Saint John BIA Event
ATTACH;FMTTYPE=image/png:https://uptownsj.com/wp-content/uploads/2025/02/C-Taco-Week-2025-website-size-1280-x-854-px.png
END:VEVENT
END:VCALENDAR