BEGIN:VCALENDAR
VERSION:2.0
PRODID:-//Uptown Saint John - ECPv6.15.20//NONSGML v1.0//EN
CALSCALE:GREGORIAN
METHOD:PUBLISH
X-WR-CALNAME:Uptown Saint John
X-ORIGINAL-URL:https://uptownsj.com
X-WR-CALDESC:Events for Uptown Saint John
REFRESH-INTERVAL;VALUE=DURATION:PT1H
X-Robots-Tag:noindex
X-PUBLISHED-TTL:PT1H
BEGIN:VTIMEZONE
TZID:America/Halifax
BEGIN:DAYLIGHT
TZOFFSETFROM:-0400
TZOFFSETTO:-0300
TZNAME:ADT
DTSTART:20240310T060000
END:DAYLIGHT
BEGIN:STANDARD
TZOFFSETFROM:-0300
TZOFFSETTO:-0400
TZNAME:AST
DTSTART:20241103T050000
END:STANDARD
BEGIN:DAYLIGHT
TZOFFSETFROM:-0400
TZOFFSETTO:-0300
TZNAME:ADT
DTSTART:20250309T060000
END:DAYLIGHT
BEGIN:STANDARD
TZOFFSETFROM:-0300
TZOFFSETTO:-0400
TZNAME:AST
DTSTART:20251102T050000
END:STANDARD
BEGIN:DAYLIGHT
TZOFFSETFROM:-0400
TZOFFSETTO:-0300
TZNAME:ADT
DTSTART:20260308T060000
END:DAYLIGHT
BEGIN:STANDARD
TZOFFSETFROM:-0300
TZOFFSETTO:-0400
TZNAME:AST
DTSTART:20261101T050000
END:STANDARD
END:VTIMEZONE
BEGIN:VEVENT
DTSTART;TZID=America/Halifax:20250220T183000
DTEND;TZID=America/Halifax:20250220T203000
DTSTAMP:20260421T025357
CREATED:20250128T141441Z
LAST-MODIFIED:20250128T141441Z
UID:10010969-1740076200-1740083400@uptownsj.com
SUMMARY:Pilates n' Paint at DIVINE
DESCRIPTION:Join us for an enjoyable evening filled with movement and creativity at Divine Studio! Here’s what you can look forward to:\n\n\n\nPilates Session: Engage in a series of exercises focused on core strength\, muscle activation\, controlled breathing\, and flexibility. Pilates works various muscle groups and promotes body awareness and improved muscle tone. Grab your yoga mat and join Mackensie for a 30-minute session of Classic Mat Pilates and Relaxation. All experience levels are welcome!\nPost-Pilates Abstract Painting: Unwind and unleash your creativity! Enjoy a relaxed\, low-pressure art session where you’ll explore acrylic paint and mixed media. Choose your color palette\, experiment with various tools\, and benefit from an artist-led demonstration. Paint at your own pace\, express yourself freely\, and take home a unique masterpiece. No prior experience is necessary.\n\nLocation: 87 Canterbury Street uptown\, Suite 301.
URL:https://uptownsj.com/event/pilates-n-paint-at-divine/
LOCATION:Divine Studios\, 87 Canterbury St. Suite 301\, saint john
ATTACH;FMTTYPE=image/jpeg:https://uptownsj.com/wp-content/uploads/2025/01/DIVINE-EVENTS-3.jpg
END:VEVENT
BEGIN:VEVENT
DTSTART;TZID=America/Halifax:20250220T193000
DTEND;TZID=America/Halifax:20250220T213000
DTSTAMP:20260421T025357
CREATED:20241203T143030Z
LAST-MODIFIED:20250107T152230Z
UID:10010156-1740079800-1740087000@uptownsj.com
SUMMARY:The Price
DESCRIPTION:THE PRICE \nBy Arthur Miller \nFebruary 19-22\, 2025 | 7:30 PM| BMO Studio Theatre\, 112 Princess St. \nDirected by Dean Turner \nTickets: $30 \nTo order visit www.saintjohntheatrecompany.com or call 506-652-7582 \nWhen their father’s death reunites estranged brothers Victor and Walter Franz\, the attic of their childhood home transforms into a battleground for long-buried emotions and unresolved conflicts. Victor\, a devoted policeman who sacrificed his future to care for their ailing father\, and Walter\, a successful surgeon who chose his career over family\, are compelled to confront their stormy past. \nThe Price skillfully intertwines elements of empathy\, wit\, and deep insight\, exploring the fragile ties that connect family and the search for hope amidst sorrow. Don’t miss this Tony-nominated treasure that sheds light on the complex dynamics of sibling rivalry and the journey toward reconciliation. \nNominated for two Tony Awards\, including Best Play! \n 
URL:https://uptownsj.com/event/the-price/2025-02-20/
LOCATION:The BMO Studio Theatre\, 112 Princess St\, 112 Princess St\, Saint John\, NB\, E2L 1K4\, Canada
CATEGORIES:Theatre
ATTACH;FMTTYPE=image/jpeg:https://uptownsj.com/wp-content/uploads/2024/12/SM_PRICE.jpg
ORGANIZER;CN="Saint John Theatre Company":MAILTO:lise.driscoll@saintjohntheatrecompany.com
END:VEVENT
END:VCALENDAR