BEGIN:VCALENDAR
VERSION:2.0
PRODID:-//Uptown Saint John - ECPv6.15.20//NONSGML v1.0//EN
CALSCALE:GREGORIAN
METHOD:PUBLISH
X-ORIGINAL-URL:https://uptownsj.com
X-WR-CALDESC:Events for Uptown Saint John
REFRESH-INTERVAL;VALUE=DURATION:PT1H
X-Robots-Tag:noindex
X-PUBLISHED-TTL:PT1H
BEGIN:VTIMEZONE
TZID:America/Halifax
BEGIN:DAYLIGHT
TZOFFSETFROM:-0400
TZOFFSETTO:-0300
TZNAME:ADT
DTSTART:20230312T060000
END:DAYLIGHT
BEGIN:STANDARD
TZOFFSETFROM:-0300
TZOFFSETTO:-0400
TZNAME:AST
DTSTART:20231105T050000
END:STANDARD
BEGIN:DAYLIGHT
TZOFFSETFROM:-0400
TZOFFSETTO:-0300
TZNAME:ADT
DTSTART:20240310T060000
END:DAYLIGHT
BEGIN:STANDARD
TZOFFSETFROM:-0300
TZOFFSETTO:-0400
TZNAME:AST
DTSTART:20241103T050000
END:STANDARD
BEGIN:DAYLIGHT
TZOFFSETFROM:-0400
TZOFFSETTO:-0300
TZNAME:ADT
DTSTART:20250309T060000
END:DAYLIGHT
BEGIN:STANDARD
TZOFFSETFROM:-0300
TZOFFSETTO:-0400
TZNAME:AST
DTSTART:20251102T050000
END:STANDARD
END:VTIMEZONE
BEGIN:VEVENT
DTSTART;TZID=America/Halifax:20241003T183000
DTEND;TZID=America/Halifax:20241003T213000
DTSTAMP:20260419T191230
CREATED:20240826T142858Z
LAST-MODIFIED:20240826T142858Z
UID:10009587-1727980200-1727991000@uptownsj.com
SUMMARY:The Stories and Songs of Stompin' Tom performed by Whiskey Jack
DESCRIPTION:Listen to the stories and songs of local legend\, Stompin’ Tom\, performed by Whiskey Jack.  Advance tickets $30 available at Cuts Unlimited 88 Princess St or contact Club Rewind Productions.  $35 at the door. Doors open 630..show at 715.  Seating first come first serve.
URL:https://uptownsj.com/event/the-stories-and-songs-of-stompin-tom-performed-by-whiskey-jack/
LOCATION:Kent Theatre\, 24 Coburg Street\, Saint John\, New Brunswick\, Canada
CATEGORIES:Live Music
ORGANIZER;CN="Club Rewind Productions":MAILTO:Sara.clubrewind@hotmail.com
END:VEVENT
END:VCALENDAR