BEGIN:VCALENDAR
VERSION:2.0
PRODID:-//Uptown Saint John - ECPv6.15.20//NONSGML v1.0//EN
CALSCALE:GREGORIAN
METHOD:PUBLISH
X-WR-CALNAME:Uptown Saint John
X-ORIGINAL-URL:https://uptownsj.com
X-WR-CALDESC:Events for Uptown Saint John
REFRESH-INTERVAL;VALUE=DURATION:PT1H
X-Robots-Tag:noindex
X-PUBLISHED-TTL:PT1H
BEGIN:VTIMEZONE
TZID:America/Halifax
BEGIN:DAYLIGHT
TZOFFSETFROM:-0400
TZOFFSETTO:-0300
TZNAME:ADT
DTSTART:20230312T060000
END:DAYLIGHT
BEGIN:STANDARD
TZOFFSETFROM:-0300
TZOFFSETTO:-0400
TZNAME:AST
DTSTART:20231105T050000
END:STANDARD
BEGIN:DAYLIGHT
TZOFFSETFROM:-0400
TZOFFSETTO:-0300
TZNAME:ADT
DTSTART:20240310T060000
END:DAYLIGHT
BEGIN:STANDARD
TZOFFSETFROM:-0300
TZOFFSETTO:-0400
TZNAME:AST
DTSTART:20241103T050000
END:STANDARD
BEGIN:DAYLIGHT
TZOFFSETFROM:-0400
TZOFFSETTO:-0300
TZNAME:ADT
DTSTART:20250309T060000
END:DAYLIGHT
BEGIN:STANDARD
TZOFFSETFROM:-0300
TZOFFSETTO:-0400
TZNAME:AST
DTSTART:20251102T050000
END:STANDARD
END:VTIMEZONE
BEGIN:VEVENT
DTSTART;TZID=America/Halifax:20240714T090000
DTEND;TZID=America/Halifax:20240714T130000
DTSTAMP:20260419T151533
CREATED:20240527T122248Z
LAST-MODIFIED:20240527T122248Z
UID:10007786-1720947600-1720962000@uptownsj.com
SUMMARY:Kids Basketball Clinic - Maritime Pro AllStars
DESCRIPTION:On July 14th the Gilas Legends will be making their only maritime appearance on their Canadian tour and will be playing against some of the best pro basketball players in the maritimes details to follow on game time!\nWe will be hosting two clinics the morning of\, ages 9-15. Don’t miss out on the ultimate basketball experience with top-notch coaches and players at the Maritime Pro All Stars Basketball Camp on Sunday\, July 14th at 9:00 AM! 🏀 Limited spots available\, so act fast and secure your spot now! Link below for more details and to get tickets. #MaritimeProAllStars #GilasPilipinas #GilasLegends #BasketballCamp #CanadianTour #UltimateExperience #GetYourTicketsNow \nhttps://www.eventbrite.ca/e/maritime-pro-all-stars-basketball-camp-registration-904818846527?aff=oddtdtcreator
URL:https://uptownsj.com/event/kids-basketball-clinic-maritime-pro-allstars/
LOCATION:TD Station\, 99 Station St\, Saint John\, New Brunswick\, E2L 4X4\, Canada
END:VEVENT
BEGIN:VEVENT
DTSTART;TZID=America/Halifax:20240714T130000
DTEND;TZID=America/Halifax:20240714T190000
DTSTAMP:20260419T151533
CREATED:20240702T141742Z
LAST-MODIFIED:20240702T141742Z
UID:10008642-1720962000-1720983600@uptownsj.com
SUMMARY:Chalk City: Saint John (Art Weekend SJ)
DESCRIPTION:🗓 Date: Sunday\, July 14\, 2024\n⏰ Time: 1:00 PM – 7:00 PM\n📍 Location: King’s Square\n📋 Google Forms Link to pre-register: https://forms.gle/TfwgDEiVaZUEcimH8\nGet ready for a colorful day at Chalk City: Saint John! Whether you’re a seasoned artist or just love to doodle\, this event is for everyone. We’ll provide chalk\, or you can bring your own\, and you’ll have a designated space to create your chalk art masterpiece. Participate in our fun competition where the best chalk art will win a $500 prize!\nThis event is free and open to the public. Voluntary donations are appreciated and will go directly to the Saint John Regional Hospital Foundation.\n📋 Google Forms Link to pre-register: https://forms.gle/TfwgDEiVaZUEcimH8\nVolunteers Appreciated! Volunteer interest form: https://forms.gle/qRStpveAwc8bFFJFA
URL:https://uptownsj.com/event/chalk-city-saint-john-art-weekend-sj/
LOCATION:King’s Square\, Saint John\, New Brunswick\, Canada
CATEGORIES:Art,Community,Fundraiser
END:VEVENT
BEGIN:VEVENT
DTSTART;TZID=America/Halifax:20240714T190000
DTEND;TZID=America/Halifax:20240714T210000
DTSTAMP:20260419T151533
CREATED:20240527T154102Z
LAST-MODIFIED:20240527T154102Z
UID:10007787-1720983600-1720990800@uptownsj.com
SUMMARY:Gilas Pilipinas vs Maritime Pro All-Stars
DESCRIPTION:You’re not going to want to be anywhere else on Sunday\, July 14 when the former Filipino men’s national basketball team\, known as the Gilas Pilipinas\, takes on the Maritime All-Stars featuring familiar faces and fan favourites.
URL:https://uptownsj.com/event/gilas-pilipinas-vs-maritime-pro-all-stars/
LOCATION:TD Station\, 99 Station St\, Saint John\, New Brunswick\, E2L 4X4\, Canada
CATEGORIES:Community
END:VEVENT
END:VCALENDAR