BEGIN:VCALENDAR
VERSION:2.0
PRODID:-//Uptown Saint John - ECPv6.15.20//NONSGML v1.0//EN
CALSCALE:GREGORIAN
METHOD:PUBLISH
X-ORIGINAL-URL:https://uptownsj.com
X-WR-CALDESC:Events for Uptown Saint John
REFRESH-INTERVAL;VALUE=DURATION:PT1H
X-Robots-Tag:noindex
X-PUBLISHED-TTL:PT1H
BEGIN:VTIMEZONE
TZID:America/Halifax
BEGIN:DAYLIGHT
TZOFFSETFROM:-0400
TZOFFSETTO:-0300
TZNAME:ADT
DTSTART:20230312T060000
END:DAYLIGHT
BEGIN:STANDARD
TZOFFSETFROM:-0300
TZOFFSETTO:-0400
TZNAME:AST
DTSTART:20231105T050000
END:STANDARD
BEGIN:DAYLIGHT
TZOFFSETFROM:-0400
TZOFFSETTO:-0300
TZNAME:ADT
DTSTART:20240310T060000
END:DAYLIGHT
BEGIN:STANDARD
TZOFFSETFROM:-0300
TZOFFSETTO:-0400
TZNAME:AST
DTSTART:20241103T050000
END:STANDARD
BEGIN:DAYLIGHT
TZOFFSETFROM:-0400
TZOFFSETTO:-0300
TZNAME:ADT
DTSTART:20250309T060000
END:DAYLIGHT
BEGIN:STANDARD
TZOFFSETFROM:-0300
TZOFFSETTO:-0400
TZNAME:AST
DTSTART:20251102T050000
END:STANDARD
END:VTIMEZONE
BEGIN:VEVENT
DTSTART;TZID=America/Halifax:20240627T060000
DTEND;TZID=America/Halifax:20240627T200000
DTSTAMP:20260425T123012
CREATED:20240625T125112Z
LAST-MODIFIED:20240625T125112Z
UID:10008612-1719468000-1719518400@uptownsj.com
SUMMARY:Business Essentials Workshops: Start selling on Amazon
DESCRIPTION:Unlock your potential in the e-commerce world!\nJoin us for an insightful workshop led by Amazon selling expert\, Abhilasha Kayal. \nSeats are limited\, so register now and secure your spot! \nGain the knowledge and tools to start your journey as an Amazon seller!
URL:https://uptownsj.com/event/business-essentials-workshops-start-selling-on-amazon/
LOCATION:ConnexionWorks\, 1 Germain St - Suite 300 (ConnexionWorks)\, Saint John\, New Brunswick\, Canada
CATEGORIES:Workshop
ORGANIZER;CN="ConnexionWorks":MAILTO:info@connexionworks.ca
END:VEVENT
END:VCALENDAR