BEGIN:VCALENDAR
VERSION:2.0
PRODID:-//Uptown Saint John - ECPv6.15.20//NONSGML v1.0//EN
CALSCALE:GREGORIAN
METHOD:PUBLISH
X-ORIGINAL-URL:https://uptownsj.com
X-WR-CALDESC:Events for Uptown Saint John
REFRESH-INTERVAL;VALUE=DURATION:PT1H
X-Robots-Tag:noindex
X-PUBLISHED-TTL:PT1H
BEGIN:VTIMEZONE
TZID:America/Halifax
BEGIN:DAYLIGHT
TZOFFSETFROM:-0400
TZOFFSETTO:-0300
TZNAME:ADT
DTSTART:20230312T060000
END:DAYLIGHT
BEGIN:STANDARD
TZOFFSETFROM:-0300
TZOFFSETTO:-0400
TZNAME:AST
DTSTART:20231105T050000
END:STANDARD
BEGIN:DAYLIGHT
TZOFFSETFROM:-0400
TZOFFSETTO:-0300
TZNAME:ADT
DTSTART:20240310T060000
END:DAYLIGHT
BEGIN:STANDARD
TZOFFSETFROM:-0300
TZOFFSETTO:-0400
TZNAME:AST
DTSTART:20241103T050000
END:STANDARD
BEGIN:DAYLIGHT
TZOFFSETFROM:-0400
TZOFFSETTO:-0300
TZNAME:ADT
DTSTART:20250309T060000
END:DAYLIGHT
BEGIN:STANDARD
TZOFFSETFROM:-0300
TZOFFSETTO:-0400
TZNAME:AST
DTSTART:20251102T050000
END:STANDARD
END:VTIMEZONE
BEGIN:VEVENT
DTSTART;TZID=America/Halifax:20240429T080000
DTEND;TZID=America/Halifax:20240505T170000
DTSTAMP:20260423T165513
CREATED:20240416T152542Z
LAST-MODIFIED:20240416T152640Z
UID:10007255-1714377600-1714928400@uptownsj.com
SUMMARY:Uptown Burger Week - 10 years!
DESCRIPTION:Join us as we celebrate 10 years of burgers Uptown! April 29th to May 5th 2024 \nYou can find menus by visiting our Uptown Burger Week page\, check often as new menus are added as they are received \nUptown Burger Week 2026
URL:https://uptownsj.com/event/uptown-burger-week-10-years/
LOCATION:Uptown Saint John\, Saint John\, New Brunswick\, Canada
ATTACH;FMTTYPE=image/png:https://uptownsj.com/wp-content/uploads/2024/04/TV-SCREEN-1.png
END:VEVENT
BEGIN:VEVENT
DTSTART;TZID=America/Halifax:20240503T160000
DTEND;TZID=America/Halifax:20240503T160000
DTSTAMP:20260423T165513
CREATED:20240415T135941Z
LAST-MODIFIED:20240415T135941Z
UID:10007254-1714752000-1714752000@uptownsj.com
SUMMARY:Gallery Hop
DESCRIPTION:Saint John Gallery Hop is back for Spring 2024 edition!!\nVisit the Beautiful galleries of uptown SJ\nMitote Art Gallery\nCobalt Art Gallery\nGlass Roots Inc\nSaint John Arts Centre\nSaint John Art Club\nTrinity Galleries\nTuck Studio\nJones Gallery\nHandworks Gallery
URL:https://uptownsj.com/event/gallery-hop-2/
LOCATION:Mitote Art Gallery\, 1 Charlotte St\, Saint John\, New Brunswick\, E2L 2H3\, Canada
CATEGORIES:Art
END:VEVENT
BEGIN:VEVENT
DTSTART;TZID=America/Halifax:20240503T190000
DTEND;TZID=America/Halifax:20240503T210000
DTSTAMP:20260423T165513
CREATED:20240412T141509Z
LAST-MODIFIED:20240627T143452Z
UID:10008601-1714762800-1714770000@uptownsj.com
SUMMARY:Live Jazz - Trinity Galleries
DESCRIPTION:Cozy up on Friday Nights and enjoy the soothing sounds of Jazz all while enjoying the beautiful art gallery ambiance.\nFeaturing different musicians each week. Visit https://www.trinitygalleries.ca/ to see who is playing this Friday.\n$10. Door. Seating is limited. Drop in – although reserving ahead is recommended.\nCall 506-634-1611
URL:https://uptownsj.com/event/live-jazz/2024-05-03/
LOCATION:Trinity Galleries\, 128 GERMAIN ST.\, SAINT JOHN\, New Brunswick\, E2L 2E7\, Canada
CATEGORIES:Live Music
ATTACH;FMTTYPE=image/jpeg:https://uptownsj.com/wp-content/uploads/2024/04/NIGHTs-2.jpg
END:VEVENT
BEGIN:VEVENT
DTSTART;TZID=America/Halifax:20240503T200000
DTEND;TZID=America/Halifax:20240503T220000
DTSTAMP:20260423T165513
CREATED:20240306T135815Z
LAST-MODIFIED:20240306T135815Z
UID:10006537-1714766400-1714773600@uptownsj.com
SUMMARY:Rob Pue returns to Punch Lines Comedy Club!
DESCRIPTION:Tickets on Sale now!\n📅 May 3rd-4th\n⏰️ 8pm doors at 7pm\n💸 $30/$35 (taxes incl.)\nPurchase online here—->\nhttps://www.eventbrite.ca/o/punch-lines-comedy-club-73322710133\nOr Text 506-647-8338 and pay by etransfer. \nA gregarious and dynamic comedian with a knack for telling it like it is\, Rob has become one of the brightest voices to hit the Canadian comedy scene.\nWith unmistakeable charm\, wit and trade-mark act-outs\, Rob is a must see performance.A gregarious and dynamic comedian with a knack for telling it like it is\, Rob has become one of the brightest voices to hit the Canadian comedy scene.\nWith unmistakeable charm\, wit and trade-mark act-outs\, Rob is a must see performance.\nRob has also appeared as a regular on the MTV series Punk’d and recently had his one hour “Comedy Now” special air on the Comedy Channel. In 2013 Rob performed at all 3 Major Canadian TV Comedy Festivals – Just For Laughs Montreal\, Ha! Halifax Comedy Fest and The Winnipeg Comedy Festival!\nRob is a “military brat”; he was born on a base in Halifax and moved with his military father to Edmonton. He has played various military bases throughout Canada and has been invovled with several Military Comedy Benefits.
URL:https://uptownsj.com/event/rob-pue-returns-to-punch-lines-comedy-club/2024-05-03/
LOCATION:Punch Lines Comedy Club
CATEGORIES:Comedy
END:VEVENT
END:VCALENDAR