BEGIN:VCALENDAR
VERSION:2.0
PRODID:-//Uptown Saint John - ECPv6.15.20//NONSGML v1.0//EN
CALSCALE:GREGORIAN
METHOD:PUBLISH
X-WR-CALNAME:Uptown Saint John
X-ORIGINAL-URL:https://uptownsj.com
X-WR-CALDESC:Events for Uptown Saint John
REFRESH-INTERVAL;VALUE=DURATION:PT1H
X-Robots-Tag:noindex
X-PUBLISHED-TTL:PT1H
BEGIN:VTIMEZONE
TZID:America/Halifax
BEGIN:DAYLIGHT
TZOFFSETFROM:-0400
TZOFFSETTO:-0300
TZNAME:ADT
DTSTART:20230312T060000
END:DAYLIGHT
BEGIN:STANDARD
TZOFFSETFROM:-0300
TZOFFSETTO:-0400
TZNAME:AST
DTSTART:20231105T050000
END:STANDARD
BEGIN:DAYLIGHT
TZOFFSETFROM:-0400
TZOFFSETTO:-0300
TZNAME:ADT
DTSTART:20240310T060000
END:DAYLIGHT
BEGIN:STANDARD
TZOFFSETFROM:-0300
TZOFFSETTO:-0400
TZNAME:AST
DTSTART:20241103T050000
END:STANDARD
BEGIN:DAYLIGHT
TZOFFSETFROM:-0400
TZOFFSETTO:-0300
TZNAME:ADT
DTSTART:20250309T060000
END:DAYLIGHT
BEGIN:STANDARD
TZOFFSETFROM:-0300
TZOFFSETTO:-0400
TZNAME:AST
DTSTART:20251102T050000
END:STANDARD
END:VTIMEZONE
BEGIN:VEVENT
DTSTART;TZID=America/Halifax:20240312T180000
DTEND;TZID=America/Halifax:20240312T210000
DTSTAMP:20260422T123008
CREATED:20240306T140255Z
LAST-MODIFIED:20240306T140255Z
UID:10006530-1710266400-1710277200@uptownsj.com
SUMMARY:Business Essentials Workshop: Safeguarding Against Online Threats
DESCRIPTION:Lead by Chris Boudreau – Chief Strategy Officer at Ispire \nIn today’s digital landscape\, where businesses thrive on digital platforms\, protecting your business online is a non-negotiable priority. This workshop is your personalized guide to understanding and implementing practical digital security strategies\, enabling you to shield your business from modern-day threats while maintaining your competitive edge.
URL:https://uptownsj.com/event/business-essentials-workshop-safeguarding-against-online-threats/
LOCATION:ConnexionWorks\, 1 Germain St - Suite 300 (ConnexionWorks)\, Saint John\, New Brunswick\, Canada
CATEGORIES:Workshop
ORGANIZER;CN="ConnexionWorks":MAILTO:info@connexionworks.ca
END:VEVENT
END:VCALENDAR