BEGIN:VCALENDAR
VERSION:2.0
PRODID:-//Uptown Saint John - ECPv6.15.20//NONSGML v1.0//EN
CALSCALE:GREGORIAN
METHOD:PUBLISH
X-ORIGINAL-URL:https://uptownsj.com
X-WR-CALDESC:Events for Uptown Saint John
REFRESH-INTERVAL;VALUE=DURATION:PT1H
X-Robots-Tag:noindex
X-PUBLISHED-TTL:PT1H
BEGIN:VTIMEZONE
TZID:America/Halifax
BEGIN:DAYLIGHT
TZOFFSETFROM:-0400
TZOFFSETTO:-0300
TZNAME:ADT
DTSTART:20230312T060000
END:DAYLIGHT
BEGIN:STANDARD
TZOFFSETFROM:-0300
TZOFFSETTO:-0400
TZNAME:AST
DTSTART:20231105T050000
END:STANDARD
BEGIN:DAYLIGHT
TZOFFSETFROM:-0400
TZOFFSETTO:-0300
TZNAME:ADT
DTSTART:20240310T060000
END:DAYLIGHT
BEGIN:STANDARD
TZOFFSETFROM:-0300
TZOFFSETTO:-0400
TZNAME:AST
DTSTART:20241103T050000
END:STANDARD
BEGIN:DAYLIGHT
TZOFFSETFROM:-0400
TZOFFSETTO:-0300
TZNAME:ADT
DTSTART:20250309T060000
END:DAYLIGHT
BEGIN:STANDARD
TZOFFSETFROM:-0300
TZOFFSETTO:-0400
TZNAME:AST
DTSTART:20251102T050000
END:STANDARD
END:VTIMEZONE
BEGIN:VEVENT
DTSTART;TZID=America/Halifax:20240221T193000
DTEND;TZID=America/Halifax:20240225T193000
DTSTAMP:20260420T072422
CREATED:20231219T125854Z
LAST-MODIFIED:20231219T125854Z
UID:10005738-1708543800-1708889400@uptownsj.com
SUMMARY:Cottagers and Indians
DESCRIPTION:The cultivation of wild rice incites a fierce dispute between a native farmer and a white cottager\, which escalates into a symbol of reconciliation. Through an endearing and amusing narrative\, this story tackles important themes of community\, respect\, and ownership. Cottagers & Indians is a timely tale that culminates in a legendary food fight.
URL:https://uptownsj.com/event/cottagers-and-indians/2024-02-21/2/
LOCATION:The BMO Studio Theatre\, 112 Princess St\, 112 Princess St\, Saint John\, NB\, E2L 1K4\, Canada
CATEGORIES:Theatre
ORGANIZER;CN="Atlantic Repertory Company (ARC)":MAILTO:lise.driscoll@saintjohntheatrecompany.com
END:VEVENT
BEGIN:VEVENT
DTSTART;TZID=America/Halifax:20240224T140000
DTEND;TZID=America/Halifax:20240224T160000
DTSTAMP:20260420T072422
CREATED:20231207T140528Z
LAST-MODIFIED:20240131T150026Z
UID:10005729-1708783200-1708790400@uptownsj.com
SUMMARY:GHOST REVELATIONS World Tour SAINT JOHN NB
DESCRIPTION:Cameron Bagg is a ghosthunter on a mission to prove that ghosts are real.\nHe has embarked on the Ghost Revelations seminar tour to share 35 years of paranormal research from over 1000 volunteer investigations/clearings.\nCompelling photographic evidence of ghosts\, spirits\, shadow beings\, Sabe (Hairy Man) and much more will have you looking at life in a whole new way.\nCome and participate in a digital spirit photography session to see what spirits are around you.\nLearn how to photograph spirits and ghosts for yourself anytime and anywhere.\nThis fast paced paranormal event also looks at the shadow being and explores the best techniques to keeping your home free of them and allowing in more positive visitors.\nA truly one of a kind paranormal event.
URL:https://uptownsj.com/event/ghost-revelations-world-tour-saint-john-nb/
LOCATION:Saint John Library\, 1 Market Square\, Saint John\, New Brunswick\, E2L 4Z6
CATEGORIES:Workshop
ORGANIZER;CN="Cameron Bagg":MAILTO:baggcameron@gmail.com
END:VEVENT
BEGIN:VEVENT
DTSTART;TZID=America/Halifax:20240224T193000
DTEND;TZID=America/Halifax:20240224T193000
DTSTAMP:20260420T072422
CREATED:20230628T164455Z
LAST-MODIFIED:20230628T164455Z
UID:10005430-1708803000-1708803000@uptownsj.com
SUMMARY:Classic Albums Live: Supertramp: Even in the Quietest Moments
DESCRIPTION:The full album – Note for Note / Cut for Cut \n 
URL:https://uptownsj.com/event/classic-albums-live-supertramp-even-in-the-quietest-moments/
LOCATION:Imperial Theatre\, 12 King Square S.\, Saint John
CATEGORIES:Community,Theatre
END:VEVENT
END:VCALENDAR