BEGIN:VCALENDAR
VERSION:2.0
PRODID:-//Uptown Saint John - ECPv6.15.20//NONSGML v1.0//EN
CALSCALE:GREGORIAN
METHOD:PUBLISH
X-ORIGINAL-URL:https://uptownsj.com
X-WR-CALDESC:Events for Uptown Saint John
REFRESH-INTERVAL;VALUE=DURATION:PT1H
X-Robots-Tag:noindex
X-PUBLISHED-TTL:PT1H
BEGIN:VTIMEZONE
TZID:America/Halifax
BEGIN:DAYLIGHT
TZOFFSETFROM:-0400
TZOFFSETTO:-0300
TZNAME:ADT
DTSTART:20230312T060000
END:DAYLIGHT
BEGIN:STANDARD
TZOFFSETFROM:-0300
TZOFFSETTO:-0400
TZNAME:AST
DTSTART:20231105T050000
END:STANDARD
BEGIN:DAYLIGHT
TZOFFSETFROM:-0400
TZOFFSETTO:-0300
TZNAME:ADT
DTSTART:20240310T060000
END:DAYLIGHT
BEGIN:STANDARD
TZOFFSETFROM:-0300
TZOFFSETTO:-0400
TZNAME:AST
DTSTART:20241103T050000
END:STANDARD
BEGIN:DAYLIGHT
TZOFFSETFROM:-0400
TZOFFSETTO:-0300
TZNAME:ADT
DTSTART:20250309T060000
END:DAYLIGHT
BEGIN:STANDARD
TZOFFSETFROM:-0300
TZOFFSETTO:-0400
TZNAME:AST
DTSTART:20251102T050000
END:STANDARD
END:VTIMEZONE
BEGIN:VEVENT
DTSTART;TZID=America/Halifax:20240219T140000
DTEND;TZID=America/Halifax:20240219T170000
DTSTAMP:20260420T013258
CREATED:20230908T122305Z
LAST-MODIFIED:20230908T122305Z
UID:10005629-1708351200-1708362000@uptownsj.com
SUMMARY:Sea Dogs VS. Cape Breton Eagles
DESCRIPTION:🏒 Come watch the intense match-up between the Sea Dogs and the Cape Breton Eagles! Expect nothing less than a fierce battle of skill and strategy as the Saint John Sea Dogs faces off against their formidable opponents. The rink will come alive with the clashing of sticks\, the echo of skates\, and the resounding cheers from enthusiastic fans! \n🎉Come enjoy family-friendly entertainment that is not just about the game; it’s a celebration of the community’s love for hockey. Bring your friends and family to enjoy an unforgettable evening of sportsmanship\, camaraderie\, and pure entertainment. From the pre-game festivities to the thrilling action on the ice\, every moment promises to be unforgettable. \n🎁 Fan Engagements & Giveaways:\nAs a token of appreciation for your unwavering support\, the Saint John Sea Dogs have prepared exciting fan engagement activities and fantastic giveaways throughout the game. Cheer on the Sea Dogs with your posters\, flags\, and team colours to stand a chance to win exclusive merchandise and other surprises! \n🚨 Get Your Tickets Now:\nDon’t miss the chance to be part of this heart-stopping hockey event! Grab your tickets early to secure the best seats in the house and avoid disappointment. Whether you’re a die-hard hockey enthusiast or a casual sports fan\, this game guarantees an experience you won’t want to miss. Tickets can be purchased online at www.tdstation.com\, or in person at the TD Station Box Office. \nMark your calendars\, set your alarms\, and join us for a memorable evening of hockey excellence as the Saint John Sea Dogs aim to conquer the ice and make their fans proud. See you there! 🏒🥅
URL:https://uptownsj.com/event/sea-dogs-vs-cape-breton-eagles-5/
LOCATION:TD Station\, 99 Station St\, Saint John\, New Brunswick\, E2L 4X4\, Canada
ORGANIZER;CN="Saint John Sea Dogs":MAILTO:info@sjseadogs.com
END:VEVENT
BEGIN:VEVENT
DTSTART;TZID=America/Halifax:20240219T140000
DTEND;TZID=America/Halifax:20240219T170000
DTSTAMP:20260420T013258
CREATED:20240124T203610Z
LAST-MODIFIED:20240124T203610Z
UID:10006133-1708351200-1708362000@uptownsj.com
SUMMARY:Saint John Sea Dogs One for All Festival
DESCRIPTION:One for All Festival will take over TD Station for the second year in a row\, with three games in five days and events capturing the spirit of the 2022 Memorial Cup and building upon it. It will bring together and integrate arts\, culture\, and the entire community into the hockey experience. The 2022 Memorial Cup was not just the biggest Memorial Cup ever\, but a celebration of our community. It took over the region and the rest of the country took notice. With our Memorial Cup theme of One for All\, we used our time in the spotlight to share our message of unity\, diversity\, equality\, and inclusion for all. \nThe festivities begin on Thursday\, February 15th as the Sea Dogs host their annual Pride Night against the Blainville-Boisbriand Armada featuring performances by local drag queens. Pride Night aims to celebrate and foster inclusiveness within our game and drive positive social change for our players\, coaches\, families\, and fans. Hockey is for everyone!\nPerformers from Legends in Concert\, the longest running show in Las Vegas history\, will once again entertain the crowd at TD Station throughout the weekend. Saturday\, February 17th will see the Bruno Mars tribute perform on the TD Stage during both intermissions\, while the Freddie Mercury tribute will hit the stage on Monday\, February 19th.
URL:https://uptownsj.com/event/saint-john-sea-dogs-one-for-all-festival/2024-02-19/
LOCATION:TD Station\, 99 Station St\, Saint John\, New Brunswick\, E2L 4X4\, Canada
CATEGORIES:Community,Live Music
ORGANIZER;CN="Saint John Sea Dogs":MAILTO:info@sjseadogs.com
END:VEVENT
END:VCALENDAR