BEGIN:VCALENDAR
VERSION:2.0
PRODID:-//Uptown Saint John - ECPv6.15.20//NONSGML v1.0//EN
CALSCALE:GREGORIAN
METHOD:PUBLISH
X-ORIGINAL-URL:https://uptownsj.com
X-WR-CALDESC:Events for Uptown Saint John
REFRESH-INTERVAL;VALUE=DURATION:PT1H
X-Robots-Tag:noindex
X-PUBLISHED-TTL:PT1H
BEGIN:VTIMEZONE
TZID:America/Halifax
BEGIN:DAYLIGHT
TZOFFSETFROM:-0400
TZOFFSETTO:-0300
TZNAME:ADT
DTSTART:20230312T060000
END:DAYLIGHT
BEGIN:STANDARD
TZOFFSETFROM:-0300
TZOFFSETTO:-0400
TZNAME:AST
DTSTART:20231105T050000
END:STANDARD
BEGIN:DAYLIGHT
TZOFFSETFROM:-0400
TZOFFSETTO:-0300
TZNAME:ADT
DTSTART:20240310T060000
END:DAYLIGHT
BEGIN:STANDARD
TZOFFSETFROM:-0300
TZOFFSETTO:-0400
TZNAME:AST
DTSTART:20241103T050000
END:STANDARD
BEGIN:DAYLIGHT
TZOFFSETFROM:-0400
TZOFFSETTO:-0300
TZNAME:ADT
DTSTART:20250309T060000
END:DAYLIGHT
BEGIN:STANDARD
TZOFFSETFROM:-0300
TZOFFSETTO:-0400
TZNAME:AST
DTSTART:20251102T050000
END:STANDARD
END:VTIMEZONE
BEGIN:VEVENT
DTSTART;TZID=America/Halifax:20240214T120000
DTEND;TZID=America/Halifax:20240214T220000
DTSTAMP:20260420T114114
CREATED:20240205T132326Z
LAST-MODIFIED:20240205T132326Z
UID:10006142-1707912000-1707948000@uptownsj.com
SUMMARY:SIP & SWEETS (A Chocolate + Beer Pairing Event)
DESCRIPTION:Happening all day February 14th: \nCome in to Union House and sample 5 Trailway beers paired with 5 samples from McGuire Chocolate from Saint Andrews! The cost is $20 dollars per person and is a self-guided tasting with tasting notes from McGuires and our head brewer! \nReserve your spot by emailing info@trailwaybrewing.com \n“McGuire Chocolate is an award-winning bean to bar chocolate maker with a focus on simple and high quality ingredients. They produce premium chocolate and truffles from transparently sourced cacao in Saint Andrews\, NB.”
URL:https://uptownsj.com/event/sip-sweets-a-chocolate-beer-pairing-event/
LOCATION:Union House by Trailway\, 143 Union St\, Saint John\, New Brunswick\, E2L 1A7\, Canada
END:VEVENT
END:VCALENDAR