BEGIN:VCALENDAR
VERSION:2.0
PRODID:-//Uptown Saint John - ECPv6.15.20//NONSGML v1.0//EN
CALSCALE:GREGORIAN
METHOD:PUBLISH
X-ORIGINAL-URL:https://uptownsj.com
X-WR-CALDESC:Events for Uptown Saint John
REFRESH-INTERVAL;VALUE=DURATION:PT1H
X-Robots-Tag:noindex
X-PUBLISHED-TTL:PT1H
BEGIN:VTIMEZONE
TZID:America/Halifax
BEGIN:DAYLIGHT
TZOFFSETFROM:-0400
TZOFFSETTO:-0300
TZNAME:ADT
DTSTART:20230312T060000
END:DAYLIGHT
BEGIN:STANDARD
TZOFFSETFROM:-0300
TZOFFSETTO:-0400
TZNAME:AST
DTSTART:20231105T050000
END:STANDARD
BEGIN:DAYLIGHT
TZOFFSETFROM:-0400
TZOFFSETTO:-0300
TZNAME:ADT
DTSTART:20240310T060000
END:DAYLIGHT
BEGIN:STANDARD
TZOFFSETFROM:-0300
TZOFFSETTO:-0400
TZNAME:AST
DTSTART:20241103T050000
END:STANDARD
BEGIN:DAYLIGHT
TZOFFSETFROM:-0400
TZOFFSETTO:-0300
TZNAME:ADT
DTSTART:20250309T060000
END:DAYLIGHT
BEGIN:STANDARD
TZOFFSETFROM:-0300
TZOFFSETTO:-0400
TZNAME:AST
DTSTART:20251102T050000
END:STANDARD
END:VTIMEZONE
BEGIN:VEVENT
DTSTART;VALUE=DATE:20240122
DTEND;VALUE=DATE:20240129
DTSTAMP:20260425T162900
CREATED:20240108T200334Z
LAST-MODIFIED:20240108T200334Z
UID:10005750-1705881600-1706486399@uptownsj.com
SUMMARY:Uptown Poutine Fest - January 22-28
DESCRIPTION:As the weather gets colder outside\, everyone heads inside to warm by enjoying delicious hot food & drinks! \nOf course\, the most Canadian thing to get warmed up by is Poutine! \nVisit the participating Uptown Saint John restaurants & celebrate a variety of different takes on this classic Canadian dish available for a whole week each January! \n2024 Uptown Poutine Fest will run from January 22 to 28\, 2024 \nSEE THE PARTICIPATING RESTAURANTS AND MENUS HERE.\n(updated daily)
URL:https://uptownsj.com/event/uptown-poutine-fest-january-22-28/
LOCATION:Uptown Restaurants
CATEGORIES:Food
ATTACH;FMTTYPE=image/png:https://uptownsj.com/wp-content/uploads/2024/01/poutine-fest-2024-poster-1.png
END:VEVENT
BEGIN:VEVENT
DTSTART;TZID=America/Halifax:20240125T193000
DTEND;TZID=America/Halifax:20240125T193000
DTSTAMP:20260425T162900
CREATED:20230628T164917Z
LAST-MODIFIED:20230628T164917Z
UID:10005425-1706211000-1706211000@uptownsj.com
SUMMARY:Harlem Gospel Choir
DESCRIPTION:Performing contemporary gospel with a touch of jazz and blues\, The World Famous Harlem Gospel Choir is synonymous with power vocals\, glorious sound and infectious energy. For over two decades they have been America’s premier gospel choir and have toured the globe thrilling audiences with the inspirational power of black gospel music. \nDeeply rooted in the history of the African-American slave trade\, black gospel music can be traced back to the 1700s when African slaves brought their unique African musical heritage to America and combined it with their new faith – Christianity. Out of the hardship and the trials of slavery\, this unique musical tradition came to be\, and forever changed music as we know it. Blues\, Soul\, and Rock-and-Roll…they all have origins in black gospel music. Harlem Gospel Choir presents modern gospel classics as performed in the black churches of Harlem today. \nHarlem Gospel Choir have performed alongside superstars such as Bono\, Diana Ross\, The Gorillaz\, Andre Rieu\, Damon Albarn\, Pharrell Williams\, JamieXX\, Sia\, Sam Smith\, The 1975 and American Authors. They have performed for three Presidents (President Obama\, President Carter and President Nelson Mandela)\, two Popes (Pope John Paul II and Pope Benedict XVI) and have recorded with Keith Richards\, The Chieftains\, and Trace Adkins. \nIn 2018 the choir performed with Sam Smith at the Grammy’s\, and in the last two years they performed during Macys Thanks Giving Day Parade\, and at the NBC Christmas Tree Lighting Ceremony at Rockefeller Center with Jordan Smith and Pentatonix. \nHarlem Gospel Choir embodies the spirit of American Gospel. Every concert is infectiously enthusiastic; a roller coaster ride of singing and dancing; a gospel celebration! The Choir’s rich harmonies & dynamic sound are “UNFETTERED & JOYOUS”. Their harmonious songs of love and hope and inspiration will touch the depths of your soul\, lift your spirit\, and take your breath away! \nGet ready to tap your feet\, clap your hands\, and even dance on stage to their high-energy\, joyous and exuberant performance!
URL:https://uptownsj.com/event/harlem-gospel-choir/
LOCATION:Imperial Theatre\, 12 King Square S.\, Saint John
CATEGORIES:Community,Theatre
END:VEVENT
END:VCALENDAR