BEGIN:VCALENDAR
VERSION:2.0
PRODID:-//Uptown Saint John - ECPv6.15.20//NONSGML v1.0//EN
CALSCALE:GREGORIAN
METHOD:PUBLISH
X-WR-CALNAME:Uptown Saint John
X-ORIGINAL-URL:https://uptownsj.com
X-WR-CALDESC:Events for Uptown Saint John
REFRESH-INTERVAL;VALUE=DURATION:PT1H
X-Robots-Tag:noindex
X-PUBLISHED-TTL:PT1H
BEGIN:VTIMEZONE
TZID:America/Halifax
BEGIN:DAYLIGHT
TZOFFSETFROM:-0400
TZOFFSETTO:-0300
TZNAME:ADT
DTSTART:20230312T060000
END:DAYLIGHT
BEGIN:STANDARD
TZOFFSETFROM:-0300
TZOFFSETTO:-0400
TZNAME:AST
DTSTART:20231105T050000
END:STANDARD
BEGIN:DAYLIGHT
TZOFFSETFROM:-0400
TZOFFSETTO:-0300
TZNAME:ADT
DTSTART:20240310T060000
END:DAYLIGHT
BEGIN:STANDARD
TZOFFSETFROM:-0300
TZOFFSETTO:-0400
TZNAME:AST
DTSTART:20241103T050000
END:STANDARD
BEGIN:DAYLIGHT
TZOFFSETFROM:-0400
TZOFFSETTO:-0300
TZNAME:ADT
DTSTART:20250309T060000
END:DAYLIGHT
BEGIN:STANDARD
TZOFFSETFROM:-0300
TZOFFSETTO:-0400
TZNAME:AST
DTSTART:20251102T050000
END:STANDARD
END:VTIMEZONE
BEGIN:VEVENT
DTSTART;TZID=America/Halifax:20240120T110000
DTEND;TZID=America/Halifax:20240120T150000
DTSTAMP:20260423T205656
CREATED:20240109T173219Z
LAST-MODIFIED:20240109T173219Z
UID:10005751-1705748400-1705762800@uptownsj.com
SUMMARY:Walk-In Tarot Readings at Obscurity
DESCRIPTION:Cherise of Almost Magick will be back at Obscurity for walk-in readings on January 20 from 11am to 3pm! 🌙\nNo appointment necessary!\n$15 for up to 10 minutes\n$20 for up to 15\n$35 for up to 30 min\n*Cash is preferred*\nCome in\, do some shopping and find out what message the cards have for you! 🤘 \nA little about Cherise:\nThough new to the scene\, Cherise’s talent as a reader is undeniable. A reading with her is like a good rock ‘n’ roll song: raw\, fun and fearless!
URL:https://uptownsj.com/event/walk-in-tarot-readings-at-obscurity/
LOCATION:Obscurity\, 88 Germain St\, Saint John\, New Brunswick
END:VEVENT
BEGIN:VEVENT
DTSTART;TZID=America/Halifax:20240120T180000
DTEND;TZID=America/Halifax:20240120T210000
DTSTAMP:20260423T205656
CREATED:20240103T135014Z
LAST-MODIFIED:20240103T135014Z
UID:10005744-1705773600-1705784400@uptownsj.com
SUMMARY:Stone Church Gala Evening - A Light in the Winter
DESCRIPTION:2024 is our 200th Anniversary serving our community!\nWe will start the year off with a Gala Evening fundraiser; proceeds to the ongoing conservation of the church building. \n6pm: Drinks and Hors d’Oeuvres at SJ Arts Centre\n7:30pm: Dinner at Stone Church \nLink: https://www.stonesj.org/gala/
URL:https://uptownsj.com/event/stone-church-gala-evening-a-light-in-the-winter/
LOCATION:Saint John Arts Centre
ORGANIZER;CN="Stone Church":MAILTO:barbara@givewayvisioneering.global
END:VEVENT
END:VCALENDAR