BEGIN:VCALENDAR
VERSION:2.0
PRODID:-//Uptown Saint John - ECPv6.15.20//NONSGML v1.0//EN
CALSCALE:GREGORIAN
METHOD:PUBLISH
X-ORIGINAL-URL:https://uptownsj.com
X-WR-CALDESC:Events for Uptown Saint John
REFRESH-INTERVAL;VALUE=DURATION:PT1H
X-Robots-Tag:noindex
X-PUBLISHED-TTL:PT1H
BEGIN:VTIMEZONE
TZID:America/Halifax
BEGIN:DAYLIGHT
TZOFFSETFROM:-0400
TZOFFSETTO:-0300
TZNAME:ADT
DTSTART:20230312T060000
END:DAYLIGHT
BEGIN:STANDARD
TZOFFSETFROM:-0300
TZOFFSETTO:-0400
TZNAME:AST
DTSTART:20231105T050000
END:STANDARD
BEGIN:DAYLIGHT
TZOFFSETFROM:-0400
TZOFFSETTO:-0300
TZNAME:ADT
DTSTART:20240310T060000
END:DAYLIGHT
BEGIN:STANDARD
TZOFFSETFROM:-0300
TZOFFSETTO:-0400
TZNAME:AST
DTSTART:20241103T050000
END:STANDARD
BEGIN:DAYLIGHT
TZOFFSETFROM:-0400
TZOFFSETTO:-0300
TZNAME:ADT
DTSTART:20250309T060000
END:DAYLIGHT
BEGIN:STANDARD
TZOFFSETFROM:-0300
TZOFFSETTO:-0400
TZNAME:AST
DTSTART:20251102T050000
END:STANDARD
END:VTIMEZONE
BEGIN:VEVENT
DTSTART;TZID=America/Halifax:20240119T170000
DTEND;TZID=America/Halifax:20240119T190000
DTSTAMP:20260423T192917
CREATED:20240110T135214Z
LAST-MODIFIED:20240110T135214Z
UID:10005753-1705683600-1705690800@uptownsj.com
SUMMARY:Friday Night Jazz
DESCRIPTION:4 Fridays in January!\nLive Smooth Jazz music from 5-7 pm. Space is limited.\nBeverages and snacks available.
URL:https://uptownsj.com/event/friday-night-jazz/2024-01-19/
LOCATION:Trinity Galleries\, 128 GERMAIN ST.\, SAINT JOHN\, New Brunswick\, E2L 2E7\, Canada
CATEGORIES:Live Music
END:VEVENT
BEGIN:VEVENT
DTSTART;TZID=America/Halifax:20240119T200000
DTEND;TZID=America/Halifax:20240119T220000
DTSTAMP:20260423T192917
CREATED:20240108T131048Z
LAST-MODIFIED:20240108T131048Z
UID:10005748-1705694400-1705701600@uptownsj.com
SUMMARY:A Totally Magical Drag Show
DESCRIPTION:It’s the most magical time of the year! Disney theme showtime! We will be doing a round of specifically Classic Disney themed drag numbers to make you feel the magic. \nJoin Dia Monde\, Justin Toodeep and their guests Miss Nebula Prince and Evie Silverstone who will take you to a whole new world. \nYou can sing a-long with all your faves. If you are a Disney expert you might even be able to flex your trivia muscles and win a prize. \nTickets are available online and at the door. \nCome see us on Jan 19th at Haven Music Hall. Doors open at 7:00\, show starts at 8:00. $15+tax in advance\, $20+tax at the door.
URL:https://uptownsj.com/event/a-totally-magical-drag-show/
LOCATION:Haven Music Hall\, 201 Union Street\, Saint John\, New Brunswick\, E2L 1A9\, Canada
CATEGORIES:Art
ORGANIZER;CN="Haus of Toodeep":MAILTO:h2dproductions@justintoodeep.com
END:VEVENT
END:VCALENDAR