BEGIN:VCALENDAR
VERSION:2.0
PRODID:-//Uptown Saint John - ECPv6.15.20//NONSGML v1.0//EN
CALSCALE:GREGORIAN
METHOD:PUBLISH
X-WR-CALNAME:Uptown Saint John
X-ORIGINAL-URL:https://uptownsj.com
X-WR-CALDESC:Events for Uptown Saint John
REFRESH-INTERVAL;VALUE=DURATION:PT1H
X-Robots-Tag:noindex
X-PUBLISHED-TTL:PT1H
BEGIN:VTIMEZONE
TZID:America/Halifax
BEGIN:DAYLIGHT
TZOFFSETFROM:-0400
TZOFFSETTO:-0300
TZNAME:ADT
DTSTART:20220313T060000
END:DAYLIGHT
BEGIN:STANDARD
TZOFFSETFROM:-0300
TZOFFSETTO:-0400
TZNAME:AST
DTSTART:20221106T050000
END:STANDARD
BEGIN:DAYLIGHT
TZOFFSETFROM:-0400
TZOFFSETTO:-0300
TZNAME:ADT
DTSTART:20230312T060000
END:DAYLIGHT
BEGIN:STANDARD
TZOFFSETFROM:-0300
TZOFFSETTO:-0400
TZNAME:AST
DTSTART:20231105T050000
END:STANDARD
BEGIN:DAYLIGHT
TZOFFSETFROM:-0400
TZOFFSETTO:-0300
TZNAME:ADT
DTSTART:20240310T060000
END:DAYLIGHT
BEGIN:STANDARD
TZOFFSETFROM:-0300
TZOFFSETTO:-0400
TZNAME:AST
DTSTART:20241103T050000
END:STANDARD
END:VTIMEZONE
BEGIN:VEVENT
DTSTART;TZID=America/Halifax:20231201T170000
DTEND;TZID=America/Halifax:20231202T180000
DTSTAMP:20260422T171037
CREATED:20231128T201835Z
LAST-MODIFIED:20231128T201835Z
UID:10005717-1701450000-1701540000@uptownsj.com
SUMMARY:Cricket Cove - UPTOWN Sparkles
DESCRIPTION:Drop by Cricket Cove to see Gingerbread House\,\nto hear Christmas by guitarist Grant\,\nto taste a wrapped chocolate\,\nto touch yarn as you knit a stitch – row – loop for our Annual Christmas Garland\,\nto hope that your entry with a purchase will win you our 2023 ‘PEACE on EARTH’ CHRISTMAS BOX ♥\,\nto say ‘hello ‘.
URL:https://uptownsj.com/event/cricket-cove-uptown-sparkles-2/
LOCATION:Cricket Cove\, 39 King Street\, Brunswick Square Mall Level 2\, Saint John\, New Brunswick\, E2L 4W3\, Canada
CATEGORIES:Community
ORGANIZER;CN="Cricket  Cove":MAILTO:sjcricketcove@hotmail.com
END:VEVENT
BEGIN:VEVENT
DTSTART;TZID=America/Halifax:20231202T090000
DTEND;TZID=America/Halifax:20231202T170000
DTSTAMP:20260422T171037
CREATED:20231005T120537Z
LAST-MODIFIED:20231109T140256Z
UID:10005653-1701507600-1701536400@uptownsj.com
SUMMARY:Saint John Seaglass Festival Christmas Event
DESCRIPTION:Come to join us at Market Square for a Christmas sale\, from cookies\, to seaglass Christmas trees and lots in between.\nPlease support all local vendors!!\nSee you there 😃
URL:https://uptownsj.com/event/saint-john-seaglass-festival-christmas-event/
LOCATION:Market Square\, Market Square\, Saint John\, NB\, Canada
CATEGORIES:Uptown Sparkles
ORGANIZER;CN="Saint John Seaglass Festival":MAILTO:Krodmor72@gmail.com
END:VEVENT
BEGIN:VEVENT
DTSTART;TZID=America/Halifax:20231202T190000
DTEND;TZID=America/Halifax:20231202T220000
DTSTAMP:20260422T171037
CREATED:20230829T153810Z
LAST-MODIFIED:20230829T153810Z
UID:10005583-1701543600-1701554400@uptownsj.com
SUMMARY:Sea Dogs VS. Cape Breton Eagles
DESCRIPTION:🏒 Come watch the intense match-up between the Sea Dogs and the Cape Breton Eagles! Expect nothing less than a fierce battle of skill and strategy as the Saint John Sea Dogs faces off against their formidable opponents. The rink will come alive with the clashing of sticks\, the echo of skates\, and the resounding cheers from enthusiastic fans! \n🎉Come enjoy family-friendly entertainment that is not just about the game; it’s a celebration of the community’s love for hockey. Bring your friends and family to enjoy an unforgettable evening of sportsmanship\, camaraderie\, and pure entertainment. From the pre-game festivities to the thrilling action on the ice\, every moment promises to be unforgettable. \n🎁 Fan Engagements & Giveaways:\nAs a token of appreciation for your unwavering support\, the Saint John Sea Dogs have prepared exciting fan engagement activities and fantastic giveaways throughout the game. Cheer on the Sea Dogs with your posters\, flags\, and team colours to stand a chance to win exclusive merchandise and other surprises! \n🚨 Get Your Tickets Now:\nDon’t miss the chance to be part of this heart-stopping hockey event! Grab your tickets early to secure the best seats in the house and avoid disappointment. Whether you’re a die-hard hockey enthusiast or a casual sports fan\, this game guarantees an experience you won’t want to miss. Tickets can be purchased online at www.tdstation.com\, or in person at the TD Station Box Office. \nMark your calendars\, set your alarms\, and join us for a memorable evening of hockey excellence as the Saint John Sea Dogs aim to conquer the ice and make their fans proud. See you there! 🏒🥅
URL:https://uptownsj.com/event/sea-dogs-vs-cape-breton-eagles-3/
LOCATION:TD Station\, 99 Station St\, Saint John\, New Brunswick\, E2L 4X4\, Canada
ORGANIZER;CN="Saint John Sea Dogs":MAILTO:info@sjseadogs.com
END:VEVENT
END:VCALENDAR