BEGIN:VCALENDAR
VERSION:2.0
PRODID:-//Uptown Saint John - ECPv6.15.20//NONSGML v1.0//EN
CALSCALE:GREGORIAN
METHOD:PUBLISH
X-WR-CALNAME:Uptown Saint John
X-ORIGINAL-URL:https://uptownsj.com
X-WR-CALDESC:Events for Uptown Saint John
REFRESH-INTERVAL;VALUE=DURATION:PT1H
X-Robots-Tag:noindex
X-PUBLISHED-TTL:PT1H
BEGIN:VTIMEZONE
TZID:America/Halifax
BEGIN:DAYLIGHT
TZOFFSETFROM:-0400
TZOFFSETTO:-0300
TZNAME:ADT
DTSTART:20220313T060000
END:DAYLIGHT
BEGIN:STANDARD
TZOFFSETFROM:-0300
TZOFFSETTO:-0400
TZNAME:AST
DTSTART:20221106T050000
END:STANDARD
BEGIN:DAYLIGHT
TZOFFSETFROM:-0400
TZOFFSETTO:-0300
TZNAME:ADT
DTSTART:20230312T060000
END:DAYLIGHT
BEGIN:STANDARD
TZOFFSETFROM:-0300
TZOFFSETTO:-0400
TZNAME:AST
DTSTART:20231105T050000
END:STANDARD
BEGIN:DAYLIGHT
TZOFFSETFROM:-0400
TZOFFSETTO:-0300
TZNAME:ADT
DTSTART:20240310T060000
END:DAYLIGHT
BEGIN:STANDARD
TZOFFSETFROM:-0300
TZOFFSETTO:-0400
TZNAME:AST
DTSTART:20241103T050000
END:STANDARD
END:VTIMEZONE
BEGIN:VEVENT
DTSTART;TZID=America/Halifax:20231030T080000
DTEND;TZID=America/Halifax:20231105T220000
DTSTAMP:20260424T154402
CREATED:20230906T131719Z
LAST-MODIFIED:20230922T132222Z
UID:10005618-1698652800-1699221600@uptownsj.com
SUMMARY:Chop Chop Restaurant Week - Fall 2023
DESCRIPTION:For one week in the fall (Oct 30 – Nov 5\, 2023)\, Uptown Saint John BIA  participating restaurants invite you to experience local food prepared by our deliciously-creative chefs. Try a 3-course dinner\, 2-course lunch or a specially prepared CHOP CHOP plate! Extra special delights at three different price levels are yours to enjoy during Chop Chop Restaurant Week! \nChop Chop Plate up to $15 \n2-Course Chop Chop Lunch up to $20 \n3-Course Chop Chop Dinner up to $45 \nReservations Recommended \nPlease see CHOPCHOPSJ.COM for menus.
URL:https://uptownsj.com/event/chop-chop-restaurant-week-fall-2023/
LOCATION:Uptown Restaurants
CATEGORIES:Food
ATTACH;FMTTYPE=image/png:https://uptownsj.com/wp-content/uploads/2023/09/CHOP-CHOP-2023-poster-OCT-30-NOV-5-1.png
END:VEVENT
BEGIN:VEVENT
DTSTART;VALUE=DATE:20231104
DTEND;VALUE=DATE:20231106
DTSTAMP:20260424T154402
CREATED:20231031T152152Z
LAST-MODIFIED:20231031T152152Z
UID:10005665-1699056000-1699228799@uptownsj.com
SUMMARY:IWK Extra Life Fundraiser
DESCRIPTION:We are back to doing the Extra Life Fundraiser for the IWK.\nSaturday Nov 4 and Sunday Nov 5 the store will be open from 10AM to 10PM with games all day both days and all entry fees for both days will be donated to the fundraiser.\nhttps://www.facebook.com/events/161020983698727
URL:https://uptownsj.com/event/iwk-extra-life-fundraiser/
LOCATION:Heroes’ Beacon\, 25 Charlotte St\, Saint John\, New Brunswick\, E2L 2H3\, Canada
CATEGORIES:Fundraiser
END:VEVENT
BEGIN:VEVENT
DTSTART;TZID=America/Halifax:20231104T200000
DTEND;TZID=America/Halifax:20231104T223000
DTSTAMP:20260424T154402
CREATED:20230922T130637Z
LAST-MODIFIED:20230922T130637Z
UID:10005644-1699128000-1699137000@uptownsj.com
SUMMARY:The East Pointers and Fortunate Ones
DESCRIPTION:Atlantic Canadian folk favourites The East Pointers and Fortunate Ones are teaming up for a tour this fall\, including a stop at Saint John’s Imperial Theatre on November 4. \nSaint John tickets are $40 in advance and $45 day of show (including tax and service fee) and are available at the the Imperial Theatre box office\, by phone at (506) 674-4100 (1-800-323-7469)\, and online at sonicconcerts.com. Additional fees may apply. Doors open at 7:30 p.m. Show time is 8 p.m.
URL:https://uptownsj.com/event/the-east-pointers-and-fortunate-ones-2/
LOCATION:Imperial Theatre\, 12 King Square S.\, Saint John
CATEGORIES:Live Music
ATTACH;FMTTYPE=image/jpeg:https://uptownsj.com/wp-content/uploads/2023/09/TEPFO_NSTourism.jpg
ORGANIZER;CN="Sonic Concerts":MAILTO:info@sonicconcerts.com
END:VEVENT
BEGIN:VEVENT
DTSTART;TZID=America/Halifax:20231104T200000
DTEND;TZID=America/Halifax:20231104T230000
DTSTAMP:20260424T154402
CREATED:20230828T124456Z
LAST-MODIFIED:20230828T124456Z
UID:10005561-1699128000-1699138800@uptownsj.com
SUMMARY:The East Pointers and Fortunate Ones
DESCRIPTION:Atlantic Canadian folk favourites The East Pointers and Fortunate Ones are teaming up for a tour this fall\, including a stop at Saint John’s Imperial Theatre on November 4. Doors open at 7:30 p.m. Show time is 8 p.m.
URL:https://uptownsj.com/event/the-east-pointers-and-fortunate-ones/
LOCATION:Imperial Theatre\, 12 King Square S.\, Saint John
CATEGORIES:Live Music
ORGANIZER;CN="Sonic Concerts":MAILTO:info@sonicconcerts.com
END:VEVENT
END:VCALENDAR