BEGIN:VCALENDAR
VERSION:2.0
PRODID:-//Uptown Saint John - ECPv6.15.20//NONSGML v1.0//EN
CALSCALE:GREGORIAN
METHOD:PUBLISH
X-ORIGINAL-URL:https://uptownsj.com
X-WR-CALDESC:Events for Uptown Saint John
REFRESH-INTERVAL;VALUE=DURATION:PT1H
X-Robots-Tag:noindex
X-PUBLISHED-TTL:PT1H
BEGIN:VTIMEZONE
TZID:America/Halifax
BEGIN:DAYLIGHT
TZOFFSETFROM:-0400
TZOFFSETTO:-0300
TZNAME:ADT
DTSTART:20220313T060000
END:DAYLIGHT
BEGIN:STANDARD
TZOFFSETFROM:-0300
TZOFFSETTO:-0400
TZNAME:AST
DTSTART:20221106T050000
END:STANDARD
BEGIN:DAYLIGHT
TZOFFSETFROM:-0400
TZOFFSETTO:-0300
TZNAME:ADT
DTSTART:20230312T060000
END:DAYLIGHT
BEGIN:STANDARD
TZOFFSETFROM:-0300
TZOFFSETTO:-0400
TZNAME:AST
DTSTART:20231105T050000
END:STANDARD
BEGIN:DAYLIGHT
TZOFFSETFROM:-0400
TZOFFSETTO:-0300
TZNAME:ADT
DTSTART:20240310T060000
END:DAYLIGHT
BEGIN:STANDARD
TZOFFSETFROM:-0300
TZOFFSETTO:-0400
TZNAME:AST
DTSTART:20241103T050000
END:STANDARD
END:VTIMEZONE
BEGIN:VEVENT
DTSTART;TZID=America/Halifax:20230818T190000
DTEND;TZID=America/Halifax:20230820T000000
DTSTAMP:20260425T190951
CREATED:20230529T160023Z
LAST-MODIFIED:20230529T160023Z
UID:10003557-1692385200-1692489600@uptownsj.com
SUMMARY:THIRD SHIFT
DESCRIPTION:THIRD SHIFT is a contemporary art festival presented by Third Space that included temporary installations\, interventions\, performances\, projections\, and events. Created as a platform for new experiences and communal exchange\, THIRD SHIFT aims to offer Saint John citizens and visitors to the city a unique opportunity to engage with contemporary art and re-imagine urban spaces.
URL:https://uptownsj.com/event/third-shift/
LOCATION:Uptown Saint John\, Saint John\, New Brunswick\, Canada
CATEGORIES:Art,Community,Free,Workshop
ORGANIZER;CN="Third Space Gallery":MAILTO:tiersespace@gmail.com
END:VEVENT
BEGIN:VEVENT
DTSTART;TZID=America/Halifax:20230819T100000
DTEND;TZID=America/Halifax:20230825T180000
DTSTAMP:20260425T190951
CREATED:20230712T134941Z
LAST-MODIFIED:20230712T134941Z
UID:10005486-1692439200-1692986400@uptownsj.com
SUMMARY:BBBS 18th Annual Big Book Sale
DESCRIPTION:Big Brothers Big Sisters of Saint John is back again with the annual Big Book Sale\, which will start Saturday\, August 19th and run through August 21st to the 25th on the Main Level of Brunswick Square. All proceeds and donations will be used to support BBBS youth mentorship programs in our community. The hours will be Monday to Friday 10am to 6pm\, and Saturday 10am-5pm. All books will be priced at 2$ each\, with all forms of payment accepted! Mystery bags will also be available and can be purchased by using the QR code on the poster\, 5 for 8$ or 10 for 15$\, with limited genres. \nVolunteers are always welcome for book sorting or helping with the big sale!\nContact devin.borden@bigbrothersbigsisters.ca or call our main office at 506-635-1145.
URL:https://uptownsj.com/event/bbbs-18th-annual-big-book-sale/
LOCATION:Brunswick Square\, 39 King Street\, Saint John\, New Brunswick\, E2L 4V1\, Canada
CATEGORIES:Fundraiser
ORGANIZER;CN="Big Brothers Big Sisters":MAILTO:laurie.collins@bigbrothersbigsisters.ca
END:VEVENT
BEGIN:VEVENT
DTSTART;TZID=America/Halifax:20230819T200000
DTEND;TZID=America/Halifax:20230819T220000
DTSTAMP:20260425T190951
CREATED:20230814T122340Z
LAST-MODIFIED:20230814T122340Z
UID:10005534-1692475200-1692482400@uptownsj.com
SUMMARY:Derek Seguin at Punch Lines Comedy Club
DESCRIPTION:Tickets on Sale now!\nReg $30/ Vip $35 (taxes incl.)\nText 506-647-8338 for tickets\, we accept etransfers.\nMontreal-based Derek Seguin is one of the most sought after stand up comedians on the international circuit. This 2021 Juno Nominee has performed at the prestigious invitation-only Just For Laughs festival an impressive six times. He had filmed a gala set for HBO at the festival where he received a standing-ovation at the city’s 3\,500 seat Place des Arts. This led to an invitation to perform at that year’s Nasty Show.\nDerek’s has many other televised appearances and festivals under his belt and had appeared on CBC Radio’s\, “The Debaters” more than twenty-five times and recorded two episodes of CBC television’s\, “The Debaters”.\nWhether he’s ragging on politics or describing life with his children\, he brings us into his perspective without preaching any selfish point of view. His undeniable charm makes him simply fun to watch and listen to and is in large part why he is one of Canada’s most “in demand” comedians.
URL:https://uptownsj.com/event/derek-seguin-at-punch-lines-comedy-club/2023-08-19/
LOCATION:Punch Lines Comedy Club
CATEGORIES:Comedy
END:VEVENT
END:VCALENDAR