BEGIN:VCALENDAR
VERSION:2.0
PRODID:-//Uptown Saint John - ECPv6.15.20//NONSGML v1.0//EN
CALSCALE:GREGORIAN
METHOD:PUBLISH
X-WR-CALNAME:Uptown Saint John
X-ORIGINAL-URL:https://uptownsj.com
X-WR-CALDESC:Events for Uptown Saint John
REFRESH-INTERVAL;VALUE=DURATION:PT1H
X-Robots-Tag:noindex
X-PUBLISHED-TTL:PT1H
BEGIN:VTIMEZONE
TZID:America/Halifax
BEGIN:DAYLIGHT
TZOFFSETFROM:-0400
TZOFFSETTO:-0300
TZNAME:ADT
DTSTART:20220313T060000
END:DAYLIGHT
BEGIN:STANDARD
TZOFFSETFROM:-0300
TZOFFSETTO:-0400
TZNAME:AST
DTSTART:20221106T050000
END:STANDARD
BEGIN:DAYLIGHT
TZOFFSETFROM:-0400
TZOFFSETTO:-0300
TZNAME:ADT
DTSTART:20230312T060000
END:DAYLIGHT
BEGIN:STANDARD
TZOFFSETFROM:-0300
TZOFFSETTO:-0400
TZNAME:AST
DTSTART:20231105T050000
END:STANDARD
BEGIN:DAYLIGHT
TZOFFSETFROM:-0400
TZOFFSETTO:-0300
TZNAME:ADT
DTSTART:20240310T060000
END:DAYLIGHT
BEGIN:STANDARD
TZOFFSETFROM:-0300
TZOFFSETTO:-0400
TZNAME:AST
DTSTART:20241103T050000
END:STANDARD
END:VTIMEZONE
BEGIN:VEVENT
DTSTART;TZID=America/Halifax:20230806T110000
DTEND;TZID=America/Halifax:20230806T163000
DTSTAMP:20260421T014520
CREATED:20230731T171445Z
LAST-MODIFIED:20230731T171445Z
UID:10005511-1691319600-1691339400@uptownsj.com
SUMMARY:International Culture Fest Saint John
DESCRIPTION:The 5th International Culture Fest is set to hit Saint John this summer on August 5th and 6th. Presented by the Saint John Newcomers Centre\, the festival will take place at the Container Village and will feature music\, dance\, a cultural village\, and plenty of delicious ethnic foods. This year\, the festival is partnering with the Area 506 Music Festival to create an unforgettable weekend-long street party. Take part in the largest cultural festival in Saint John! Follow @CulturefestSJ on Instagram and Facebook for updates. This event is organized by the Saint John Newcomers Centre.
URL:https://uptownsj.com/event/international-culture-fest-saint-john/2023-08-06/
LOCATION:Area 506\, 85 Water St\, Saint John\, New Brunswick\, E2L 0B1\, Canada
CATEGORIES:Cultural Event
ATTACH;FMTTYPE=image/png:https://uptownsj.com/wp-content/uploads/2023/07/culturefest-handbill-EN.png
ORGANIZER;CN="Saint John Newcomers Centre":MAILTO:welcome@sjnewcomers.ca
END:VEVENT
BEGIN:VEVENT
DTSTART;TZID=America/Halifax:20230806T200000
DTEND;TZID=America/Halifax:20230806T233000
DTSTAMP:20260421T014520
CREATED:20230731T125942Z
LAST-MODIFIED:20230731T130131Z
UID:10005509-1691352000-1691364600@uptownsj.com
SUMMARY:Let's Go Party: A Night of Barbie
DESCRIPTION:🎀🌟 **Come on Barbie\, let’s go party! Get Ready for the Ultimate Barbie-Themed Bash!** 🌟🎀 \nB A R B I E is coming and we’re bringing the party! Are You a Barbie Girl in a Barbie World? 👩🏼👗 That’s fantastic! Because we just happen to be having THE Barbie Party of the year (Kens are welcome too – bring that KEN-ergy!). Pink EVERYWHERE\, neons\, bleached hair\, Barbie cocktails\, decor\, photo booths\, and everything else pink-tastic you can think of! \n**🎈 Highlights of the Night 🎈**\n🏆 Wear pink or dress up in Barbie-inspired fits to live your dream!\nCostume Contest for the best Best Barbie and Ken lewks! Awesome prizes!\n🍹 Barbie (and Ken) themed signature drinks !\n🎀 Pink decor\, carpet\, lighting\, balloons\, you name it! Enter the pink paradise of your dreams!\n📸 Plenty of photo ops including a lize-sized Barbie box!\n🎧 Our talented DJ spinning all you Barbies into oblivion!\n💃🕺 Most importantly\, all of you Barbies and Kens decked out in your gear for #Barbieland!\nAnd much more at the sleek and sexy Crave Lounge!\nWill Margot Robbie and Ryan Gosling make an appearance? You never know! \n🎟️ Tickets are LIMITED for this event. Get your tickets now to secure your spot! We expect tickets to sell out quite fast\, and we’ll announce when we’re close to being completely sold out to give you Barbie latecomers one last opportunity. \nSee you in Barbieland for the long weekend! 🌟🎀🎉 \nThis is a 19+ event. No one is required to drink to attend. We encourage all guests that will be drinking to cab it or assign a DD and get home safe! \n  \n8pm to 2am
URL:https://uptownsj.com/event/lets-go-party-a-night-of-barbie/
LOCATION:Crave Lounge\, 32 Grannan St.\, Saint John\, New Brunswick\, Canada
CATEGORIES:Community,Networking,Uptown Saint John BIA Event
ORGANIZER;CN="Corinne Monique":MAILTO:info@corinnemonique.com
END:VEVENT
END:VCALENDAR