BEGIN:VCALENDAR
VERSION:2.0
PRODID:-//Uptown Saint John - ECPv6.15.20//NONSGML v1.0//EN
CALSCALE:GREGORIAN
METHOD:PUBLISH
X-WR-CALNAME:Uptown Saint John
X-ORIGINAL-URL:https://uptownsj.com
X-WR-CALDESC:Events for Uptown Saint John
REFRESH-INTERVAL;VALUE=DURATION:PT1H
X-Robots-Tag:noindex
X-PUBLISHED-TTL:PT1H
BEGIN:VTIMEZONE
TZID:America/Halifax
BEGIN:DAYLIGHT
TZOFFSETFROM:-0400
TZOFFSETTO:-0300
TZNAME:ADT
DTSTART:20220313T060000
END:DAYLIGHT
BEGIN:STANDARD
TZOFFSETFROM:-0300
TZOFFSETTO:-0400
TZNAME:AST
DTSTART:20221106T050000
END:STANDARD
BEGIN:DAYLIGHT
TZOFFSETFROM:-0400
TZOFFSETTO:-0300
TZNAME:ADT
DTSTART:20230312T060000
END:DAYLIGHT
BEGIN:STANDARD
TZOFFSETFROM:-0300
TZOFFSETTO:-0400
TZNAME:AST
DTSTART:20231105T050000
END:STANDARD
BEGIN:DAYLIGHT
TZOFFSETFROM:-0400
TZOFFSETTO:-0300
TZNAME:ADT
DTSTART:20240310T060000
END:DAYLIGHT
BEGIN:STANDARD
TZOFFSETFROM:-0300
TZOFFSETTO:-0400
TZNAME:AST
DTSTART:20241103T050000
END:STANDARD
END:VTIMEZONE
BEGIN:VEVENT
DTSTART;TZID=America/Halifax:20230729T193000
DTEND;TZID=America/Halifax:20230730T020000
DTSTAMP:20260420T210034
CREATED:20230710T122210Z
LAST-MODIFIED:20230710T122210Z
UID:10005483-1690659000-1690682400@uptownsj.com
SUMMARY:Fiesta Latina 2023
DESCRIPTION:Come join us where we capture the best in Latin food and music. Food provided by Mexican Market and music by DJ Jose Republic. Food and dance tickets $35 or just the dance for $20 available at Cuts Unlimited 88 Princess St or message Club Rewind Productions for etransfer information.
URL:https://uptownsj.com/event/fiesta-latina-2023/
LOCATION:Kent Theatre\, 24 Coburg Street\, Saint John\, New Brunswick\, Canada
CATEGORIES:Cultural Event
ORGANIZER;CN="Club Rewind Productions":MAILTO:Sara.clubrewind@hotmail.com
END:VEVENT
END:VCALENDAR