BEGIN:VCALENDAR
VERSION:2.0
PRODID:-//Uptown Saint John - ECPv6.15.20//NONSGML v1.0//EN
CALSCALE:GREGORIAN
METHOD:PUBLISH
X-ORIGINAL-URL:https://uptownsj.com
X-WR-CALDESC:Events for Uptown Saint John
REFRESH-INTERVAL;VALUE=DURATION:PT1H
X-Robots-Tag:noindex
X-PUBLISHED-TTL:PT1H
BEGIN:VTIMEZONE
TZID:America/Halifax
BEGIN:DAYLIGHT
TZOFFSETFROM:-0400
TZOFFSETTO:-0300
TZNAME:ADT
DTSTART:20220313T060000
END:DAYLIGHT
BEGIN:STANDARD
TZOFFSETFROM:-0300
TZOFFSETTO:-0400
TZNAME:AST
DTSTART:20221106T050000
END:STANDARD
BEGIN:DAYLIGHT
TZOFFSETFROM:-0400
TZOFFSETTO:-0300
TZNAME:ADT
DTSTART:20230312T060000
END:DAYLIGHT
BEGIN:STANDARD
TZOFFSETFROM:-0300
TZOFFSETTO:-0400
TZNAME:AST
DTSTART:20231105T050000
END:STANDARD
BEGIN:DAYLIGHT
TZOFFSETFROM:-0400
TZOFFSETTO:-0300
TZNAME:ADT
DTSTART:20240310T060000
END:DAYLIGHT
BEGIN:STANDARD
TZOFFSETFROM:-0300
TZOFFSETTO:-0400
TZNAME:AST
DTSTART:20241103T050000
END:STANDARD
END:VTIMEZONE
BEGIN:VEVENT
DTSTART;TZID=America/Halifax:20230710T180000
DTEND;TZID=America/Halifax:20230710T200000
DTSTAMP:20260425T073039
CREATED:20230628T162752Z
LAST-MODIFIED:20230628T162752Z
UID:10005393-1689012000-1689019200@uptownsj.com
SUMMARY:Studio Ghibli Summer: Ponyo (2008)
DESCRIPTION:Rating: G / Country: Japan / Languages: English \nDuring a forbidden excursion to see the surface world\, a goldfish princess encounters a human boy named Sosuke\, who gives her the name Ponyo. Ponyo longs to become human\, and as her friendship with Sosuke grows\, she becomes more humanlike. Ponyo’s father brings her back to their ocean kingdom\, but so strong is Ponyo’s wish to live on the surface that she breaks free\, and in the process\, spills a collection of magical elixirs that endanger Sosuke’s village.
URL:https://uptownsj.com/event/studio-ghibli-summer-ponyo-2008/
LOCATION:Imperial Theatre\, 12 King Square S.\, Saint John
CATEGORIES:Theatre
END:VEVENT
END:VCALENDAR