BEGIN:VCALENDAR
VERSION:2.0
PRODID:-//Uptown Saint John - ECPv6.15.20//NONSGML v1.0//EN
CALSCALE:GREGORIAN
METHOD:PUBLISH
X-WR-CALNAME:Uptown Saint John
X-ORIGINAL-URL:https://uptownsj.com
X-WR-CALDESC:Events for Uptown Saint John
REFRESH-INTERVAL;VALUE=DURATION:PT1H
X-Robots-Tag:noindex
X-PUBLISHED-TTL:PT1H
BEGIN:VTIMEZONE
TZID:America/Halifax
BEGIN:DAYLIGHT
TZOFFSETFROM:-0400
TZOFFSETTO:-0300
TZNAME:ADT
DTSTART:20220313T060000
END:DAYLIGHT
BEGIN:STANDARD
TZOFFSETFROM:-0300
TZOFFSETTO:-0400
TZNAME:AST
DTSTART:20221106T050000
END:STANDARD
BEGIN:DAYLIGHT
TZOFFSETFROM:-0400
TZOFFSETTO:-0300
TZNAME:ADT
DTSTART:20230312T060000
END:DAYLIGHT
BEGIN:STANDARD
TZOFFSETFROM:-0300
TZOFFSETTO:-0400
TZNAME:AST
DTSTART:20231105T050000
END:STANDARD
BEGIN:DAYLIGHT
TZOFFSETFROM:-0400
TZOFFSETTO:-0300
TZNAME:ADT
DTSTART:20240310T060000
END:DAYLIGHT
BEGIN:STANDARD
TZOFFSETFROM:-0300
TZOFFSETTO:-0400
TZNAME:AST
DTSTART:20241103T050000
END:STANDARD
END:VTIMEZONE
BEGIN:VEVENT
DTSTART;TZID=America/Halifax:20230707T160000
DTEND;TZID=America/Halifax:20230707T190000
DTSTAMP:20260425T100932
CREATED:20230621T122135Z
LAST-MODIFIED:20230621T122732Z
UID:10005387-1688745600-1688756400@uptownsj.com
SUMMARY:VARIATIONS : An exhibition by Nat Cann
DESCRIPTION:Variations is a collection of Nat Cann’s aggressively colourful paintings both representional and abstracted. Each piece in some way speaks to the visual limitations of information\, maximalist abstraction\, escapism through digital environments\, and the concerns of these fictitious worlds admit the dithering of our own habitation. Yet atop all these swirling notions rests the act of painting as a means of play\, and perhaps meditation too.\nBIOGRAPHY\nNat Cann (he/him) has exhibited across Canada\, and has gratefully acted as a mentor\,\ninstructor\, and technical assistant to numerous students and professionals unversed in\nprintmaking. Nat has been granted numerous residencies and his recent print projects have\nbeen intertwined with a variety of publications\, exhibitions\, and research grants. His work has\nbeen consistently supported by ArtsNB’s funding programs and the Canada Council for the Arts.\nNat obtained his BFA from Mount Allison University (2012) and now resides in Moncton\, New\nBrunswick\, an Acadian colonial city which sits on the unceded territory of the Wolastoqiyik\n(Maliseet) and Mi’kmaq People
URL:https://uptownsj.com/event/variations-an-exhibition-by-nat-cann/
LOCATION:Spicer Merrifield Gallery\, 116 Prince William St\, Saint John\, NB\, E2L 2B6\, Canada
CATEGORIES:Art
ORGANIZER;CN="Spicer Merrifield Gallery":MAILTO:shannon@spicermerrifield.com
END:VEVENT
END:VCALENDAR