BEGIN:VCALENDAR
VERSION:2.0
PRODID:-//Uptown Saint John - ECPv6.15.20//NONSGML v1.0//EN
CALSCALE:GREGORIAN
METHOD:PUBLISH
X-ORIGINAL-URL:https://uptownsj.com
X-WR-CALDESC:Events for Uptown Saint John
REFRESH-INTERVAL;VALUE=DURATION:PT1H
X-Robots-Tag:noindex
X-PUBLISHED-TTL:PT1H
BEGIN:VTIMEZONE
TZID:America/Halifax
BEGIN:DAYLIGHT
TZOFFSETFROM:-0400
TZOFFSETTO:-0300
TZNAME:ADT
DTSTART:20220313T060000
END:DAYLIGHT
BEGIN:STANDARD
TZOFFSETFROM:-0300
TZOFFSETTO:-0400
TZNAME:AST
DTSTART:20221106T050000
END:STANDARD
BEGIN:DAYLIGHT
TZOFFSETFROM:-0400
TZOFFSETTO:-0300
TZNAME:ADT
DTSTART:20230312T060000
END:DAYLIGHT
BEGIN:STANDARD
TZOFFSETFROM:-0300
TZOFFSETTO:-0400
TZNAME:AST
DTSTART:20231105T050000
END:STANDARD
BEGIN:DAYLIGHT
TZOFFSETFROM:-0400
TZOFFSETTO:-0300
TZNAME:ADT
DTSTART:20240310T060000
END:DAYLIGHT
BEGIN:STANDARD
TZOFFSETFROM:-0300
TZOFFSETTO:-0400
TZNAME:AST
DTSTART:20241103T050000
END:STANDARD
END:VTIMEZONE
BEGIN:VEVENT
DTSTART;TZID=America/Halifax:20230625T120000
DTEND;TZID=America/Halifax:20230625T140000
DTSTAMP:20260425T174221
CREATED:20230620T120856Z
LAST-MODIFIED:20230620T120856Z
UID:10005369-1687694400-1687701600@uptownsj.com
SUMMARY:In Purrrsuit of Fashion! Fundraising Fashion Show for SPCA
DESCRIPTION:A fashion show unlike any other! Human models will hit the runway wearing Summer styles from In Pursuit while walking with a variety of animals currently available for adoption at our local SPCA!\nThis exciting one of a kind fashion show takes place inside In Pursuit on Sunday\, June 25th starting at 12pm!\nA LIMITED AMOUNT OF TICKETS are available for sale for $25 each. 100% of proceeds from ticket sales will be donated directly to SPCA\nTO PURCHASE:\n– drop by in person at In Pursuit (open Tuesday – Saturday 10 – 5)\n– phone SPCA 506-642-0920\n-Online at https://www.inpursuittruck.ca/products/in-purrrsuit-of-fashion-spca-fashion-show-ticket?fbclid=IwAR1yQiFI5hHYWMJYESH8ncpAipBaLYf0TeNwdj9G-RShKxQCDa_legiWPF4 \n 
URL:https://uptownsj.com/event/in-purrrsuit-of-fashion-fundraising-fashion-show-for-spca/
LOCATION:In Pursuit\, 20 King Street\, Saint John\, NB\, E2L 1G2\, Canada
CATEGORIES:Community,Fundraiser
ORGANIZER;CN="In Pursuit":MAILTO:inpursuittruck@gmail.com
END:VEVENT
END:VCALENDAR