BEGIN:VCALENDAR
VERSION:2.0
PRODID:-//Uptown Saint John - ECPv6.15.20//NONSGML v1.0//EN
CALSCALE:GREGORIAN
METHOD:PUBLISH
X-ORIGINAL-URL:https://uptownsj.com
X-WR-CALDESC:Events for Uptown Saint John
REFRESH-INTERVAL;VALUE=DURATION:PT1H
X-Robots-Tag:noindex
X-PUBLISHED-TTL:PT1H
BEGIN:VTIMEZONE
TZID:America/Halifax
BEGIN:DAYLIGHT
TZOFFSETFROM:-0400
TZOFFSETTO:-0300
TZNAME:ADT
DTSTART:20220313T060000
END:DAYLIGHT
BEGIN:STANDARD
TZOFFSETFROM:-0300
TZOFFSETTO:-0400
TZNAME:AST
DTSTART:20221106T050000
END:STANDARD
BEGIN:DAYLIGHT
TZOFFSETFROM:-0400
TZOFFSETTO:-0300
TZNAME:ADT
DTSTART:20230312T060000
END:DAYLIGHT
BEGIN:STANDARD
TZOFFSETFROM:-0300
TZOFFSETTO:-0400
TZNAME:AST
DTSTART:20231105T050000
END:STANDARD
BEGIN:DAYLIGHT
TZOFFSETFROM:-0400
TZOFFSETTO:-0300
TZNAME:ADT
DTSTART:20240310T060000
END:DAYLIGHT
BEGIN:STANDARD
TZOFFSETFROM:-0300
TZOFFSETTO:-0400
TZNAME:AST
DTSTART:20241103T050000
END:STANDARD
END:VTIMEZONE
BEGIN:VTIMEZONE
TZID:America/Moncton
BEGIN:DAYLIGHT
TZOFFSETFROM:-0400
TZOFFSETTO:-0300
TZNAME:ADT
DTSTART:20220313T060000
END:DAYLIGHT
BEGIN:STANDARD
TZOFFSETFROM:-0300
TZOFFSETTO:-0400
TZNAME:AST
DTSTART:20221106T050000
END:STANDARD
BEGIN:DAYLIGHT
TZOFFSETFROM:-0400
TZOFFSETTO:-0300
TZNAME:ADT
DTSTART:20230312T060000
END:DAYLIGHT
BEGIN:STANDARD
TZOFFSETFROM:-0300
TZOFFSETTO:-0400
TZNAME:AST
DTSTART:20231105T050000
END:STANDARD
BEGIN:DAYLIGHT
TZOFFSETFROM:-0400
TZOFFSETTO:-0300
TZNAME:ADT
DTSTART:20240310T060000
END:DAYLIGHT
BEGIN:STANDARD
TZOFFSETFROM:-0300
TZOFFSETTO:-0400
TZNAME:AST
DTSTART:20241103T050000
END:STANDARD
END:VTIMEZONE
BEGIN:VEVENT
DTSTART;VALUE=DATE:20230501
DTEND;VALUE=DATE:20230508
DTSTAMP:20260420T091845
CREATED:20230418T145224Z
LAST-MODIFIED:20230418T150848Z
UID:10002446-1682899200-1683503999@uptownsj.com
SUMMARY:Uptown Burger Week - May 1-7\, 2023
DESCRIPTION:Think Burgers for an entire week!  Our uptown chefs are presenting an inspired menu of incredible and creative burgers for your pleasure!\nCheck out the menus and make some plans all week long!
URL:https://uptownsj.com/event/uptown-burger-week-may-1-7-2023/
CATEGORIES:Food,Uptown Saint John BIA Event
ATTACH;FMTTYPE=image/png:https://uptownsj.com/wp-content/uploads/2023/04/MAY-1-7.png
END:VEVENT
BEGIN:VEVENT
DTSTART;TZID=America/Moncton:20230506T100000
DTEND;TZID=America/Moncton:20230506T170000
DTSTAMP:20260420T091845
CREATED:20230418T163244Z
LAST-MODIFIED:20230418T163244Z
UID:10002447-1683367200-1683392400@uptownsj.com
SUMMARY:Free Comic Book Day
DESCRIPTION:Every year\, on the first Saturday in May\, the industry comes together to give away free comics and encourage both curious\, first-time comic book readers and seasoned comic book fans to flock to the best place in the comic book community: local comic shops! \nJoin us for this annual celebration of comics.\nFeistiest include:\nFree Comics\nFree Cake\nFree Popcorn\nDiscounts and Sales\nCosplay
URL:https://uptownsj.com/event/free-comic-book-day/
LOCATION:Heroes’ Beacon\, 25 Charlotte St\, Saint John\, New Brunswick\, E2L 2H3\, Canada
CATEGORIES:Art,Community,Free
END:VEVENT
BEGIN:VEVENT
DTSTART;TZID=America/Halifax:20230506T110000
DTEND;TZID=America/Halifax:20230506T160000
DTSTAMP:20260420T091845
CREATED:20230502T163024Z
LAST-MODIFIED:20230502T163024Z
UID:10002461-1683370800-1683388800@uptownsj.com
SUMMARY:Tommy's New Location!
DESCRIPTION:Join us on Saturday\, May 6 from 11 until 4 to celebrate our move to Germain Street! We will have fresh coffee on all day from our friends at Receiver Coffee and every purchase will include a gift.
URL:https://uptownsj.com/event/tommys-new-location/
LOCATION:Tommy’s Superette\, 162 Princess Street\, Saint John\, New Brunswick\, E2L 1K7\, Canada
CATEGORIES:Free
ATTACH;FMTTYPE=image/jpeg:https://uptownsj.com/wp-content/uploads/2023/05/EB32F440-3B52-4D3F-8DF3-BFA8AFF0DB15.jpeg
ORGANIZER;CN="Tommy's Superette":MAILTO:Hello@tommyssuperette.ca
END:VEVENT
BEGIN:VEVENT
DTSTART;TZID=America/Halifax:20230506T140000
DTEND;TZID=America/Halifax:20230506T150000
DTSTAMP:20260420T091845
CREATED:20230421T121830Z
LAST-MODIFIED:20230421T121830Z
UID:10002453-1683381600-1683385200@uptownsj.com
SUMMARY:PLACE - A solo Exhibition by AMY DRYER - Artist Talk
DESCRIPTION:ARTIST TALK:\nAmy will be in the gallery for an informal artists talk to discuss her new body of work “Place”
URL:https://uptownsj.com/event/place-a-solo-exhibition-by-amy-dryer-artist-talk/
CATEGORIES:Art
ORGANIZER;CN="Spicer Merrifield Gallery":MAILTO:shannon@spicermerrifield.com
END:VEVENT
BEGIN:VEVENT
DTSTART;TZID=America/Halifax:20230506T200000
DTEND;TZID=America/Halifax:20230506T220000
DTSTAMP:20260420T091845
CREATED:20230503T122426Z
LAST-MODIFIED:20230503T122426Z
UID:10002464-1683403200-1683410400@uptownsj.com
SUMMARY:Tim Nutt and Mike Wilmot Double Headliner event at Punch Lines!
DESCRIPTION:Saint John\, the wait is over! Tim Nutt & Mike Wilmot are coming! Double Headliner Event at Punch Lines!\n📅May 5th-6th ⏰️8pm\nReg $30/ Vip $35 (taxes incl.)\nText 506-647-8338 for tickets!
URL:https://uptownsj.com/event/tim-nutt-and-mike-wilmot-double-headliner-event-at-punch-lines/2023-05-06/
LOCATION:Punch Lines Comedy Club
CATEGORIES:Comedy
END:VEVENT
END:VCALENDAR