BEGIN:VCALENDAR
VERSION:2.0
PRODID:-//Uptown Saint John - ECPv6.15.20//NONSGML v1.0//EN
CALSCALE:GREGORIAN
METHOD:PUBLISH
X-ORIGINAL-URL:https://uptownsj.com
X-WR-CALDESC:Events for Uptown Saint John
REFRESH-INTERVAL;VALUE=DURATION:PT1H
X-Robots-Tag:noindex
X-PUBLISHED-TTL:PT1H
BEGIN:VTIMEZONE
TZID:America/Halifax
BEGIN:DAYLIGHT
TZOFFSETFROM:-0400
TZOFFSETTO:-0300
TZNAME:ADT
DTSTART:20210314T060000
END:DAYLIGHT
BEGIN:STANDARD
TZOFFSETFROM:-0300
TZOFFSETTO:-0400
TZNAME:AST
DTSTART:20211107T050000
END:STANDARD
BEGIN:DAYLIGHT
TZOFFSETFROM:-0400
TZOFFSETTO:-0300
TZNAME:ADT
DTSTART:20220313T060000
END:DAYLIGHT
BEGIN:STANDARD
TZOFFSETFROM:-0300
TZOFFSETTO:-0400
TZNAME:AST
DTSTART:20221106T050000
END:STANDARD
BEGIN:DAYLIGHT
TZOFFSETFROM:-0400
TZOFFSETTO:-0300
TZNAME:ADT
DTSTART:20230312T060000
END:DAYLIGHT
BEGIN:STANDARD
TZOFFSETFROM:-0300
TZOFFSETTO:-0400
TZNAME:AST
DTSTART:20231105T050000
END:STANDARD
END:VTIMEZONE
BEGIN:VEVENT
DTSTART;TZID=America/Halifax:20221217T090000
DTEND;TZID=America/Halifax:20221217T160000
DTSTAMP:20260425T205954
CREATED:20221116T182437Z
LAST-MODIFIED:20221116T182437Z
UID:10000114-1671267600-1671292800@uptownsj.com
SUMMARY:Serene Saturday
DESCRIPTION:Returning for December\, 2022!\nFor the SATURDAYS leading up to Christmas\, we offer a totally different experience than you will have shopping at the mall or big box stores! Please join us for the fun!\n1. No dress code. Wear what you like\, as long as your clothes are clean and the naughty bits are covered. Makeup optional. Masks are essential.\n2. Well-behaved children and pets welcome. Please leave reptiles at home (except lizards – we like those).\n3. Free parking. Just a few steps to walk to our gorgeous curved front door. Zero chance of losing your car (unless you’re blind\, in which case you probably shouldn’t be driving).\n4. Comfort. Take off your coat (but please leave the rest of your clothes on). Loveseat and chairs to sit on while you browse (or can be used by bored companions while they wait).\n5. Unique stock. No one else has a book about the song of the fox sparrow in Utah!\n6. No loud\, thumping music. If our music annoys you\, we’ll turn it off. Singing/dancing encouraged.\n7. Friendly\, helpful\, easy-to-find staff. We’re old and move slowly.\n8. Safety. No one will run over you with a cart (you might stub your toe on a pile of books).\n9. Snacks. Wendy’s famous brownies are back! Fruit also available.\n10. Free boxes – please bring your own shopping bags.\n11. Gift certificates. Buying books for other people is hard.\n12. Easy payment. Cash and plastic accepted.\nFor the record\, all of these benefits apply every day here\, except for the free parking and the snacks! Come and see us any day except Sunday!\nPlease share this event with any readers you know in New Brunswick!
URL:https://uptownsj.com/event/serene-saturday/2022-12-17/
LOCATION:Dave Shoots\, Bookseller\, 40 Coburg St.\, Saint John\, New Brunswick\, E2L 3J5\, Canada
CATEGORIES:Community,Free
END:VEVENT
BEGIN:VEVENT
DTSTART;TZID=America/Halifax:20221217T120000
DTEND;TZID=America/Halifax:20221217T160000
DTSTAMP:20260425T205954
CREATED:20221114T164431Z
LAST-MODIFIED:20221114T164431Z
UID:10000097-1671278400-1671292800@uptownsj.com
SUMMARY:Saturdays with Santa at Market Square
DESCRIPTION:Santa will be in the Atrium at One Market Square for four Saturdays! It is first come\, first served – enjoy the Christmas decorations\, music\, Christmas shopping\, and Atrium fountain while you await your turn with Saint Nick. \nMarket Square is collecting non-perishable food items for Romero House this season\, so bring what you can and add it to Santa’s sleigh. \n$20.00 per child. Includes a polaroid photo\, candy cane\, and Santa headband. Portion of fee will be going to a local charity. \nSanta is available from 12:00pm to 4:00pm on: \nNovember 26\nDecember 3\nDecember 10\nDecember 17 \nPlenty of parking below Market Square\, in the parking garage\, operated by the Saint John Parking Commission.
URL:https://uptownsj.com/event/saturdays-with-santa-at-market-square/2022-12-17/
LOCATION:Market Square\, Market Square\, Saint John\, NB\, Canada
ATTACH;FMTTYPE=image/jpeg:https://uptownsj.com/wp-content/uploads/2022/11/Instagram-01.jpg
END:VEVENT
BEGIN:VEVENT
DTSTART;TZID=America/Halifax:20221217T120000
DTEND;TZID=America/Halifax:20221217T170000
DTSTAMP:20260425T205954
CREATED:20221103T193115Z
LAST-MODIFIED:20221103T193115Z
UID:10000028-1671278400-1671296400@uptownsj.com
SUMMARY:Pete Ferguson Book signing at Alex and Lily's Shoe Shoppe
DESCRIPTION:Pete Ferguson will be signing copies of his new book\,35Years Of Pete’s Pub\, at Alex and Lily’s Shoe Shoppe\, Admiral Beatty Complex. The book is full of colorful characters and outrageous stories from the pub.
URL:https://uptownsj.com/event/pete-ferguson-book-signing-at-alex-and-lilys-shoe-shoppe-2/2022-12-17/
LOCATION:Alex andLily’s Shoe Shoppe\, Admiral Beatty Complex\, Saint John\, NEW BRUNSWICK\, E2K2A9\, Canada
CATEGORIES:Cultural Event
ORGANIZER;CN="Pete and Kathy Ferguson":MAILTO:kfeguso@nb.sympatico.ca
END:VEVENT
END:VCALENDAR